BEGIN:VCALENDAR
VERSION:2.0
PRODID:-//Arizona Senior Guide - ECPv6.15.20//NONSGML v1.0//EN
CALSCALE:GREGORIAN
METHOD:PUBLISH
X-WR-CALNAME:Arizona Senior Guide
X-ORIGINAL-URL:https://arizonaseniorguide.com
X-WR-CALDESC:Events for Arizona Senior Guide
REFRESH-INTERVAL;VALUE=DURATION:PT1H
X-Robots-Tag:noindex
X-PUBLISHED-TTL:PT1H
BEGIN:VTIMEZONE
TZID:America/Phoenix
BEGIN:STANDARD
TZOFFSETFROM:-0700
TZOFFSETTO:-0700
TZNAME:MST
DTSTART:20220101T000000
END:STANDARD
END:VTIMEZONE
BEGIN:VEVENT
DTSTART;TZID=America/Phoenix:20230513T090000
DTEND;TZID=America/Phoenix:20230513T160000
DTSTAMP:20260423T061352
CREATED:20230406T045431Z
LAST-MODIFIED:20230406T045431Z
UID:10001921-1683968400-1683993600@arizonaseniorguide.com
SUMMARY:27th Annual GPPS Pond Tour
DESCRIPTION:The Greater Phoenix Pond Society is hosting its yearly FREE open house event Saturday\, May 13\, 2023\, 9am- 4pm\, at various locations around the valley. \nThis family friendly event is open to the public\, as GPPS members graciously open their private ponds for a day of public viewing. Visit a wide variety of beautiful ponds across the Valley\, make new fish friends\, ask pond owners questions\, and delight in the sounds of babbling waters. \nOur enthusiastic members enjoy sharing their ponds\, big and small\, and hope to inspire future pond lovers. Whether your interests are in ponds\, water gardens\, koi\, goldfish\, turtles\, fountains\, or you are looking for some inspiration for your own yard\, join us May 13th! \nThe tour map\, listing all the locations\, is available on the GPPS website after Monday May 8th. \nThe tour is open house format\, view the interactive map from our website and visit as many locations as you would like between 9 am and 4 pm- no public restrooms available\, bring water and wear weather appropriate clothing\, children must be accompanied by adults at all times. \nGPPS was founded in 1996\, and is a group of pond enthusiasts dedicated to the promotion of water gardening and fish keeping in the Arizona desert.
URL:https://arizonaseniorguide.com/event/27th-annual-gpps-pond-tour/
LOCATION:Various Valley locations\, Phoenix\, AZ
ATTACH;FMTTYPE=image/jpeg:https://arizonaseniorguide.com/wp-content/uploads/2023/04/phoenix-pond-tour.jpg
END:VEVENT
END:VCALENDAR