BEGIN:VCALENDAR
VERSION:2.0
PRODID:-//Arizona Senior Guide - ECPv6.15.20//NONSGML v1.0//EN
CALSCALE:GREGORIAN
METHOD:PUBLISH
X-WR-CALNAME:Arizona Senior Guide
X-ORIGINAL-URL:https://arizonaseniorguide.com
X-WR-CALDESC:Events for Arizona Senior Guide
REFRESH-INTERVAL;VALUE=DURATION:PT1H
X-Robots-Tag:noindex
X-PUBLISHED-TTL:PT1H
BEGIN:VTIMEZONE
TZID:America/Phoenix
BEGIN:STANDARD
TZOFFSETFROM:-0700
TZOFFSETTO:-0700
TZNAME:MST
DTSTART:20250101T000000
END:STANDARD
END:VTIMEZONE
BEGIN:VEVENT
DTSTART;TZID=America/Phoenix:20260422T090000
DTEND;TZID=America/Phoenix:20260422T130000
DTSTAMP:20260422T190954
CREATED:20240423T201215Z
LAST-MODIFIED:20250908T193406Z
UID:10009321-1776848400-1776862800@arizonaseniorguide.com
SUMMARY:Uptown Farmers' Market (Wednesdays)
DESCRIPTION:Uptown Farmers Market is a food-based market and gathering place dedicated to inspiring and educating home cooks through arizona produce\, handmade foods and handcrafted goods. \nThis Wednesday farmers market is run year-round\, by a very small crew\, in the heart of Phoenix\, which allows us frequent face-to-face connection with our Arizona producers.  This means that we have personally met\, and correspond directly with\, every single local grower\, farmers\, baker\, creator and producer here. \nCurrently Open:\nSaturdays from 7:00 am – 11:00 am (year-round)\nWednesdays from 9:00 am – 1:00 pm (closed for the summer. Reopens in October.) \nUptown Farmers Market is a dedicated gathering space for nearly 200 Local Arizona Producers. \n\nSmoked meats\nHoney\nProduce\nSeafood\nHealth products\nCoffee\nCheese\nSweets\nBreads\nMicrogreens\nPlants\nArtisan Crafts\nand more!\n\nMore info
URL:https://arizonaseniorguide.com/event/uptown-farmers-market-wednesdays/2026-04-22/
LOCATION:Uptown Farmers Market\, 5757 N Central Ave\, Phoenix\, AZ\, 85012
CATEGORIES:Phoenix
ATTACH;FMTTYPE=image/webp:https://arizonaseniorguide.com/wp-content/uploads/2023/09/uptown-farmer-mkt-copy-1-e1695245925865.webp
END:VEVENT
END:VCALENDAR