BEGIN:VCALENDAR
VERSION:2.0
PRODID:-//Arizona Senior Guide - ECPv6.15.20//NONSGML v1.0//EN
CALSCALE:GREGORIAN
METHOD:PUBLISH
X-WR-CALNAME:Arizona Senior Guide
X-ORIGINAL-URL:https://arizonaseniorguide.com
X-WR-CALDESC:Events for Arizona Senior Guide
REFRESH-INTERVAL;VALUE=DURATION:PT1H
X-Robots-Tag:noindex
X-PUBLISHED-TTL:PT1H
BEGIN:VTIMEZONE
TZID:America/Phoenix
BEGIN:STANDARD
TZOFFSETFROM:-0700
TZOFFSETTO:-0700
TZNAME:MST
DTSTART:20240101T000000
END:STANDARD
END:VTIMEZONE
BEGIN:VEVENT
DTSTART;TZID=America/Phoenix:20251203T160000
DTEND;TZID=America/Phoenix:20251203T180000
DTSTAMP:20260423T033209
CREATED:20251024T194625Z
LAST-MODIFIED:20251024T194625Z
UID:10012300-1764777600-1764784800@arizonaseniorguide.com
SUMMARY:Tucson Village Farm Midweek Market
DESCRIPTION:Tucson Village Farm (TVF) is a seed-to-table program designed to reconnect young people to a healthy food system\, teach them how to grow and prepare fresh food\, and empower them to make healthy life choices. \nA program of the Pima County Cooperative Extension and the University of Arizona\, TVF is a working urban farm and healthy living center that fosters life and leadership skills in young people through agriculture\, culinary education\, outdoor adventure opportunities\, and community engagement. \nVisit TVF’s “Big Farm” on Wednesdays from 4-6pm to get their farm-grown produce\, soups\, salads\, focaccia bread\, chocolate chip cookies and more! \n2201 E Roger Rd. Tucson AZ (look for the windmill) \nEvery purchase supports us in our mission to provide health and agriculture education to Arizona youth. \n2201 East Roger Road\n(look for the windmill)
URL:https://arizonaseniorguide.com/event/tucson-village-farm-midweek-market/2025-12-03/
LOCATION:Tucson Village Farm\, 2201 East Roger Road\, Tucson\, AZ\, 85719
CATEGORIES:Free Event,Tucson
ATTACH;FMTTYPE=image/webp:https://arizonaseniorguide.com/wp-content/uploads/2025/10/Tucson-Village-Farm-Midweek-Market.webp
END:VEVENT
END:VCALENDAR