BEGIN:VCALENDAR
VERSION:2.0
PRODID:-//Arizona Senior Guide - ECPv6.15.20//NONSGML v1.0//EN
CALSCALE:GREGORIAN
METHOD:PUBLISH
X-WR-CALNAME:Arizona Senior Guide
X-ORIGINAL-URL:https://arizonaseniorguide.com
X-WR-CALDESC:Events for Arizona Senior Guide
REFRESH-INTERVAL;VALUE=DURATION:PT1H
X-Robots-Tag:noindex
X-PUBLISHED-TTL:PT1H
BEGIN:VTIMEZONE
TZID:America/Phoenix
BEGIN:STANDARD
TZOFFSETFROM:-0700
TZOFFSETTO:-0700
TZNAME:MST
DTSTART:20230101T000000
END:STANDARD
END:VTIMEZONE
BEGIN:VEVENT
DTSTART;TZID=America/Phoenix:20250223T190000
DTEND;TZID=America/Phoenix:20250223T220000
DTSTAMP:20260423T031922
CREATED:20250227T183032Z
LAST-MODIFIED:20250227T185746Z
UID:10004989-1740337200-1740348000@arizonaseniorguide.com
SUMMARY:Century Room Jazz Jam
DESCRIPTION:Come listen to the Century Room House band jam!\nNo Cover | 7pm-10pm | Ages 21+ \nMore info \nThe musicians and your fellow audience members thank you for keeping your conversations to a quiet minimum during the performances!
URL:https://arizonaseniorguide.com/event/century-room-jazz-jam-2/2025-02-23/
LOCATION:The Century Room at Hotel Congress\, 311 East Congress Street\, Tucson
CATEGORIES:Music,Tucson
ATTACH;FMTTYPE=image/png:https://arizonaseniorguide.com/wp-content/uploads/2023/09/Century-Room-Jazz-Jam.png
END:VEVENT
BEGIN:VEVENT
DTSTART;TZID=America/Phoenix:20240918T190000
DTEND;TZID=America/Phoenix:20240918T220000
DTSTAMP:20260423T031922
CREATED:20240923T232937Z
LAST-MODIFIED:20240923T233225Z
UID:10009651-1726686000-1726696800@arizonaseniorguide.com
SUMMARY:Mysterious Babies Traditional Jazz Band (Wednesdays)
DESCRIPTION:Guy Senese leads the Mysterious Babies in the tradition of Armstrong\, Bechet\, Jelly Roll Morton\, and other Early Jazz innovators out of New Orleans & Chicago. The band starts at 7pm\, followed by a traditional jazz jam session. Every Wednesday\, 7-10pm! \nTo sit in our listening section by the stage\, be sure to buy a reserved ticket! The rest of the room is open to the general public…dancing encouraged! \nNo Cover for General Admission\n$10 for Reserved Seating by Stage\n\nGet Reserved Seating Tickets
URL:https://arizonaseniorguide.com/event/mysterious-babies-traditional-jazz-band-2/2024-09-18/2/
LOCATION:The Century Room at Hotel Congress\, 311 East Congress Street\, Tucson
CATEGORIES:Music,Tucson
ATTACH;FMTTYPE=image/png:https://arizonaseniorguide.com/wp-content/uploads/2023/09/Mysterious-Babies-Traditional-Jazz-Band.png
END:VEVENT
BEGIN:VEVENT
DTSTART;TZID=America/Phoenix:20240918T190000
DTEND;TZID=America/Phoenix:20240918T220000
DTSTAMP:20260423T031922
CREATED:20230925T195148Z
LAST-MODIFIED:20230925T195254Z
UID:10004445-1726686000-1726696800@arizonaseniorguide.com
SUMMARY:Mysterious Babies Traditional Jazz Band (Wednesdays)
DESCRIPTION:Guy Senese leads the Mysterious Babies in the tradition of Armstrong\, Bechet\, Jelly Roll Morton\, and other Early Jazz innovators out of New Orleans & Chicago. The band starts at 7pm\, followed by a traditional jazz jam session. Every Wednesday\, 7-10pm! \nTo sit in our listening section by the stage\, be sure to buy a reserved ticket! The rest of the room is open to the general public…dancing encouraged! \nNo Cover for General Admission\n$10 for Reserved Seating by Stage\n\nGet Reserved Seating Tickets
URL:https://arizonaseniorguide.com/event/mysterious-babies-traditional-jazz-band/2024-09-18/
LOCATION:The Century Room at Hotel Congress\, 311 East Congress Street\, Tucson
CATEGORIES:Music,Tucson
ATTACH;FMTTYPE=image/png:https://arizonaseniorguide.com/wp-content/uploads/2023/09/Mysterious-Babies-Traditional-Jazz-Band.png
END:VEVENT
BEGIN:VEVENT
DTSTART;TZID=America/Phoenix:20240916T190000
DTEND;TZID=America/Phoenix:20240916T220000
DTSTAMP:20260423T031922
CREATED:20240923T233528Z
LAST-MODIFIED:20240923T233646Z
UID:10004184-1726513200-1726524000@arizonaseniorguide.com
SUMMARY:The Century Room Jazz Orchestra
DESCRIPTION:Inspired by the Village Vanguard Jazz Orchestra\, the 17-piece The Century Room Jazz Orchestra performs classic big band repertoire every Monday night at the Century Room starting at 7pm. Expect music from the Count Basie Orchestra\, Duke Ellington Orchestra\, the Thad Jones/Mel Louis Jazz Orchestra and much more! Drummers Arthur Vint\, Pete Swan\, Kenji Lancaster and Fred Hayes share the drum chair\, alternating each week. Advanced tickets recommended! \nRotating (drums) Scott Black (bass) Angelo Versace & Sly Slipetsky (piano) Matt Mitchell (guitar) Joseph Rader (bari sax) Brice Winston & Kevin Ravellette (tenor sax) Eric Nakanishi & Simeon Roth (alto sax) Jordan Robison\, Joshua Schanie\, Benjamin Constantinides\, Max Goldschmid (trombone) Morani Sanders\, Anthony Gibes\, Tony Belletti\, Jason Carder (trumpet) \nThe musicians and your fellow audience members thank you for keeping your conversations to a quiet minimum during the performances! \nDoors Open at 6:00 PM\n7:00 PM First Set\n8:30 PM Second Set \n\nGet Tickets
URL:https://arizonaseniorguide.com/event/the-century-room-jazz-orchestra-2/2024-09-16/2/
LOCATION:The Century Room at Hotel Congress\, 311 East Congress Street\, Tucson
CATEGORIES:Music,Tucson
ATTACH;FMTTYPE=image/png:https://arizonaseniorguide.com/wp-content/uploads/2023/09/Century-Room-Jazz-Orchestra.png
END:VEVENT
BEGIN:VEVENT
DTSTART;TZID=America/Phoenix:20240916T190000
DTEND;TZID=America/Phoenix:20240916T220000
DTSTAMP:20260423T031922
CREATED:20230925T194429Z
LAST-MODIFIED:20230925T205504Z
UID:10004183-1726513200-1726524000@arizonaseniorguide.com
SUMMARY:The Century Room Jazz Orchestra
DESCRIPTION:Inspired by the Village Vanguard Jazz Orchestra\, the 17-piece The Century Room Jazz Orchestra performs classic big band repertoire every Monday night at the Century Room starting at 7pm. Expect music from the Count Basie Orchestra\, Duke Ellington Orchestra\, the Thad Jones/Mel Louis Jazz Orchestra and much more! Drummers Arthur Vint\, Pete Swan\, Kenji Lancaster and Fred Hayes share the drum chair\, alternating each week. Advanced tickets recommended! \nRotating (drums) Scott Black (bass) Angelo Versace & Sly Slipetsky (piano) Matt Mitchell (guitar) Joseph Rader (bari sax) Brice Winston & Kevin Ravellette (tenor sax) Eric Nakanishi & Simeon Roth (alto sax) Jordan Robison\, Joshua Schanie\, Benjamin Constantinides\, Max Goldschmid (trombone) Morani Sanders\, Anthony Gibes\, Tony Belletti\, Jason Carder (trumpet) \nThe musicians and your fellow audience members thank you for keeping your conversations to a quiet minimum during the performances! \nDoors Open at 6:00 PM\n7:00 PM First Set\n8:30 PM Second Set \n\nGet Tickets
URL:https://arizonaseniorguide.com/event/the-century-room-jazz-orchestra/2024-09-16/
LOCATION:The Century Room at Hotel Congress\, 311 East Congress Street\, Tucson
CATEGORIES:Music,Tucson
ATTACH;FMTTYPE=image/png:https://arizonaseniorguide.com/wp-content/uploads/2023/09/Century-Room-Jazz-Orchestra.png
END:VEVENT
END:VCALENDAR