BEGIN:VCALENDAR
VERSION:2.0
PRODID:-//Arizona Senior Guide - ECPv6.15.20//NONSGML v1.0//EN
CALSCALE:GREGORIAN
METHOD:PUBLISH
X-WR-CALNAME:Arizona Senior Guide
X-ORIGINAL-URL:https://arizonaseniorguide.com
X-WR-CALDESC:Events for Arizona Senior Guide
REFRESH-INTERVAL;VALUE=DURATION:PT1H
X-Robots-Tag:noindex
X-PUBLISHED-TTL:PT1H
BEGIN:VTIMEZONE
TZID:America/Phoenix
BEGIN:STANDARD
TZOFFSETFROM:-0700
TZOFFSETTO:-0700
TZNAME:MST
DTSTART:20220101T000000
END:STANDARD
END:VTIMEZONE
BEGIN:VEVENT
DTSTART;TZID=America/Phoenix:20231020T193000
DTEND;TZID=America/Phoenix:20231020T213000
DTSTAMP:20260423T131745
CREATED:20230919T214121Z
LAST-MODIFIED:20230920T191103Z
UID:10003577-1697830200-1697837400@arizonaseniorguide.com
SUMMARY:Prince Again: A Tribute to Prince
DESCRIPTION:Relive the magic of a Prince concert when you watch Prince Again: A Tribute to Prince! Watch them perform many of Prince’s top hits\, including 1999\, Red Corvette\, Diamonds Pearls\, When Doves Cry\, KISS\, Let’s Go Crazy\, Purple Rain and more.​ \nImportant Event Info:\nMUST BE 21+ TO ATTEND\nNo Refunds/Exchanges\nReserved Seating and Standing Room options available\nDoors open at 6:30 pm\nNo Cameras/Audio/Video Recordings \n\nGet Tickets
URL:https://arizonaseniorguide.com/event/prince-again-a-tribute-to-prince/
LOCATION:Showroom at Casino Arizona\, 101 and McKellips\, Scottsdale\, AZ\, 85271
CATEGORIES:Music,Phoenix
ATTACH;FMTTYPE=image/webp:https://arizonaseniorguide.com/wp-content/uploads/2023/09/prince-again.webp
END:VEVENT
END:VCALENDAR