BEGIN:VCALENDAR
VERSION:2.0
PRODID:-//Arizona Senior Guide - ECPv6.15.20//NONSGML v1.0//EN
CALSCALE:GREGORIAN
METHOD:PUBLISH
X-ORIGINAL-URL:https://arizonaseniorguide.com
X-WR-CALDESC:Events for Arizona Senior Guide
REFRESH-INTERVAL;VALUE=DURATION:PT1H
X-Robots-Tag:noindex
X-PUBLISHED-TTL:PT1H
BEGIN:VTIMEZONE
TZID:America/Phoenix
BEGIN:STANDARD
TZOFFSETFROM:-0700
TZOFFSETTO:-0700
TZNAME:MST
DTSTART:20240101T000000
END:STANDARD
END:VTIMEZONE
BEGIN:VEVENT
DTSTART;TZID=America/Phoenix:20260110T100000
DTEND;TZID=America/Phoenix:20260110T160000
DTSTAMP:20260423T032949
CREATED:20250902T225831Z
LAST-MODIFIED:20250902T225831Z
UID:10011528-1768039200-1768060800@arizonaseniorguide.com
SUMMARY:Sahuarita’s Art on the Lake Festival\, 2026
DESCRIPTION:Get ready for an unforgettable day of creativity and culture at Sahuarita’s Art on the Lake Festival\, returning to the picturesque Sahuarita Lake Park for its third year. This year’s event promises to be bigger and more immersive than ever\, transforming the park into a vibrant hub of art\, music\, and interactive experiences.\n​\nExplore a gallery of local artwork for sale\, with talented artisans showcasing everything from paintings and sculptures to handcrafted jewelry. Watch in awe as the park comes alive with captivating street painting\, live performance art\, and new\, expanded interactive art activities. One of the highlights this year is the stunning floating art installation on the lake\, which has been expanded to feature even more breathtaking and innovative pieces\, creating a mesmerizing scene as art meets nature. \nThe festival also showcases a variety of cultural performances that will transport you through diverse artistic traditions. Feel the energy and excitement as a colorful Chinese lion dance parades through the park\, followed by the uplifting rhythms of mariachi music and the vibrant movements of folklórico dancers. These performances add a rich cultural tapestry to the event\, making it a truly global celebration of the arts. \nAs you explore\, participate in the community chalk mural competition\, where artists of all ages can leave their mark on this dynamic festival. And don’t forget to enjoy the lively atmosphere\, complete with food trucks offering delicious bites while live music fills the air\, creating the perfect backdrop for a day of artistic discovery. \nWith only 25 exclusive artisan booths set up along the scenic pathways\, Sahuarita Art on the Lake Festival offers an intimate connection to the artists and their work. Whether you’re discovering a new favorite piece\, getting hands-on with art\, or simply soaking in the cultural performances\, this festival is an experience you won’t want to miss. \nBy attending\, you’ll be supporting local artisans and businesses\, fostering a strong sense of community\, and contributing to the vibrant cultural landscape of Sahuarita. Come for the art\, stay for the experience\, and leave with memories that will inspire long after the festival ends. \nMore info
URL:https://arizonaseniorguide.com/event/sahuaritas-art-on-the-lake-festival-2026/
LOCATION:Sahuarita Lake Park\, 15466 S Rancho Sahuarita Blvd\, Sahuarita\, AZ\, 85629
CATEGORIES:art,Fair/Festival,Free Event,Tucson
ATTACH;FMTTYPE=image/png:https://arizonaseniorguide.com/wp-content/uploads/2024/09/art-on-the-lake-logo.png
END:VEVENT
BEGIN:VEVENT
DTSTART;TZID=America/Phoenix:20250926T170000
DTEND;TZID=America/Phoenix:20250926T203000
DTSTAMP:20260423T032949
CREATED:20250902T211800Z
LAST-MODIFIED:20250902T211800Z
UID:10011511-1758906000-1758918600@arizonaseniorguide.com
SUMMARY:Sahuarita Oktoberfest
DESCRIPTION:Raise a stein to community\, culture\, and creativity at the Sahuarita Oktoberfest Celebration at Sahuarita Lake Park! Experience the flavors of Germany with authentic brats\, pretzels\, gingerbread\, and regional beer\, surrounded by immersive art installations and live performances (music & dance) inspired by Germany’s vibrant regions. \nIt’s a one-of-a-kind\, family-friendly festival blending traditional Oktoberfest charm with Southern Arizona flair. \n\nFriday\, October 26\, 2025\n5 PM-8:30 PM\n\n\n\nSahuarita Lake Park\n15466 S Rancho Sahuarita Blvd\, Sahuarita\, AZ 85629 \nFree Admission \nMore info
URL:https://arizonaseniorguide.com/event/sahuarita-oktoberfest/
LOCATION:Sahuarita Lake Park\, 15466 S Rancho Sahuarita Blvd\, Sahuarita\, AZ\, 85629
CATEGORIES:Dance,Fair/Festival,Free Event,Green Valley,Live Music,Tucson
ATTACH;FMTTYPE=image/png:https://arizonaseniorguide.com/wp-content/uploads/2025/09/sahuarita-oktoberfest-logo_orig.png
END:VEVENT
BEGIN:VEVENT
DTSTART;TZID=America/Phoenix:20250111T100000
DTEND;TZID=America/Phoenix:20250111T160000
DTSTAMP:20260423T032949
CREATED:20240930T231806Z
LAST-MODIFIED:20240930T231806Z
UID:10009747-1736589600-1736611200@arizonaseniorguide.com
SUMMARY:Sahuarita’s Art on the Lake Festival
DESCRIPTION:Get ready for an unforgettable day of creativity and culture at Sahuarita’s Art on the Lake Festival\, returning to the picturesque Sahuarita Lake Park for its third year. This year’s event promises to be bigger and more immersive than ever\, transforming the park into a vibrant hub of art\, music\, and interactive experiences.\n​\nExplore a gallery of local artwork for sale\, with talented artisans showcasing everything from paintings and sculptures to handcrafted jewelry. Watch in awe as the park comes alive with captivating street painting\, live performance art\, and new\, expanded interactive art activities. One of the highlights this year is the stunning floating art installation on the lake\, which has been expanded to feature even more breathtaking and innovative pieces\, creating a mesmerizing scene as art meets nature. \nThe festival also showcases a variety of cultural performances that will transport you through diverse artistic traditions. Feel the energy and excitement as a colorful Chinese lion dance parades through the park\, followed by the uplifting rhythms of mariachi music and the vibrant movements of folklórico dancers. These performances add a rich cultural tapestry to the event\, making it a truly global celebration of the arts. \nAs you explore\, participate in the community chalk mural competition\, where artists of all ages can leave their mark on this dynamic festival. And don’t forget to enjoy the lively atmosphere\, complete with food trucks offering delicious bites while live music fills the air\, creating the perfect backdrop for a day of artistic discovery. \nWith only 25 exclusive artisan booths set up along the scenic pathways\, Sahuarita Art on the Lake Festival offers an intimate connection to the artists and their work. Whether you’re discovering a new favorite piece\, getting hands-on with art\, or simply soaking in the cultural performances\, this festival is an experience you won’t want to miss. \nBy attending\, you’ll be supporting local artisans and businesses\, fostering a strong sense of community\, and contributing to the vibrant cultural landscape of Sahuarita. Come for the art\, stay for the experience\, and leave with memories that will inspire long after the festival ends. \nMore info
URL:https://arizonaseniorguide.com/event/sahuaritas-art-on-the-lake-festival/
LOCATION:Sahuarita Lake Park\, 15466 S Rancho Sahuarita Blvd\, Sahuarita\, AZ\, 85629
CATEGORIES:art,Fair/Festival,Free Event,Tucson
ATTACH;FMTTYPE=image/png:https://arizonaseniorguide.com/wp-content/uploads/2024/09/art-on-the-lake-logo.png
END:VEVENT
END:VCALENDAR