BEGIN:VCALENDAR
VERSION:2.0
PRODID:-//Arizona Senior Guide - ECPv6.15.20//NONSGML v1.0//EN
CALSCALE:GREGORIAN
METHOD:PUBLISH
X-ORIGINAL-URL:https://arizonaseniorguide.com
X-WR-CALDESC:Events for Arizona Senior Guide
REFRESH-INTERVAL;VALUE=DURATION:PT1H
X-Robots-Tag:noindex
X-PUBLISHED-TTL:PT1H
BEGIN:VTIMEZONE
TZID:America/Phoenix
BEGIN:STANDARD
TZOFFSETFROM:-0700
TZOFFSETTO:-0700
TZNAME:MST
DTSTART:20210101T000000
END:STANDARD
END:VTIMEZONE
BEGIN:VEVENT
DTSTART;TZID=America/Phoenix:20220423T160000
DTEND;TZID=America/Phoenix:20220423T220000
DTSTAMP:20260423T043353
CREATED:20220321T233114Z
LAST-MODIFIED:20220321T233114Z
UID:10001912-1650729600-1650751200@arizonaseniorguide.com
SUMMARY:7th Annual Sangria\, Craft Beer and Food Truck Festival
DESCRIPTION:7th Annual AZ Sangria\, Craft Beer\, and Food Truck Festival \n\n$10 general admission ticket\n$40 for an all inclusive drink ticket (includes unlimited tastings of Sangrias\, Craft Beer\, and Mexican Lagers) $45 at the door.\nOver 20 unique Food Trucks (including ones with Latin flare)\nGreat live entertainment\nPet friendly\nFun shopping vendors\n\nMore info:\nhttps://limelight.bammtickets.com/
URL:https://arizonaseniorguide.com/event/7th-annual-sangria-craft-beer-and-food-truck-festival/
LOCATION:Riverview Park\, 2100 W. Rio Salado Parkway\, Mesa\, AZ\, 85201
CATEGORIES:Fair/Festival,Phoenix
ATTACH;FMTTYPE=image/png:https://arizonaseniorguide.com/wp-content/uploads/2022/03/320_661330_LimelightEntertainment-e1647905427851.png
END:VEVENT
END:VCALENDAR