BEGIN:VCALENDAR
VERSION:2.0
PRODID:-//Arizona Senior Guide - ECPv6.15.20//NONSGML v1.0//EN
CALSCALE:GREGORIAN
METHOD:PUBLISH
X-WR-CALNAME:Arizona Senior Guide
X-ORIGINAL-URL:https://arizonaseniorguide.com
X-WR-CALDESC:Events for Arizona Senior Guide
REFRESH-INTERVAL;VALUE=DURATION:PT1H
X-Robots-Tag:noindex
X-PUBLISHED-TTL:PT1H
BEGIN:VTIMEZONE
TZID:America/Phoenix
BEGIN:STANDARD
TZOFFSETFROM:-0700
TZOFFSETTO:-0700
TZNAME:MST
DTSTART:20210101T000000
END:STANDARD
END:VTIMEZONE
BEGIN:VEVENT
DTSTART;TZID=America/Phoenix:20220301T080000
DTEND;TZID=America/Phoenix:20220301T170000
DTSTAMP:20260423T025753
CREATED:20220301T192640Z
LAST-MODIFIED:20220301T192640Z
UID:10001867-1646121600-1646154000@arizonaseniorguide.com
SUMMARY:Pavlo
DESCRIPTION:Pavlo\, a true World Music Artist returns from filming his 4th PBS TV Concert Special – Live in Santorini\, Greece. Pavlo will be joined on stage by his world class band and very special guests. Enjoy an evening of Mediterranean guitar and imagine you’re on the island of Santorini for a few hours as you enjoy Pavlo’s signature blend of Spanish/Greek/Rumba/Flamenco music.  OPA !!!! \nMore info and tickets:\nhttps://www.rialtotheatre.com/events/pavlo/
URL:https://arizonaseniorguide.com/event/pavlo/
LOCATION:Rialto Theatre\, 318 E. Congress St.\, Tucson\, AZ\, 85701
CATEGORIES:Music,Tucson
ATTACH;FMTTYPE=image/jpeg:https://arizonaseniorguide.com/wp-content/uploads/2022/03/pavlo-e1646162752237.jpg
END:VEVENT
BEGIN:VEVENT
DTSTART;TZID=America/Phoenix:20220226T190000
DTEND;TZID=America/Phoenix:20220226T190000
DTSTAMP:20260423T025753
CREATED:20220223T173701Z
LAST-MODIFIED:20220223T173701Z
UID:10001673-1645902000-1645902000@arizonaseniorguide.com
SUMMARY:Patton Oswalt Live: Who’s Ready to Laugh? an evening with...
DESCRIPTION:Patton Peter Oswalt (born January 27\, 1969) is an American stand-up comedian\, actor and screenwriter. He starred as Spence Olchin in the sitcom The King of Queens (1998–2007) and narrated the sitcom The Goldbergs (2013–present) as adult Adam F. Goldberg. After making his acting debut in the Seinfeld episode “The Couch”\, he has since appeared in a variety of television series\, such as Parks and Recreation\, Community\, Two and a Half Men\, Drunk History\, Reno 911!\, Mystery Science Theater 3000\, Archer\, Veep\, Justified\, Kim Possible\, and Brooklyn Nine-Nine\, portraying Principal Ralph Durbin in A.P. Bio (2018–present) and Matthew the Raven in The Sandman (2021–present). Oswalt is also known for voicing Remy in the Pixar film Ratatouille (2007) and M.O.D.O.K in the 2021 Hulu series of the same name. Other notable film credits include Man on the Moon (1999)\, Zoolander (2001)\, Blade: Trinity (2004)\, All Roads Lead Home (2008)\, Big Fan (2009)\, A Very Harold & Kumar 3D Christmas (2011)\, 22 Jump Street (2014)\, and The Circle (2017). In the Marvel Cinematic Universe (MCU) multimedia franchise\, Oswalt guest starred as the Koenigs on Agents of S.H.I.E.L.D. (2014–2020) and voiced Pip the Troll in Eternals (2021). In his work as a stand-up comedian\, Oswalt has appeared in six stand-up specials and also won a Primetime Emmy Award for Outstanding Writing for a Variety Special and a Grammy Award for Best Comedy Album for his Netflix special Patton Oswalt: Talking for Clapping (2016). \nMore info:\nhttps://www.rialtotheatre.com/events/patton-oswalt-live-whos-ready-to-laugh/
URL:https://arizonaseniorguide.com/event/patton-oswalt-live-whos-ready-to-laugh-an-evening-with/
LOCATION:Rialto Theatre\, 318 E. Congress St.\, Tucson\, AZ\, 85701
CATEGORIES:Comedy,Tucson
ATTACH;FMTTYPE=image/jpeg:https://arizonaseniorguide.com/wp-content/uploads/2022/02/patton-oswalt-live-whos-ready-to-laugh-e1645637800800.jpg
END:VEVENT
END:VCALENDAR