BEGIN:VCALENDAR
VERSION:2.0
PRODID:-//Arizona Senior Guide - ECPv6.15.20//NONSGML v1.0//EN
CALSCALE:GREGORIAN
METHOD:PUBLISH
X-WR-CALNAME:Arizona Senior Guide
X-ORIGINAL-URL:https://arizonaseniorguide.com
X-WR-CALDESC:Events for Arizona Senior Guide
REFRESH-INTERVAL;VALUE=DURATION:PT1H
X-Robots-Tag:noindex
X-PUBLISHED-TTL:PT1H
BEGIN:VTIMEZONE
TZID:America/Phoenix
BEGIN:STANDARD
TZOFFSETFROM:-0700
TZOFFSETTO:-0700
TZNAME:MST
DTSTART:20210101T000000
END:STANDARD
END:VTIMEZONE
BEGIN:VEVENT
DTSTART;VALUE=DATE:20250427
DTEND;VALUE=DATE:20250428
DTSTAMP:20260423T031347
CREATED:20250228T214704Z
LAST-MODIFIED:20250228T214704Z
UID:10010834-1745712000-1745798399@arizonaseniorguide.com
SUMMARY:Pima County Fair\, 2025: Yours for the Taking
DESCRIPTION:Enjoy classic carnival food\, rides\, games\, entertainment and live concerts. All shows are free with fair admission. Check their website for shows dates and times and more details. The Pima County Fairgrounds is at 11300 South Houghton Road\, located on Houghton Road one mile south of Interstate 10 and exit #275. \nApril 17-27\, 2025\n3:00 p.m. Mon – Fri\, until closing\n11:00 a.m. Sat – Sun\, until closing\n4-H & Livestock opens at 9:00am – Enter through Brekke Gate to purchase parking and admission.  \nAdmission:\nGA: $12.00\nMilitary and Senior (55+) : $8.00\nYouth: 6 – 10 years: $7.00\n5 years and under are free!\nParking: $8.00\nConcert Upgrade: $25.00. *Does not include Fair Admission. Admission must be purchased separately. NOTE: YOU MUST BE 16 YEARS OF AGE TO BE IN THE VIP UPGRADE CONCERT AREA. No Refunds. \nDiscounts: \n\n$8 Military Admission with Military ID\nMonday – Friday:  Download the fair app and receive a free order of Piggly Fries at the fair before 5:00 p.m.    Must show the app.\nSun\, April 21 & Sun April 28: Free Admission until noon with three cans of unopened food\, benefiting the Community Food Bank of Southern Arizona\nMon\, April 22:  Discount Day!  $6 admission\, plus free wheel rides for fair goers 55+!\nMonday – Wednesday (April 22\, 23\, 24) Pima County Fair Happy Hour!   $3.00 Menu Items and $3.00 Draft Beer in the Jalisco Estrella Cantina until 5:00 p.m.!\nNEW!  TUESDAY APRIL 23 ONLY! $3 Carnival rides until 6:00 p.m. *Not good towards the Titan\n\nMore info at pimacountyfair.com
URL:https://arizonaseniorguide.com/event/pima-county-fair-2025-yours-for-the-taking/2025-04-27/
LOCATION:Pima County Fairgrounds\, 11300 S Houghton Rd\, Tucson\, AZ\, 85747
CATEGORIES:Fair/Festival,Tucson
ATTACH;FMTTYPE=image/webp:https://arizonaseniorguide.com/wp-content/uploads/2025/02/pima-county-fair.webp
END:VEVENT
BEGIN:VEVENT
DTSTART;TZID=America/Phoenix:20220501T110000
DTEND;TZID=America/Phoenix:20220501T235900
DTSTAMP:20260423T031347
CREATED:20230528T033012Z
LAST-MODIFIED:20230528T033012Z
UID:10001902-1651402800-1651449540@arizonaseniorguide.com
SUMMARY:Pima County Fair 2022: Reunite Under the Lights
DESCRIPTION:After a 2 year break due to Covid-19\, the Pima County Fair is back! Enjoy classic carnival food\, rides\, games\, pig races\, petting zoo\, Sea Lion Splash and Bengal Tiger Show\, and live concerts. (The Village People will be playing April 25!) All shows are free with fair admission. Check their website for shows dates and times and more details. The Pima County Fairgrounds is at 11300 South Houghton Road\, located on Houghton Road one mile south of Interstate 10 and exit #275. \n  \nGeneral Admission: $10.00 Youth 6-10: $5.00 Military and Seniors: $5  *Children 5 & Under: FREE * Parking $5 \nWEEKDAY DISCOUNT FUN PASSES:\nPurchase 10 Carnival Rides or 10 Carnival Games for $20.  Good Monday – Friday only. Click HERE to purchase. \nCanned Food Drive Sundays\, April 24th and May 1st!  Receive free admission until noon with 3 cans of food to benefit the Community Food Bank of Southern Arizona! \nMonday – Wednesday!  Pima County Fair Happy Hour!   $3.00 Menu Items and $3.00 Draft Beer until 5:00 p.m.! \n \n 
URL:https://arizonaseniorguide.com/event/pima-county-fair-2022-reunite-under-the-lights/2022-05-01/
LOCATION:Pima County Fairgrounds\, 11300 S Houghton Rd\, Tucson\, AZ\, 85747
CATEGORIES:Fair/Festival,Tucson
ATTACH;FMTTYPE=image/png:https://arizonaseniorguide.com/wp-content/uploads/2022/03/P6SKXRASXVFDLFNRFIP626QEZQ.png
END:VEVENT
END:VCALENDAR