BEGIN:VCALENDAR
VERSION:2.0
PRODID:-//Arizona Senior Guide - ECPv6.15.20//NONSGML v1.0//EN
CALSCALE:GREGORIAN
METHOD:PUBLISH
X-ORIGINAL-URL:https://arizonaseniorguide.com
X-WR-CALDESC:Events for Arizona Senior Guide
REFRESH-INTERVAL;VALUE=DURATION:PT1H
X-Robots-Tag:noindex
X-PUBLISHED-TTL:PT1H
BEGIN:VTIMEZONE
TZID:America/Phoenix
BEGIN:STANDARD
TZOFFSETFROM:-0700
TZOFFSETTO:-0700
TZNAME:MST
DTSTART:20220101T000000
END:STANDARD
END:VTIMEZONE
BEGIN:VEVENT
DTSTART;TZID=America/Phoenix:20260415T150000
DTEND;TZID=America/Phoenix:20260415T200000
DTSTAMP:20260422T190329
CREATED:20250227T183516Z
LAST-MODIFIED:20250227T183520Z
UID:10005310-1776265200-1776283200@arizonaseniorguide.com
SUMMARY:Pay-What-You-Wish-Wednesdays @ Phoenix Art Museum
DESCRIPTION:Pay-What-You-Wish Wednesdays\, the longest-running community-access program at Phoenix Art Museum\, has welcomed more than 1 million visitors in its 20-year history. By reducing economic barriers\, we ensure that all people have the opportunity to access arts and culture. \n\n\nEvery Wednesday\, 3-9PM\, the Museum offers voluntary donation times for general admission and reduced rates to view special engagement exhibitions. Consider making a donation to support your Museum. \nGeneral admission is free\, but special exhibitions require a ticket (pricing may vary). Buy tickets online\, and skip the line during popular visitor times. \nReserve Tickets \nDonate \nPay-What-You-Wish Wednesdays are made possible by SRP and City of Phoenix. \n  \n\n 
URL:https://arizonaseniorguide.com/event/pay-what-you-wish-wednesdays-phoenix-art-museum-2/2026-04-15/
LOCATION:Phoenix Art Museum\, 1625 North Central Ave.\, Phoenix\, AZ\, 85004
CATEGORIES:art,Free Event,Phoenix
ATTACH;FMTTYPE=image/webp:https://arizonaseniorguide.com/wp-content/uploads/2023/09/pay-what-you-wish-wednesdays-scaled.webp
END:VEVENT
BEGIN:VEVENT
DTSTART;TZID=America/Phoenix:20260403T170000
DTEND;TZID=America/Phoenix:20260403T200000
DTSTAMP:20260422T190330
CREATED:20250227T184426Z
LAST-MODIFIED:20250227T185845Z
UID:10010710-1775235600-1775246400@arizonaseniorguide.com
SUMMARY:First Friday at PhxArt (free admission to Phoenix Art Museum)
DESCRIPTION:PhxArt First Fridays are officially back! Join us for FREE general admission to the Phoenix Art Museum on the first Friday of each month. \nEnjoy access to in-gallery sketching\, live music with resident DJs J-ME LEE + Alex Castles\, unique books and resources at the library pop-up\, delicious food and drinks from local vendors\, and docent-led art tours.
URL:https://arizonaseniorguide.com/event/first-friday-at-phxart-free-admission-to-phoenix-art-museum/2026-04-03/
LOCATION:Phoenix Art Museum\, 1625 North Central Ave.\, Phoenix\, AZ\, 85004
CATEGORIES:art,Free Event,Phoenix
ATTACH;FMTTYPE=image/jpeg:https://arizonaseniorguide.com/wp-content/uploads/2025/02/Phoenix-Art-Museum-First-Friday.jpg
END:VEVENT
BEGIN:VEVENT
DTSTART;TZID=America/Phoenix:20250323T100000
DTEND;TZID=America/Phoenix:20250323T170000
DTSTAMP:20260422T190330
CREATED:20250227T185255Z
LAST-MODIFIED:20250227T185311Z
UID:10010757-1742724000-1742749200@arizonaseniorguide.com
SUMMARY:Family Fun Day at Phoenix Art Museum (free admission)
DESCRIPTION:Join us for a special Family Funday celebrating Women’s History Month during a day full of inspiration\, learning\, and fun for all ages! \nIncludes Free access to all galleries and exhibits\, plus special activities: \n\nFeel the Rhythm – Watch\, learn\, and participate in Bollywood dance performances by Kriti Dance.\nSketch + Explore – Discover Keith Haring’s iconic artwork and capture inspiring moments with in-gallery sketching led by SketchClub Cafe.\nScavenger Hunt + Docent-Led Art Tours – Discover powerful women in art as you embark on a museum-wide adventure.\nScience + Art – Experiment with a unique art-making experience with Arizona Science Center.\nBooks + Button Making – Celebrate stories and create your own custom button with Phoenix Public Library.\nDelicious Eats – Enjoy tasty treats from Eis Cafe and Dough Riders food trucks.\nDive into the Archives – Stop by to see From the Archives: Women of PhxArt. Learn about the Museum’s history with tours throughout the day led by PhxArt archivist Aspen Reynolds.\nAnd so much more!\n\nPhxArt Family Fundays are made possible through the generosity of Presenting Sponsor\, Men’s Arts Council. \nMore info and Reserve tickets.
URL:https://arizonaseniorguide.com/event/family-fun-day-at-phoenix-art-museum-free-admission/
LOCATION:Phoenix Art Museum\, 1625 North Central Ave.\, Phoenix\, AZ\, 85004
CATEGORIES:art,Free Event,Phoenix
ATTACH;FMTTYPE=image/jpeg:https://arizonaseniorguide.com/wp-content/uploads/2025/02/Phoenix-Art-Museum-Family-Fun-Day.jpg
END:VEVENT
BEGIN:VEVENT
DTSTART;TZID=America/Phoenix:20231201T170000
DTEND;TZID=America/Phoenix:20231201T210000
DTSTAMP:20260422T190330
CREATED:20231005T042754Z
LAST-MODIFIED:20240919T212504Z
UID:10005438-1701450000-1701464400@arizonaseniorguide.com
SUMMARY:PHXArt AfterHours
DESCRIPTION:Four times a year\, Phoenix Art Museum opens for free after dark (from 5-9pm) for PhxArt AfterHours\, activated by live music\, art-making workshops\, specialty food and drink experiences\, and other performances and entertainment. Visit the Museum during an AfterHours event to expand the way you interact with art. \nFebruary 3\, 2023\nApril 7\, 2023\nSeptember 1\, 2023\nDecember 1\, 2023 \nAdmission is free. Reserve tickets online\, and skip the line during popular visitor times. \nWe rely on the generosity of those who give at every level to maintain our voluntary-donation programs. No gift is too small. Donate to Phoenix Art Museum and support arts and culture in your community.
URL:https://arizonaseniorguide.com/event/phxart-afterhours/
LOCATION:Phoenix Art Museum\, 1625 North Central Ave.\, Phoenix\, AZ\, 85004
CATEGORIES:art,Free Event,Phoenix
ATTACH;FMTTYPE=image/jpeg:https://arizonaseniorguide.com/wp-content/uploads/2023/10/PHXart-AfterHours.jpg
END:VEVENT
END:VCALENDAR