BEGIN:VCALENDAR
VERSION:2.0
PRODID:-//Arizona Senior Guide - ECPv6.15.20//NONSGML v1.0//EN
CALSCALE:GREGORIAN
METHOD:PUBLISH
X-ORIGINAL-URL:https://arizonaseniorguide.com
X-WR-CALDESC:Events for Arizona Senior Guide
REFRESH-INTERVAL;VALUE=DURATION:PT1H
X-Robots-Tag:noindex
X-PUBLISHED-TTL:PT1H
BEGIN:VTIMEZONE
TZID:America/Phoenix
BEGIN:STANDARD
TZOFFSETFROM:-0700
TZOFFSETTO:-0700
TZNAME:MST
DTSTART:20210101T000000
END:STANDARD
END:VTIMEZONE
BEGIN:VEVENT
DTSTART;TZID=America/Phoenix:20251207T100000
DTEND;TZID=America/Phoenix:20251207T160000
DTSTAMP:20260423T011322
CREATED:20250902T225449Z
LAST-MODIFIED:20250908T182345Z
UID:10011600-1765101600-1765123200@arizonaseniorguide.com
SUMMARY:Oro Valley Holiday Festival of the Arts & Tree Lighting Celebration\, 2025
DESCRIPTION:Embrace the holiday magic at the Oro Valley Holiday Festival of the Arts & Tree Lighting Celebration\, where the Oro Valley Marketplace transforms into a vibrant hub of creativity\, community\, and festive wonder. This cherished event is a cornerstone of the season\, inviting people of all ages to experience stunning holiday décor\, live performances\, and Santa Claus’s much-anticipated arrival. ​ \nSaturday\, December 6\, 2025\n10am-6:30pm \nSunday\, December 7\, 2025\n10am-4pm \n​This festival not only enhances the local economy and supports surrounding businesses but also offers a platform for local artists to shine\, making it a must-attend event that truly embodies the heart and soul of Oro Valley. \nMore info
URL:https://arizonaseniorguide.com/event/oro-valley-holiday-festival-of-the-arts-tree-lighting-celebration-2025/2025-12-07/
LOCATION:Oro Valley Marketplace\, 12155 N Oracle Rd\, Oro Valley\, AZ\, 85737
CATEGORIES:art,Fair/Festival,Free Event,Holiday,Oro Valley,Tucson
ATTACH;FMTTYPE=image/png:https://arizonaseniorguide.com/wp-content/uploads/2024/09/Oro-Valley-Holiday-Festival-of-the-Arts-Tree-Lighting-Celebration.png
END:VEVENT
BEGIN:VEVENT
DTSTART;TZID=America/Phoenix:20251026T100000
DTEND;TZID=America/Phoenix:20251026T160000
DTSTAMP:20260423T011322
CREATED:20250902T213006Z
LAST-MODIFIED:20250924T205735Z
UID:10011519-1761472800-1761494400@arizonaseniorguide.com
SUMMARY:Oro Valley Fall Foodie Art & Wine Festival\, 2025
DESCRIPTION:UP TO 135 ARTISANS | FALL THEMED ART INTERACTIONS | LIVE MUSIC | FESTIVE CELEBRATIONS \nJoin us for the Oro Valley Fall Foodie\, Art & Wine Festival\, a two-day outdoor event that showcases some of the Southwest’s finest artisans across all mediums\, including fashion\, home goods\, painting\, metalwork\, woodworking\, and more. Immerse yourself in the spirit of the season with autumn-themed activities tailored for the whole family\, set against the picturesque backdrop of the bustling Oro Valley Marketplace Shopping Center. \nThe festival features up to 125 talented artists\, offering a diverse array of handcrafted goods. Enjoy strolling musicians who will add a melodic ambiance to your experience. Indulge in an unrivaled foodie experience presented by Tucson Foodie with up to 20 food vendors and purveyors\, and sip on local wines in partnership with Arizona Winery Tours. Witness live art demonstrations that showcase the creative process\, and let the kids explore their creativity with pumpkin painting and other fall-centric crafts. Don’t miss the family photo opportunities with a stunning 20-foot pumpkin centerpiece\, trick-or-treating\, and costume contests that promise fun for all ages.\n​\nLocated at the heart of Oro Valley\, the Marketplace is an open-air shopping\, dining\, and entertainment destination at the corner of Oracle and Tangerine Roads\, along the AZ 77 State Highway. With ease of access and ample parking\, this venue provides the perfect setting for vendors and attendees alike to celebrate the best of fall. Come and experience the Oro Valley Fall Foodie & Arts Festival\, where art\, food\, and autumn come together to create unforgettable memories. \nThe Oro Valley Fall Foodie & Art Festival will feature exciting and festive opportunities to celebrate the incoming Fall season with interactive activities\, events and memorable event experiences. \n\nPumpkin scavenger hunt throughout festival\nColoring and Leaf Rubbing Station\nOrigami Station \nGrab and Go Art Activities\nTrick-or-treat stations for the family! – Participating artists will provide complimentary candy throughout the festival walkways. Look for the pumpkin back at each artisan station and simply say “TRICK OR TREAT”!\nLive music from touring and regional bands!\nMini-Pumpkin Decorating​\nMaster Pumpkin Carving Demonstration with Food Network star Matt Harper – Join us from 10:30AM – 1:30PM with live pumpkin carving from Matt Harper\, master pumpkin carver and sculptor who has appeared on TV and web features!\nClassic trucks on display\n​Fall rock painting and stickers with BASIS Oro Valley\nKids Art Activities from Frank Powers and the ComicBookmobile\nHalloween face painting from Sparkled Wing\nOro Valley Historical Society hosting a History of Oro Valley Exhibit\nArtists & Makers Studios hosting an Oro Valley Artists Exhibit\n\nLearn more here.
URL:https://arizonaseniorguide.com/event/oro-valley-fall-foodie-art-wine-festival-2025/2025-10-26/
LOCATION:Oro Valley Marketplace\, 12155 N Oracle Rd\, Oro Valley\, AZ\, 85737
CATEGORIES:art,Fair/Festival,Free Event,Halloween,Live Music,Oro Valley,Tucson
ATTACH;FMTTYPE=image/jpeg:https://arizonaseniorguide.com/wp-content/uploads/2025/09/oro-valley-fall-foodie-art-wine-fes.jpg
END:VEVENT
BEGIN:VEVENT
DTSTART;TZID=America/Phoenix:20250309T100000
DTEND;TZID=America/Phoenix:20250309T160000
DTSTAMP:20260423T011322
CREATED:20240930T201839Z
LAST-MODIFIED:20250227T194309Z
UID:10010778-1741514400-1741536000@arizonaseniorguide.com
SUMMARY:Spring Festival of the Arts at Oro Valley
DESCRIPTION:Step into the vibrant world of the Southern Arizona Arts and Cultural Alliance’s Spring Festival of the Arts at Oro Valley Marketplace! Immerse yourself in a weekend filled with the fresh spirit of spring\, featuring hands-on arts and crafts activities for all ages\, mesmerizing art installations\, and a delicious variety of local food trucks. You can also dive into the literary arts tent\, where local authors share their stories\, offering a unique opportunity to meet the minds behind the words. Explore a community book sale\, and find your next favorite read while enjoying the lively and creative atmosphere. \nDiscover the heart of creativity as you stroll through this thoughtfully curated market\, showcasing the talent of small\, independent artists and businesses. Each booth tells a story\, offering a chance to meet the makers behind the art and learn firsthand about their craft. From stunning handmade jewelry to intricate ceramics and more\, you’ll find a collection of one-of-a-kind treasures. Supporting these local artisans means investing in the sustainability of our creative community – a perfect way to celebrate spring and bring home a piece of artistry. \n​Celebrate the vibrancy of spring at the Spring Festival of the Arts with a variety of interactive and engaging experiences for all ages! Kids can bounce into fun at the Jumping Castle Experience\, while art lovers can witness creativity in action at the Plein Air Painting Competition\, where artists capture the beauty of Oro Valley Marketplace in real-time. \nMore info
URL:https://arizonaseniorguide.com/event/spring-festival-of-the-arts-at-oro-valley/2025-03-09/
LOCATION:Oro Valley Marketplace\, 12155 N Oracle Rd\, Oro Valley\, AZ\, 85737
CATEGORIES:art,Fair/Festival,Free Event,Oro Valley,Tucson
ATTACH;FMTTYPE=image/png:https://arizonaseniorguide.com/wp-content/uploads/2024/09/Oro-Valley-Spring-Festival-of-the-Arts-2025.png
END:VEVENT
BEGIN:VEVENT
DTSTART;VALUE=DATE:20240930
DTEND;VALUE=DATE:20241001
DTSTAMP:20260423T011322
CREATED:20230825T175944Z
LAST-MODIFIED:20230919T203005Z
UID:10002288-1727654400-1727740799@arizonaseniorguide.com
SUMMARY:Van Gogh: The Immersive Experience Tucson
DESCRIPTION:Van Gogh: The Immersive Experience is a 360º digital art exhibition in Tucson that invites you to step into the universe of the Dutch genius\, Vincent van Gogh. This captivating experience\, a previous winner of USA Today’s 10Best Readers’ Choice Award\, is brought to you by the organizers of a collection of widely successful exhibitions present in cities across Europe\, Asia\, and the Americas. \nLook at the images and videos from their website to get a better sense of what the event is. https://vangoghexpo.com/tucson. The first rooms have Van Gough painting recreations alongside text about his life. While these recreations of Van Gough’s paintings don’t really do them justice\, as they are projections on flat canvas (colors are not very accurate\, there is no paint texture) the whole experience is less about appreciating fine art than it is about getting fun photo-ops and selfies with pretty backgrounds. It feels like a fun\, trippy art exhibit to appeal to the masses – not high-brow in any way. One of the best parts is a large room where you watch animated versions of Van Gough paintings projected across the walls and floor. When Starry Night is projected\, you can see little animated shooting stars. At points it feels a bit cheesy\, but all still fun. The optional 10 minute virtual reality bit at the end (additional $5/person) is definitely worth doing and just as fun as the large room with projections\, if not better.\n \nOpening hours: (time slots available every half hour)\nMonday and Thursday: 10 a.m. – 8 p.m. (last entry at 7 p.m.)\nTuesday and Wednesday: closed\nFriday: 10 a.m. – 9 p.m. (last entry at 8 p.m.)\nSaturday: 9 a.m. – 9 p.m. (last entry at 8 p.m.)\nSunday: 9 a.m. – 8 p.m. (last entry at 7 p.m.) \nDuration: approx. 1 hour and 15 minutes \nAll ages. (But kids will likely get bored.) \nBuy tickets
URL:https://arizonaseniorguide.com/event/van-gogh-the-immersive-experience-tucson-2/2024-09-30/
LOCATION:Oro Valley Marketplace\, 12155 N Oracle Rd\, Oro Valley\, AZ\, 85737
CATEGORIES:Tucson
ATTACH;FMTTYPE=image/jpeg:https://arizonaseniorguide.com/wp-content/uploads/2023/08/van-gough-immersive-experience-tucson-scaled.jpeg
END:VEVENT
BEGIN:VEVENT
DTSTART;TZID=America/Phoenix:20220219T100000
DTEND;TZID=America/Phoenix:20220219T150000
DTSTAMP:20260423T011322
CREATED:20220214T211549Z
LAST-MODIFIED:20220214T211549Z
UID:10001841-1645264800-1645282800@arizonaseniorguide.com
SUMMARY:Cruise\, BBQ & Blues Classic Car Show
DESCRIPTION:This one day event will feature live Blues music on the main stage\, classic BBQ on the grill\, and an endless supply of everything we have come to love about fast cars and classic auto! Over 100 classic cars. 30 different classes of auto awards will be given (Best of Show\, Best Interior\, Best Paint\, Best Engine and People’s Choice). \nMore details here: saaca.org/classiccarshow.html \nTickets Sold at the Door\n$5 admission\, 10 and under Free\n$1 discount for all Veterans and Active Duty Military with your Military ID.  Pre-purchase and touchless payment options will be made available. \nAll monies raised at the event will go directly to support SAACA’s community arts and cultural outreach programs throughout the State.
URL:https://arizonaseniorguide.com/event/cruise-bbq-blues-classic-car-show/
LOCATION:Oro Valley Marketplace\, 12155 N Oracle Rd\, Oro Valley\, AZ\, 85737
CATEGORIES:Tucson
ATTACH;FMTTYPE=image/png:https://arizonaseniorguide.com/wp-content/uploads/2022/02/cbb-logo.png
END:VEVENT
END:VCALENDAR