BEGIN:VCALENDAR
VERSION:2.0
PRODID:-//Arizona Senior Guide - ECPv6.15.20//NONSGML v1.0//EN
CALSCALE:GREGORIAN
METHOD:PUBLISH
X-ORIGINAL-URL:https://arizonaseniorguide.com
X-WR-CALDESC:Events for Arizona Senior Guide
REFRESH-INTERVAL;VALUE=DURATION:PT1H
X-Robots-Tag:noindex
X-PUBLISHED-TTL:PT1H
BEGIN:VTIMEZONE
TZID:America/Phoenix
BEGIN:STANDARD
TZOFFSETFROM:-0700
TZOFFSETTO:-0700
TZNAME:MST
DTSTART:20230101T000000
END:STANDARD
END:VTIMEZONE
BEGIN:VEVENT
DTSTART;TZID=America/Phoenix:20241218T110000
DTEND;TZID=America/Phoenix:20241218T210000
DTSTAMP:20260423T180728
CREATED:20241213T181352Z
LAST-MODIFIED:20241213T181352Z
UID:10010394-1734519600-1734555600@arizonaseniorguide.com
SUMMARY:Ono Hawaiian BBQ Grand Opening
DESCRIPTION:Ono Hawaiian BBQ Celebrates the Opening of its Seventh Location with Raffles\, Giveaways\, Sales\, and Entertainment \nOno Hawaiian BBQ is excited to announce the opening of its seventh location in Phoenix. This new opening follows the launch of three other locations in Maricopa County this year\, expanding Ono Hawaiian BBQ’s presence in Arizona. This restaurant\, situated at the intersection of Gateway Plaza\, southwest corner of 67th Ave & McDowell Road\, is a newly constructed building featuring a double drive-thru and an exterior patio\, offering customers a convenient and efficient way to enjoy their Island favorites. \nTo mark the occasion\, Ono Hawaiian BBQ will host a grand opening celebration with Hawaiian dancers\, a ribbon cutting\, $100 gift card raffles and merchandise giveaways. In-store customers can also enjoy an exclusive Buy One\, Get One Free deal\, available all day. \nFree to attend. Food and drink available for purchase.
URL:https://arizonaseniorguide.com/event/ono-hawaiian-bbq-grand-opening/
LOCATION:Ono Hawaiian BBQ – Phoenix #7\, 6725 W McDowell Road\, Phoenix\, 85035
CATEGORIES:Free Event,Phoenix
ATTACH;FMTTYPE=image/png:https://arizonaseniorguide.com/wp-content/uploads/2024/12/Ono-PHX.png
ORGANIZER;CN="Ono Hawaiian BBQ":MAILTO:info@blazepr.com
END:VEVENT
END:VCALENDAR