BEGIN:VCALENDAR
VERSION:2.0
PRODID:-//Arizona Senior Guide - ECPv6.15.20//NONSGML v1.0//EN
CALSCALE:GREGORIAN
METHOD:PUBLISH
X-ORIGINAL-URL:https://arizonaseniorguide.com
X-WR-CALDESC:Events for Arizona Senior Guide
REFRESH-INTERVAL;VALUE=DURATION:PT1H
X-Robots-Tag:noindex
X-PUBLISHED-TTL:PT1H
BEGIN:VTIMEZONE
TZID:America/Phoenix
BEGIN:STANDARD
TZOFFSETFROM:-0700
TZOFFSETTO:-0700
TZNAME:MST
DTSTART:20230101T000000
END:STANDARD
END:VTIMEZONE
BEGIN:VEVENT
DTSTART;TZID=America/Phoenix:20260329T110000
DTEND;TZID=America/Phoenix:20260329T160000
DTSTAMP:20260425T131211
CREATED:20240930T195931Z
LAST-MODIFIED:20251030T190349Z
UID:10012309-1774782000-1774800000@arizonaseniorguide.com
SUMMARY:La Encantada Fine Arts Festival
DESCRIPTION:Experience the La Encantada Fine Art Festival\, one of the region’s most prestigious juried art events\, where creativity and craftsmanship converge in a vibrant celebration of the arts. Set against the lush\, ever-blooming garden walkways of the La Encantada Shopping Center\, this open-air festival offers an unparalleled opportunity to discover and support local artisans and fine art crafters. From intricate metalwork to unique\, locally-designed fashion\, each piece on display reflects the dedication and skill of its creator\, making this festival a true showcase of artistic talent.\n​\nWe invite the community to immerse themselves in the beauty and inspiration that permeates every corner of the La Encantada Fine Art Festival. As you stroll through the festival\, take time to witness live art demonstrations presented by the Southern Arizona Artists Guild (SAAG) Gallery\, where you can see creativity come to life before your eyes. Join us for a weekend of artistic discovery and be a part of what has become one of the most respected art festivals in the state\, celebrating the diverse and dynamic work of our local art community.
URL:https://arizonaseniorguide.com/event/la-encantada-fine-arts-festival/2026-03-29/
LOCATION:La Encantada Shopping Center\, 2905 E Skyline Dr\, Tucson\, AZ 85718\, Tucson\, AZ\, 85718
CATEGORIES:art,Fair/Festival,Free Event,Tucson
ATTACH;FMTTYPE=image/png:https://arizonaseniorguide.com/wp-content/uploads/2024/09/laencantada-fineartfestival-logo-01.png
END:VEVENT
BEGIN:VEVENT
DTSTART;TZID=America/Phoenix:20260329T110000
DTEND;TZID=America/Phoenix:20260329T160000
DTSTAMP:20260425T131212
CREATED:20230829T050143Z
LAST-MODIFIED:20250902T215711Z
UID:10011525-1774782000-1774800000@arizonaseniorguide.com
SUMMARY:La Encantada Fine Art Festival
DESCRIPTION:Experience the La Encantada Fine Art Festival\, one of the region’s most prestigious juried art events\, where creativity and craftsmanship converge in a vibrant celebration of the arts. Set against the lush\, ever-blooming garden walkways of the La Encantada Shopping Center\, this open-air festival offers an unparalleled opportunity to discover and support local artisans and fine art crafters. From intricate metalwork to unique\, locally-designed fashion\, each piece on display reflects the dedication and skill of its creator\, making this festival a true showcase of artistic talent.\n​\nWe invite the community to immerse themselves in the beauty and inspiration that permeates every corner of the La Encantada Fine Art Festival. As you stroll through the festival\, take time to witness live art demonstrations presented by the Southern Arizona Artists Guild (SAAG) Gallery\, where you can see creativity come to life before your eyes. Join us for a weekend of artistic discovery and be a part of what has become one of the most respected art festivals in the state\, celebrating the diverse and dynamic work of our local art community. \nDATES:\nNovember 8 & 9\, 2025\nJanuary 17 & 18\, 2026\nMarch 28 & 29\, 2026 \nSaturdays: 10am-5pm\, Sundays: 11am-4pm \nThe festival is located on the lower level of the La Encantada Shopping Center in between Crate and Barrel and Black and White Market.\n2905 E Skyline Dr\, Tucson\, AZ 85718 ​ \nMore info \n 
URL:https://arizonaseniorguide.com/event/la-encantada-fine-art-festival/2026-03-29/
LOCATION:La Encantada Shopping Center\, 2905 E Skyline Dr\, Tucson\, AZ 85718\, Tucson\, AZ\, 85718
CATEGORIES:Fair/Festival,Tucson
ATTACH;FMTTYPE=image/webp:https://arizonaseniorguide.com/wp-content/uploads/2023/08/La-Encantada-Art-Festival.webp
END:VEVENT
BEGIN:VEVENT
DTSTART;TZID=America/Phoenix:20241221T180000
DTEND;TZID=America/Phoenix:20241221T193000
DTSTAMP:20260425T131212
CREATED:20241119T233832Z
LAST-MODIFIED:20241119T233927Z
UID:10009938-1734804000-1734809400@arizonaseniorguide.com
SUMMARY:Enchanted Snowfall at La Encantada\, 2024
DESCRIPTION:Enjoy Holiday Music\, Hot Chocolate\, and our Enchanted Snowfall! \nThursdays\, Fridays\, & Saturdays\nNovember 29 – December 22\n6:00 pm – 7:30 pm \n\nSip on complimentary hot chocolate\, courtesy of Blanco.\nLive entertainment\n“Snowfall” in the Courtyard 6:00pm-6:15pm and 6:45pm-7:00pm\n\nLive Entertainment Schedule*:\n\nFriday\, November 29\n\n6:15pm-6:45pm – Santa Photos\n7:00pm-7:30pm – Santa Photos\n\n\nSaturday\, November 30\n\n6:15pm-6:45pm – Ironwood Ridge High School Varsity Pomline\n\n\nThursday\, December 5\n\n6:15pm-6:45pm – Salpointe Catholic High School Band\n7:00pm-7:30pm – Salpointe Catholic High School Band\n\n\nFriday\, December 6\n\n6:15pm-6:45pm – Manzanita Elementary School Choir\n7:00pm-7:30pm – Orange Grove Middle School Choir\n\n\nSaturday\, December 7\n\n6:15pm-6:45pm – Ventana Vista Elementary School Choir\n7:00pm-7:30pm – St. Michael’s Middle School Choir\n\n\nThursday\, December 12\n\n6:15pm-6:45pm – The Gregory School – Jazz Band\n7:00pm-7:30pm – The Gregory School – Jazz Band\n\n\nFriday\, December 13\n\n6:15pm-6:45pm – Ballet Tucson\n7:00pm-7:30pm – Ballet Tucson\n\n\nSaturday\, December 14\n\n6:15pm-6:45pm – Esperero Canyon Middle School Choir\n7:00pm-7:30pm – Catalina Foothills High School Choir\n\n\nThursday\, December 19\n\n6:15pm-6:45pm – Appearances by Disney Princesses\n7:00pm-7:30pm – Appearances by Disney Princesses\n\n\nFriday\, December 20\n\n5:30pm-6:00pm – Sunrise Drive Elementary Choir\n6:15pm-6:45pm – Southern Arizona Spirit Squad\n7:00pm-7:30pm – Southern Arizona Spirit Squad\n\n\nSaturday\, December 21\n\n6:15pm-6:45pm – Catalina Foothills Pomline\n7:00pm-7:30pm – Catalina Foothills High School String Orchestra\n7:00pm-7:30pm – Santa Photos\n\n\nSunday\, December 22\n\n6:15pm-6:45pm – Santa Photos\n6:15pm-6:45pm – Tucson High School Advanced Women’s Choir and Curdas Ensemble\n7:00pm-7:30pm – Santa Photos\n\n\n\nPet Photo Nights with Santa\n\nTuesday\, December 3\, 10\, 17 from 4:00pm-6:00pm in the Courtyard\n\nValet\nDon’t forget to use our Valet Services throughout the holiday season. Available Wednesday through Saturday from 4pm to 10pm\, beginning November 13. \n*Entertainment is subject to change. Check here for updates.
URL:https://arizonaseniorguide.com/event/enchanted-snowfall-at-la-encantada-2024/2024-12-21/
LOCATION:La Encantada Shopping Center\, 2905 E Skyline Dr\, Tucson\, AZ 85718\, Tucson\, AZ\, 85718
CATEGORIES:Free Event,Holiday,Live Music,Tucson
ATTACH;FMTTYPE=image/webp:https://arizonaseniorguide.com/wp-content/uploads/2024/11/snowfall-la-encantada-2024-dfdef190.webp
END:VEVENT
BEGIN:VEVENT
DTSTART;TZID=America/Phoenix:20240615T110000
DTEND;TZID=America/Phoenix:20240615T130000
DTSTAMP:20260425T131212
CREATED:20240422T231732Z
LAST-MODIFIED:20240422T231732Z
UID:10008402-1718449200-1718456400@arizonaseniorguide.com
SUMMARY:Third Saturday SAAG Community Art Fest at La Encantada
DESCRIPTION:Enjoy free arts and crafts projects at the SAAG Community Art Fest every third Saturday\, from 11am to 1pm. All classes will be held in front of the SAAG Gallery on the First Level Plaza at La Encantada.. \nAll materials will be provided! \nHere’s the lineup of fun art projects: \n\n\n\nMay 18\, 2024 – Solar Prints with Bijou D’Arpa\nJune 15\, 2024 – Mural Painting with Lynn Pass\n\n\n\n 
URL:https://arizonaseniorguide.com/event/third-saturday-saag-community-art-fest-at-la-encantada/2024-06-15/
LOCATION:La Encantada Shopping Center\, 2905 E Skyline Dr\, Tucson\, AZ 85718\, Tucson\, AZ\, 85718
CATEGORIES:art,Classes,Tucson
ATTACH;FMTTYPE=image/webp:https://arizonaseniorguide.com/wp-content/uploads/2024/04/saag.webp
END:VEVENT
END:VCALENDAR