BEGIN:VCALENDAR
VERSION:2.0
PRODID:-//Arizona Senior Guide - ECPv6.15.20//NONSGML v1.0//EN
CALSCALE:GREGORIAN
METHOD:PUBLISH
X-ORIGINAL-URL:https://arizonaseniorguide.com
X-WR-CALDESC:Events for Arizona Senior Guide
REFRESH-INTERVAL;VALUE=DURATION:PT1H
X-Robots-Tag:noindex
X-PUBLISHED-TTL:PT1H
BEGIN:VTIMEZONE
TZID:America/Phoenix
BEGIN:STANDARD
TZOFFSETFROM:-0700
TZOFFSETTO:-0700
TZNAME:MST
DTSTART:20220101T000000
END:STANDARD
END:VTIMEZONE
BEGIN:VEVENT
DTSTART;TZID=America/Phoenix:20251105T173000
DTEND;TZID=America/Phoenix:20251105T200000
DTSTAMP:20260423T064819
CREATED:20251024T202333Z
LAST-MODIFIED:20251024T202841Z
UID:10012302-1762363800-1762372800@arizonaseniorguide.com
SUMMARY:Shafer Wine Dinner at Hacienda del Sol
DESCRIPTION:Join us at The Grill at Hacienda del Sol Guest Ranch Resort for an exclusive dining affair\, showcasing an array of wines from Napa\, California. Indulge in a delightful six-course plated dinner created by Executive Chef Ramon Delgado with California inspirations paired perfectly with Shafer Wines\, curated by Sommelier David Mills. We look forward sharing the beauty of Napa Valley with you. \nTickets are priced at $275 per person and include a impressive six-course meal paired with distinct wines from Shafer Family Vineyards. With limited seating available\, we encourage you to secure your tickets in advance to avoid missing out on this wine dinner. \nWednesday\, November 5th\n5:30pm Reception | 6pm Dinner \nGet Tickets \n  \nMenu:\nFirst Course \nMonterey Bay Salmon Medallion\nHorseradish-Green Apple Crust | Parsnip Puree | Cider Beurre Blanc\nRed Shoulder Ranch | Chardonnay | 2024 \nSecond Course \nCoffee rubbed Pekin Duck Breast\nAllspice Carrot puree |Charred Heirloom Tomato Demi\nTD-9 | Cabernet Sauvignon | 2023 \nThird Course \nPorcini-Pecan crust Pork Medallion\nFondant Potato | Squash Leaves | Fig pan Jus\nOne Point Five | Cabernet Sauvignon | 2023 \nFourth Course \nShort Rib Lamb Torchon\nFarrotto | Asparagus tips |Rosemary braising stock reduction\nRelentless | Syrah-Petite Syrah Blend | 2022 \nFifth Course \nMesquite Ember charred Culotte loin\nCaramelized Wild Mushroom | Maître d’hôtel Butter\nHillside Select | Cabernet Sauvignon | 2021 \nSixth Course \nCherry Sangria Sorbet\nCitrus | warming spices\nWarm Mezcal Hibiscus Cherry Tea
URL:https://arizonaseniorguide.com/event/shafer-wine-dinner-at-hacienda-del-sol/
LOCATION:Hacienda Del Sol Guest Ranch Resort\, 5501 N. Hacienda Del Sol Rd\, Tucson\, AZ\, 85718
CATEGORIES:Tucson
ATTACH;FMTTYPE=image/webp:https://arizonaseniorguide.com/wp-content/uploads/2025/10/iStock-615736640-wine-grapes-winery.webp
END:VEVENT
BEGIN:VEVENT
DTSTART;TZID=America/Phoenix:20251102T100000
DTEND;TZID=America/Phoenix:20251102T140000
DTSTAMP:20260423T064819
CREATED:20251024T195918Z
LAST-MODIFIED:20251024T195918Z
UID:10012301-1762077600-1762092000@arizonaseniorguide.com
SUMMARY:Dia de los Muertos Brunch at Hacienda del Sol
DESCRIPTION:Celebrate Día de los Muertos with a festive brunch at Hacienda Del Sol\, blending traditional favorites with vibrant Mexican-inspired dishes. Enjoy listening to a local Mariachi Band while indulging in everything from Seafood Ceviche and Tamales to sweet treats like Tres Leches Cake and Pan de Muerto. Join us in honoring loved ones who’ve passed while enjoying great food and a festive atmosphere. \nSunday\, November 2nd | 10am – 2pm\nHacienda Del Sol Resort \n$70 Per Adult | $35 Kids 6 – 12 | 5 & Under Free \nCall (520) 529-3500 to make your reservation today!
URL:https://arizonaseniorguide.com/event/dia-de-los-muertos-brunch-at-hacienda-del-sol/
LOCATION:Hacienda Del Sol Guest Ranch Resort\, 5501 N. Hacienda Del Sol Rd\, Tucson\, AZ\, 85718
CATEGORIES:Halloween,Tucson
ATTACH;FMTTYPE=image/webp:https://arizonaseniorguide.com/wp-content/uploads/2025/10/dia-de-los-muertos.webp
END:VEVENT
BEGIN:VEVENT
DTSTART;TZID=America/Phoenix:20250831T180000
DTEND;TZID=America/Phoenix:20250831T210000
DTSTAMP:20260423T064819
CREATED:20250818T212507Z
LAST-MODIFIED:20250818T212507Z
UID:10011487-1756663200-1756674000@arizonaseniorguide.com
SUMMARY:Labor Day Luau at Hacienda del Sol
DESCRIPTION:The 3rd Annual Labor Day Luau celebration returns to Hacienda del Sol! \n\nHawaiian-themed buffet\nTiki drinks\nLive music and dancers.\nComplimentary souvenir cup\nOne special cocktail or mocktail\n\nThis event sells out every year\, so get your tickets before they run out!\nTickets are $85 per person. \nTickets and more info \nMake it a celebratory weekend with our Labor Day Luau Getaway Rooms Package\, which includes 2 tickets for this event. \n 
URL:https://arizonaseniorguide.com/event/labor-day-luau-at-hacienda-del-sol/
LOCATION:Hacienda Del Sol Guest Ranch Resort\, 5501 N. Hacienda Del Sol Rd\, Tucson\, AZ\, 85718
CATEGORIES:Dance,Live Music,Tucson
ATTACH;FMTTYPE=image/webp:https://arizonaseniorguide.com/wp-content/uploads/2025/08/luau.webp
END:VEVENT
BEGIN:VEVENT
DTSTART;TZID=America/Phoenix:20241128T110000
DTEND;TZID=America/Phoenix:20241128T190000
DTSTAMP:20260423T064819
CREATED:20240930T190757Z
LAST-MODIFIED:20240930T191656Z
UID:10009729-1732791600-1732820400@arizonaseniorguide.com
SUMMARY:Thanksgiving Day Buffet 2024 at Hacienda del Sol
DESCRIPTION:Celebrate Thanksgiving at Hacienda del Sol\, where tradition meets elegance in a stunning desert setting. Enjoy a sumptuous feast featuring gourmet dishes crafted from the finest ingredients\, all while taking in breathtaking views of the Santa Catalina Mountains. Join us for a memorable holiday filled with warmth\, exceptional cuisine\, and the unique charm of our historic resort. \n$95 Per Adult | $50 Per Child ages 6-12 | 5 and under are free \nCall 520.529.3500 to make your reservations today! \nMENU\nMarketplace Salad Bar \n\nAssorted Organic Greens\nRomaine & Radicchio\nGrilled Pears\nCucumber\nFeta\nCandied Pumpkin Seeds\nMatchstick Carrots\nRed Onion\nOlive Cured Tomatoes\nParmesan Croutons\nWatermelon\nRadishes\nGolden Balsamic-Cranberry Vinaigrette\nSweet & Sour Honey Vinaigrette\nParker House Dinner Rolls\nWhipped Sweet Butter\n\nComposed Salads\n \n\nAmbrosia Salad\nWaldorf Salad\nCarrot-Raisin Salad\n\nSoups\n \n\nRoasted Butternut Bisque\nPork Pozole\n\nCharcuterle Station \n\nSoppressata Salami\nSpanish Chorizo\nMarinated Country Olives\nMozzarella Manchego\nFig Jam\nGlazed Pecans\nRed Grapes\nCrostini Whole Grain Mustard\nCornichons\nGrilled Vegetables\n\nCarving Station \n\nRoasted Tom Turkey Breast | Spiced Cranberry Compote\nStanding Prime Rib Roast | Jus Lie\, Shallot Soubise Sauce\, Atomic Horseradish Sauce\n\nEntrées \n\nPan-Seared Salmon | Roasted Forrest Mushrooms\, Beurre Rouge Sauce\nDuck Confit & 4-Cheese Ravioli\n\nDelectable Sides \n\nCranberry-Bacon Green Beans\nCornbread & Cranberry Pecan Stuffing\nTriple Cream Brie Mashed Potatoes & Giblet Gravy\nRed Himalayan\, Red Quinoa\, Pecan Pilaf\nSweet Glazed Yams Marshmallow Brulee\nCreamed Brussels Sprouts & Crisp Bacon\nRoasted Parsnips & Sunchokes\nSouthern Mac & Cheese\n\nDessert \n\nPumpkin & Sweet Potato Pie\nClassic Pecan Pie\nDouble Fudge Chocolate Cake\nAssorted Cheesecake Squares\nCran-Apple Cheesecake\nBourbon Brioche Pudding\nStone Fruit Cobbler\nPear-Almond Galette-Crème Fraiche
URL:https://arizonaseniorguide.com/event/thanksgiving-day-buffet-2024-at-hacienda-del-sol/
LOCATION:Hacienda Del Sol Guest Ranch Resort\, 5501 N. Hacienda Del Sol Rd\, Tucson\, AZ\, 85718
CATEGORIES:Holiday,Thanksgiving,Tucson
ATTACH;FMTTYPE=image/webp:https://arizonaseniorguide.com/wp-content/uploads/2024/09/hacienda-del-sol-thanksgiving.webp
END:VEVENT
BEGIN:VEVENT
DTSTART;TZID=America/Phoenix:20231225T170000
DTEND;TZID=America/Phoenix:20231225T210000
DTSTAMP:20260423T064819
CREATED:20231221T235310Z
LAST-MODIFIED:20231222T000314Z
UID:10008287-1703523600-1703538000@arizonaseniorguide.com
SUMMARY:Christmas Dinner 2023 at Hacienda del Sol
DESCRIPTION:Skip the cooking and enjoy Christmas Dinner at Hacienda Del Sol. Let us take care of you and your family this holiday season so you can focus on making memories! \n\n\nElevate your Christmas celebration with two different menu options! \n\nEnjoy a seasonally crafted prix fixe menu ($85/person) which includes a starter\, main dish\, and dessert.\nOr purchase from the a la carte menu ($48+/entrée) with choices you already love from The Grill!\n\nChoose from mouth watering Lobster Ravioli\, Caper-Crusted Rack of Lamb to Vermont Maple Braised Short Rib\, Mushroom Risotto and finish off with our delectable Christmas Strudel. \n\nCall 520.529.3500 to secure your seating! \nView menu here.
URL:https://arizonaseniorguide.com/event/christmas-dinner-2023-at-hacienda-del-sol/
LOCATION:Hacienda Del Sol Guest Ranch Resort\, 5501 N. Hacienda Del Sol Rd\, Tucson\, AZ\, 85718
CATEGORIES:Tucson
ATTACH;FMTTYPE=image/jpeg:https://arizonaseniorguide.com/wp-content/uploads/2023/12/christmasdaydining-5x5-1.jpg
END:VEVENT
BEGIN:VEVENT
DTSTART;TZID=America/Phoenix:20231224T100000
DTEND;TZID=America/Phoenix:20231224T150000
DTSTAMP:20260423T064819
CREATED:20231221T213646Z
LAST-MODIFIED:20231221T232656Z
UID:10008286-1703412000-1703430000@arizonaseniorguide.com
SUMMARY:Christmas Eve Brunch 2023 at Hacienda del Sol
DESCRIPTION:Enjoy a Christmas Eve Brunch at Hacienda del Sol Guest Ranch Sunday\, December 24\, 2023 from 10am – 3pm. \n$90 Per Adult | $50 Per Child ages 6-12 | 5 and under are free \nCall 520.529.3500 to make your reservations today!\nMENU \nMarketplace Salad Bar \n\nSeasonal Crisp Vegetables and Organic Tender Greens\nCharred Shallot-Sage Agave Vinaigrette\nCitrus-Cranberry Dressing\nRoasted Butternut Squash-Gew0rztraminer Bisque\nAmbrosia Salad\nWaldorf Salad\nCarrot-Raisin Salad\n\nSalad Station \n\nTender Kale & Pear Salad\nOrganic Spinach-Farro & Brussels Sprouts Salad\nArugula\, Roasted Gold Beets Citrus Salad\nCaesar Salad\nFresh Seasonal Fruit & Berries\nSmoked Salmon Platter\n\nCarving Station \n\nRoast Turkey Breast\nStanding Bone-In Prime Rib Roast\nRoast Salmon Coulibiac\n\nSeafood Display \n\nChilled Shrimp\nSmoked Salmon\nSnow Crab Claws\n\nSavory Sides \n\nYukon Gold Mashed Potatoes with Gravy\nCornbread-Sage-Craisins Bread Stuffing\nGarlicky Green Beans Casserole with Garlic and Herbs\nWinter Root Vegetable Hash\nMaple Glazed Baby Carrots\nGreen Corn Tamales\n\n Antipasto Platter \nSalumi | Provolone | Smoked Gouda | Manchego | Pepperoncini | Olives | Grilled Pesto Vegetables \nDessert Station \n\nAssorted Mini Breakfast Pastries & Bagels\nCaramel Apple Pie\nIrish Coffee Mousse Cake\nRaspberry Cinnamon Rolls\nBlackberry-Almond Pie\nSnowball Cookies\nChocolate Christmas Fudge\nEgg Nog Cupcakes\nWhite Chocolate & Peppermint Panna Cotta\nSticky Toffee Pudding\nBlueberry Scones
URL:https://arizonaseniorguide.com/event/christmas-eve-brunch-2023-at-hacienda-del-sol/
LOCATION:Hacienda Del Sol Guest Ranch Resort\, 5501 N. Hacienda Del Sol Rd\, Tucson\, AZ\, 85718
CATEGORIES:Tucson
ATTACH;FMTTYPE=image/png:https://arizonaseniorguide.com/wp-content/uploads/2023/12/hacienda-christmas-eve-brunch.png
END:VEVENT
BEGIN:VEVENT
DTSTART;TZID=America/Phoenix:20231123T110000
DTEND;TZID=America/Phoenix:20231123T170000
DTSTAMP:20260423T064819
CREATED:20230828T235357Z
LAST-MODIFIED:20230828T235727Z
UID:10002303-1700737200-1700758800@arizonaseniorguide.com
SUMMARY:Thanksgiving Day Buffet 2023 at Hacienda del Sol
DESCRIPTION:Indulge in a feast of flavors this Thanksgiving at Hacienda del Sol Guest Ranch Resort’s lavish buffet celebration on Thursday\, November 23rd from 11am – 5pm. Elevate your holiday tradition with a culinary experience like no other. Their talented chefs have curated a bountiful spread that pays homage to the rich heritage of the Southwest\, blending traditional Thanksgiving favorites with a Southwestern twist. \n$90 Per Adult | $50 Per Child ages 6-12 | 5 and under are free \nCall 520.529.3500 to make your reservations today! \nMENU \nMarketplace Salad Bar \n\nSeasonal Crisp Vegetables and Organic Tender Greens\nCharred Shallot-Sage Agave Vinaigrette\nCitrus-Cranberry Dressing\nRoasted Butternut Squash-Gew0rztraminer Bisque\nAmbrosia Salad\nWaldorf Salad\nCarrot-Raisin Salad\n\nCharcuterle Station \n\nSoppressata Salami\nSpanish Chorizo\nMarinated Country Olives\nMozzarella Manchego\nFig Jam\nGlazed Pecans\nRed Grapes\nCrostini Whole Grain Mustard\nCornichons\nGrilled Vegetables\n\nCarving Station \n\nRoasted Tom Turkey Breast\nSpiced Cranberry Compote\nBeef Baron Steamship Roast\nJus lie\nAtomic Horseradish Sauce\n\nEntrées \n\nPan-Seared Salmon\nGrilled Applewood-Smoked Ham Steak\n\nDelectable Sides \n\nGreen Bean Amandine\nCornbread & Cranberry Pecan Stuffing\nTriple Cream Brie Mashed Potatoes\nGiblet Gravy\nLong Grain Orzo Rice Pilaf\nSweet Glazed Yams Marshmallow Brulee\nWhite Balsamic Roasted Brussels Sprouts\nCrisp Bacon\nSeasonal Roasted Vegetable Medley\nAssorted Dinner Rolls and Sweet Butter\n\nDessert \n\nPumpkin Pie\nSweet Potato Pie\nClassic Pecan Pie\nDouble Fudge Chocolate Cake\nAssorted Cheesecake Squares\nCran-Apple Cheesecake\nBourbon Brioche Pudding\nStone Fruit Cobbler\nPear-Almond Galette\nCreme Fraiche
URL:https://arizonaseniorguide.com/event/thanksgiving-day-buffet-2023-at-hacienda-del-sol/
LOCATION:Hacienda Del Sol Guest Ranch Resort\, 5501 N. Hacienda Del Sol Rd\, Tucson\, AZ\, 85718
CATEGORIES:Tucson
ATTACH;FMTTYPE=image/webp:https://arizonaseniorguide.com/wp-content/uploads/2023/08/thanksgiving.webp
END:VEVENT
BEGIN:VEVENT
DTSTART;TZID=America/Phoenix:20231015T170000
DTEND;TZID=America/Phoenix:20231015T200000
DTSTAMP:20260423T064819
CREATED:20230828T234050Z
LAST-MODIFIED:20230828T234212Z
UID:10002302-1697389200-1697400000@arizonaseniorguide.com
SUMMARY:Zin\, Blues & BBQ at Hacienda del Sol guest Ranch Resort
DESCRIPTION:Enjoy a mouth-watering gourmet BBQ menu\, live blues music\, and over 24 varieties of Zinfandel wine from local distributors! \nPrice:\n$90 per adult: Buffet & Wine (Includes unlimited tastings)\n$70 per adult: Buffet Only \nMore info and tickets
URL:https://arizonaseniorguide.com/event/zin-blues-bbq-at-hacienda-del-sol-guest-ranch-resort/
LOCATION:Hacienda Del Sol Guest Ranch Resort\, 5501 N. Hacienda Del Sol Rd\, Tucson\, AZ\, 85718
CATEGORIES:Music,Tucson
ATTACH;FMTTYPE=image/webp:https://arizonaseniorguide.com/wp-content/uploads/2023/08/zinbluesbbq.webp
END:VEVENT
BEGIN:VEVENT
DTSTART;TZID=America/Phoenix:20230903T180000
DTEND;TZID=America/Phoenix:20230903T210000
DTSTAMP:20260423T064819
CREATED:20230828T233712Z
LAST-MODIFIED:20230828T234339Z
UID:10002301-1693764000-1693774800@arizonaseniorguide.com
SUMMARY:Labor Day Luau at Hacienda del Sol Guest Ranch Resort
DESCRIPTION:You’re invited to Hacienda del Sol Guest Ranch Resort’s very first Labor Day Luau! Join us Sunday\, September 3rd from 6pm to 9pm for a festive evening featuring a Hawaiian-inspired buffet\, tiki cocktails\, themed live music and entertainment! Enjoy our beautiful resort grounds\, hula dancers\, delicious cuisine and specialty tiki cocktails crafted by our talented bartenders. Make the most out of this event by booking an overnight stay with us — visit haciendadelsol.com/accommodations to make a room reservation. \nPortions of the proceeds will go to Hawaii Region American Red Cross supporting those affected by the Maui wildfires. Please consider making further personal donations to American Red Cross Hawaii Region\, The Maui Strong Fund\, and The Salvation Army Hawaii and Pacific Island Division. \n$70 per Person – Includes Buffet\, Souvenir Tiki Mug\, and One Tiki Cocktail or Mocktail \nMore info and tickets
URL:https://arizonaseniorguide.com/event/labor-day-luau-at-hacienda-del-sol-guest-ranch-resort/
LOCATION:Hacienda Del Sol Guest Ranch Resort\, 5501 N. Hacienda Del Sol Rd\, Tucson\, AZ\, 85718
CATEGORIES:Tucson
ATTACH;FMTTYPE=image/webp:https://arizonaseniorguide.com/wp-content/uploads/2023/08/labordayluau.webp
END:VEVENT
END:VCALENDAR