BEGIN:VCALENDAR
VERSION:2.0
PRODID:-//Arizona Senior Guide - ECPv6.15.20//NONSGML v1.0//EN
CALSCALE:GREGORIAN
METHOD:PUBLISH
X-WR-CALNAME:Arizona Senior Guide
X-ORIGINAL-URL:https://arizonaseniorguide.com
X-WR-CALDESC:Events for Arizona Senior Guide
REFRESH-INTERVAL;VALUE=DURATION:PT1H
X-Robots-Tag:noindex
X-PUBLISHED-TTL:PT1H
BEGIN:VTIMEZONE
TZID:America/Phoenix
BEGIN:STANDARD
TZOFFSETFROM:-0700
TZOFFSETTO:-0700
TZNAME:MST
DTSTART:20220101T000000
END:STANDARD
END:VTIMEZONE
BEGIN:VEVENT
DTSTART;TZID=America/Phoenix:20250411T190000
DTEND;TZID=America/Phoenix:20250411T220000
DTSTAMP:20260423T001508
CREATED:20241119T004502Z
LAST-MODIFIED:20241119T004650Z
UID:10009913-1744398000-1744408800@arizonaseniorguide.com
SUMMARY:Phoenix Suns - Home basketball games
DESCRIPTION:Phoenix Sun’s Game Schedule HOME Games at the Footprint Center: \n\nNovember 18: vs Orlando Magic at 7 PM\nNovember 20: vs New York Knicks at 8 PM\nNovember 26: vs Los Angeles Lakers at 8 PM\nNovember 27: vs Brooklyn Nets at 7 PM\nNovember 30: vs Golden State Warriors at 7 PM\nDecember 3: vs San Antonio Spurs at 7 PM\nDecember 27: vs Dallas Mavericks at 7 PM\nDecember 31: vs Memphis Grizzlies at 7 PM\nJanuary 9: vs Atlanta Hawks at 7 PM\nJanuary 11: vs Utah Jazz at 3 PM\nJanuary 12: vs Charlotte Hornets at 7 PM \nJanuary 25: vs Washington Wizards at 7 PM\nJanuary 27: vs LA Clippers at 7:30 PM \nJanuary 29: vs Minnesota Timberwolves at 7 PM \nFebruary 7: vs Utah Jazz at 8 PM \nFebruary 8: vs Denver Nuggets at 7 PM \nFebruary 11: vs Memphis Grizzlies at 8 PM \nFebruary 27: vs New Orleans Pelicans at 8 PM \nFebruary 28: vs New Orleans Pelicans at 7 PM \nMarch 2: vs Minnesota Timberwolves at 7:30 PM \nMarch 4: vs LA Clippers at 8 PM \nMarch 14: vs Sacramento Kings at 7 PM \nMarch 17: vs Toronto Raptors at 7 PM \nMarch 19: vs Chicago Bulls at 7 PM \nMarch 21: vs Cleveland Cavaliers at 7 PM \nMarch 24: vs Milwaukee Bucks at 7 PM \nMarch 26: vs Boston Celtics at 7 PM \nMarch 30: vs Houston Rockets at 6 PM \nApril 8: vs Golden State Warriors at 7 PM \nApril 9: vs Oklahoma City Thunder at 7 PM \nApril 11: vs San Antonio Spurs at 7 PM \n\nGet Tickets
URL:https://arizonaseniorguide.com/event/phoenix-suns-home-basketball-games/2025-04-11/
LOCATION:Footprint Center\, 201 East Jefferson Street\, Phoenix\, AZ\, 85004
CATEGORIES:Phoenix,Sports
ATTACH;FMTTYPE=image/png:https://arizonaseniorguide.com/wp-content/uploads/2024/11/phoenixsuns.png
END:VEVENT
BEGIN:VEVENT
DTSTART;TZID=America/Phoenix:20250328T193000
DTEND;TZID=America/Phoenix:20250328T223000
DTSTAMP:20260423T001508
CREATED:20241121T050146Z
LAST-MODIFIED:20241121T050146Z
UID:10010391-1743190200-1743201000@arizonaseniorguide.com
SUMMARY:Jerry Seinfeld And Jim Gaffigan\, Live 2025 Tour
DESCRIPTION:Two of the best clean comedians\, Jerry Seinfeld and Jim Gaffigan\, will be co-headlining a show at the Footprint Center in Phoenix. Don’t miss this rare event to see both at the same show!\n\nGet Tickets
URL:https://arizonaseniorguide.com/event/jerry-seinfeld-and-jim-gaffigan-live-2025-tour/
LOCATION:Footprint Center\, 201 East Jefferson Street\, Phoenix\, AZ\, 85004
CATEGORIES:Comedy,Phoenix
ATTACH;FMTTYPE=image/jpeg:https://arizonaseniorguide.com/wp-content/uploads/2024/11/seinfeld-gaffigan.jpg
END:VEVENT
BEGIN:VEVENT
DTSTART;TZID=America/Phoenix:20250308T200000
DTEND;TZID=America/Phoenix:20250308T220000
DTSTAMP:20260423T001508
CREATED:20241106T194138Z
LAST-MODIFIED:20241106T194138Z
UID:10009853-1741464000-1741471200@arizonaseniorguide.com
SUMMARY:Gabriel Iglesias: Don't Worry Be Fluffy
DESCRIPTION:World famous comedian Gabriel “Fluffy” Iglesias will be performing at the Footprint Center in Phoenix on Saturday\, March 8 at 8pm as part of his “Don’t Worry Be Fluffy Tour”. \nIglesias is one of America’s most successful stand-up comedians performing to sold-out concerts around the world. He is also one of the most watched comedians on YouTube with almost a billion views and has over 25 million fans across social media. In 2018\, Gabe was included in The Hollywood Reporter’s “Top 40 Comedy Players” issue alongside comedy giants Jerry Seinfeld\, Chris Rock and Lorne Michaels. The comedian has also had the distinct honor of being one of the few to headline and sell-out Madison Square Garden in New York\, Staples Center in Los Angeles and Sydney Opera House in Australia. \nDoor Time\n7:00 PM \nShow Time:\n8:00 PM \n\nGet Tickets
URL:https://arizonaseniorguide.com/event/gabriel-iglesias-dont-worry-be-fluffy-2/
LOCATION:Footprint Center\, 201 East Jefferson Street\, Phoenix\, AZ\, 85004
CATEGORIES:Comedy,Phoenix
ATTACH;FMTTYPE=image/webp:https://arizonaseniorguide.com/wp-content/uploads/2024/08/gabriel-iglesias-tucson-e1730922026831.webp
END:VEVENT
BEGIN:VEVENT
DTSTART;TZID=America/Phoenix:20250222T140000
DTEND;TZID=America/Phoenix:20250222T160000
DTSTAMP:20260423T001508
CREATED:20241115T000313Z
LAST-MODIFIED:20241115T000530Z
UID:10009860-1740232800-1740240000@arizonaseniorguide.com
SUMMARY:Harlem Globetrotters 2025 World Tour - Phoenix
DESCRIPTION:Harlem Globetrotters 2025 World Tour – Phoenix\nPresented By Jersey Mike’s Subs\nYou love the dunks\, alley-oops\, looooong shots\, magic\, history and laughs! Don’t miss your chance to see what fans love about the Harlem Globetrotters plus more as the world-famous Globetrotters level-up every game with all-new\, exciting challenges in 2025! \nNEW Year\, NEW Global Tour\, NEW Challenges! Same Globetrotters You LOVE! \nGet Tickets\n \nThe Harlem Globetrotters are worldwide basketball icons. Founded by Abe Saperstein in 1926\, the Globetrotters have been introducing people all over the world to basketball for nearly a century. Seeing the Globetrotters is more than just witnessing a game — it’s an event. And in 2025\, it will be a new year with a new global tour and new challenges! You’ll see all that you’ve come to expect at every Globetrotters game\, plus new trials as players face-off to see who can pull off astonishing trick shots and more. See your favorite Globetrotters stars and their renowned rivals\, the Washington Generals\, live as they challenge themselves and each other to new moves\, new shots\, and new innovations. Join the Harlem Globetrotters 2025 World Tour Presented by Jersey Mike’s Subs at a city near you.
URL:https://arizonaseniorguide.com/event/harlem-globetrotters-2025-world-tour-phoenix/
LOCATION:Footprint Center\, 201 East Jefferson Street\, Phoenix\, AZ\, 85004
CATEGORIES:Comedy,Phoenix,Sports
ATTACH;FMTTYPE=image/png:https://arizonaseniorguide.com/wp-content/uploads/2024/11/Harlem-Globetrotters-2025-WorldTour.png
END:VEVENT
BEGIN:VEVENT
DTSTART;TZID=America/Phoenix:20250124T200000
DTEND;TZID=America/Phoenix:20250124T220000
DTSTAMP:20260423T001508
CREATED:20240820T001956Z
LAST-MODIFIED:20240820T002234Z
UID:10009535-1737748800-1737756000@arizonaseniorguide.com
SUMMARY:Katt Williams: Heaven on Earth Tour
DESCRIPTION:Critically acclaimed comedian Katt Williams is doing a tour across America\, called the HEAVEN ON EARTH TOUR\, and one of his first stops is in Phoenix\, AZ! \nGet your tickets today!\n\nGet Tickets\n \n\n 
URL:https://arizonaseniorguide.com/event/katt-williams-heaven-on-earth-tour/
LOCATION:Footprint Center\, 201 East Jefferson Street\, Phoenix\, AZ\, 85004
CATEGORIES:Comedy,Phoenix
ATTACH;FMTTYPE=image/jpeg:https://arizonaseniorguide.com/wp-content/uploads/2024/08/katt-williams-heaven-on-earth-e1724113345534.jpg
END:VEVENT
BEGIN:VEVENT
DTSTART;TZID=America/Phoenix:20241205T200000
DTEND;TZID=America/Phoenix:20241205T220000
DTSTAMP:20260423T001508
CREATED:20240828T195342Z
LAST-MODIFIED:20240828T195342Z
UID:10009545-1733428800-1733436000@arizonaseniorguide.com
SUMMARY:Andrea Bocelli 30th Anniversary in Concert
DESCRIPTION:Iconic Italian tenor Andrea Bocelli announced his 2024 North American December tour dates including a stop at Footprint Center on December 5! \n2024 officially marks 30 years of Andrea Bocelli’s iconic career as well as his 65th birthday. This beloved annual Winter Holiday Tour\, sponsored by global investment firm Stifel\, will feature performances from Bocelli’s extensive repertoire\, including music in honor of the Holiday Season\, with selections from his recent #1 album A Family Christmas as well as the recently released Deluxe Edition\, his uplifting solo album Believe\, and a selection of arias\, his beloved crossover hits\, and famed love songs. \nGet Tickets
URL:https://arizonaseniorguide.com/event/andrea-bocelli-30th-anniversary-in-concert/
LOCATION:Footprint Center\, 201 East Jefferson Street\, Phoenix\, AZ\, 85004
CATEGORIES:Music,Phoenix
ATTACH;FMTTYPE=image/webp:https://arizonaseniorguide.com/wp-content/uploads/2024/08/ANDREA-BOCELLI.webp
END:VEVENT
BEGIN:VEVENT
DTSTART;TZID=America/Phoenix:20241109T200000
DTEND;TZID=America/Phoenix:20241109T220000
DTSTAMP:20260423T001508
CREATED:20240813T191133Z
LAST-MODIFIED:20240813T192337Z
UID:10009530-1731182400-1731189600@arizonaseniorguide.com
SUMMARY:Tom Segura: Come Together
DESCRIPTION:Stand-up comedian Tom Segura is touring with all new material. He is best known for several Netflix Comedy Specials\, and his podcast Your Mom’s House\, \nDoor Time\n7:00 PM \nShow Time\n8:00 PM \nAge Policy\n16+ \nAll General Admission areas are Standing Room Only. Chairs will not be in those areas. \nTom Segura will donate a portion of the proceeds from Platinum ticket sales to the World Central Kitchen non-profit devoted to providing meals in the wake of natural disasters. For more information about World Central Kitchen please visit: https://wck.org/. \n\nGet Tickets
URL:https://arizonaseniorguide.com/event/tom-segura-come-together/
LOCATION:Footprint Center\, 201 East Jefferson Street\, Phoenix\, AZ\, 85004
CATEGORIES:Comedy,Phoenix
ATTACH;FMTTYPE=image/webp:https://arizonaseniorguide.com/wp-content/uploads/2024/08/Tom-Segura-Come-Together-e1723575888646.webp
END:VEVENT
BEGIN:VEVENT
DTSTART;TZID=America/Phoenix:20231130T193000
DTEND;TZID=America/Phoenix:20231130T223000
DTSTAMP:20260423T001508
CREATED:20230920T001639Z
LAST-MODIFIED:20230920T190634Z
UID:10003579-1701372600-1701383400@arizonaseniorguide.com
SUMMARY:Bruce Springsteen and The E Street Band 2023 Tour
DESCRIPTION:  \nBruce Springsteen and the E Street Band are regarded as one of the very best live rock acts of all time. From humble New Jersey beginnings in 1972\, they grew in popularity to become one of the true icons of American music. Hits such as “Born In The USA” and “Dancing In The Dark” cemented Bruce Springsteen as one of America’s top popular rock vocalists. He’s known for being one of the hardest-working acts in the industry\, and concerts can regularly last three hours or more and tours often last years rather than months. \nImportant Event Info: All General Admission areas are Standing Room Only. Chairs will not be in those areas. ALL GUESTS MUST HAVE A TICKET; NO EXCEPTIONS. THIS IS A STRICT NO RE-ENTRY EVENT. FOOTPRINT CENTER IS A NO SMOKING VENUE. FOOTPRINT CENTER IS AN ALL-CASHLESS ENVIRONMENT. Please plan on using Visa\, MC\, AMX or Discover during your visit. CASH WILL NOT BE ACCEPTED. RAIL RIDE EVENT: When you purchase a ticket to a Footprint Center event\, you can ride the VALLEY METRO LIGHT RAIL at no cost for four hours prior to the event through the end of the transit day. MOBILE TICKETING: * All tickets are mobile only and available via the Ticketmaster app or the Footprint Center app. \n\nGet Tickets
URL:https://arizonaseniorguide.com/event/bruce-springsteen-and-the-e-street-band-2023-tour/
LOCATION:Footprint Center\, 201 East Jefferson Street\, Phoenix\, AZ\, 85004
CATEGORIES:Music,Phoenix
ATTACH;FMTTYPE=image/jpeg:https://arizonaseniorguide.com/wp-content/uploads/2023/09/Bruce-Springsteen-and-E-Street-Band.jpg
END:VEVENT
BEGIN:VEVENT
DTSTART;TZID=America/Phoenix:20231125T190000
DTEND;TZID=America/Phoenix:20231125T220000
DTSTAMP:20260423T001508
CREATED:20230919T192542Z
LAST-MODIFIED:20230919T192542Z
UID:10003569-1700938800-1700949600@arizonaseniorguide.com
SUMMARY:Enrique Iglesias\, Pitbull\, Ricky Martin: The Trilogy Tour
DESCRIPTION:Today\, multigenerational global powerhouses Enrique Iglesias\, Ricky Martin\, and Pitbull who are known for their incredible blends and versatility of musical genres\, announce they are joining forces with a one-of-a-kind arena run across North America this fall. For the first time ever\, they will share the stage for The Trilogy Tour featuring three unique headlining sets from each artist. \nFans can expect an unforgettable night of music as the megastars deliver an electrifying mix of their biggest career-spanning hits with influences of reggaeton\, salsa pop\, dance\, and electronic music\, backed by  world-class production and state-of-the-art visuals. \nDoors open at 6:00pm \nImportant Event Info: ALL GUESTS MUST HAVE A TICKET; NO EXCEPTIONS. THIS IS A STRICT NO RE-ENTRY EVENT. FOOTPRINT CENTER IS A NO SMOKING VENUE. FOOTPRINT CENTER IS AN ALL-CASHLESS ENVIRONMENT. Please plan on using Visa\, MC\, AMX or Discover during your visit. CASH WILL NOT BE ACCEPTED. RAIL RIDE EVENT: When you purchase a ticket to a Footprint Center event\, you can ride the VALLEY METRO LIGHT RAIL at no cost for four hours prior to the event through the end of the transit day. MOBILE TICKETING: * All tickets are mobile only and available via the Ticketmaster app or the Footprint Center app. \n\nGet Tickets
URL:https://arizonaseniorguide.com/event/enrique-iglesias-pitbull-ricky-martin-the-trilogy-tour/
LOCATION:Footprint Center\, 201 East Jefferson Street\, Phoenix\, AZ\, 85004
CATEGORIES:Music,Phoenix
ATTACH;FMTTYPE=image/jpeg:https://arizonaseniorguide.com/wp-content/uploads/2023/09/the-trilogy-tour.jpg
END:VEVENT
END:VCALENDAR