BEGIN:VCALENDAR
VERSION:2.0
PRODID:-//Arizona Senior Guide - ECPv6.15.20//NONSGML v1.0//EN
CALSCALE:GREGORIAN
METHOD:PUBLISH
X-ORIGINAL-URL:https://arizonaseniorguide.com
X-WR-CALDESC:Events for Arizona Senior Guide
REFRESH-INTERVAL;VALUE=DURATION:PT1H
X-Robots-Tag:noindex
X-PUBLISHED-TTL:PT1H
BEGIN:VTIMEZONE
TZID:America/Phoenix
BEGIN:STANDARD
TZOFFSETFROM:-0700
TZOFFSETTO:-0700
TZNAME:MST
DTSTART:20230101T000000
END:STANDARD
END:VTIMEZONE
BEGIN:VEVENT
DTSTART;TZID=America/Phoenix:20241214T160000
DTEND;TZID=America/Phoenix:20241214T173000
DTSTAMP:20260422T234151
CREATED:20241029T201453Z
LAST-MODIFIED:20241029T201453Z
UID:10009770-1734192000-1734197400@arizonaseniorguide.com
SUMMARY:Free Flute & Guitar Holiday Concert in Sun Lakes
DESCRIPTION:Long post office lines and jam-packed store aisles can bring out the Grinch in anyone. If the hustle and bustle of the holiday crunch has you on edge\, SoSco Duo’s holiday program is just the peaceful pause you need. The Scottsdale-based duo has prepared a unique hour-long joyful concert of soothing music. \nAbout SoSco Duo\nSince we began playing music together in 2014\, our acoustic duo has evolved into an ensemble unlike any other. While we understand that performers are at various levels of musicianship and all levels can move audiences in a meaningful way\, we take the business of music making very seriously. This is not our hobby. This is our profession and our passion. \nWe have invested our lives\, our time and effort\, into studying\, practicing and performing music. We took private lessons for years\, we got music degrees at some of the finest music schools in the nation with some of the finest teachers\, and we’ve gone on to perform hundreds of times\, honing our craft. We continue to learn and grow and refine ourselves as musicians and ensemble players every day. \nFor us\, using music as a vehicle to connect people to powerful memories and emotions is our work. This is why we do what we do\, and this is why music matters so deeply. \nReserve your tickets today!
URL:https://arizonaseniorguide.com/event/free-flute-guitar-holiday-concert-in-sun-lakes/
LOCATION:First Baptist Church Sun Lakes\, 9535 East Riggs Road\, Sun Lakes\, 85248
CATEGORIES:Free Event,Holiday,Live Music,Phoenix
ATTACH;FMTTYPE=image/jpeg:https://arizonaseniorguide.com/wp-content/uploads/2024/10/Hire-musicians-background-music-Scottsdale-sm.jpg
ORGANIZER;CN="First Baptist Church Sun Lakes":MAILTO:office@fbcsl.org
END:VEVENT
END:VCALENDAR