BEGIN:VCALENDAR
VERSION:2.0
PRODID:-//Arizona Senior Guide - ECPv6.15.20//NONSGML v1.0//EN
CALSCALE:GREGORIAN
METHOD:PUBLISH
X-WR-CALNAME:Arizona Senior Guide
X-ORIGINAL-URL:https://arizonaseniorguide.com
X-WR-CALDESC:Events for Arizona Senior Guide
REFRESH-INTERVAL;VALUE=DURATION:PT1H
X-Robots-Tag:noindex
X-PUBLISHED-TTL:PT1H
BEGIN:VTIMEZONE
TZID:America/Phoenix
BEGIN:STANDARD
TZOFFSETFROM:-0700
TZOFFSETTO:-0700
TZNAME:MST
DTSTART:20240101T000000
END:STANDARD
END:VTIMEZONE
BEGIN:VEVENT
DTSTART;TZID=America/Phoenix:20251130T100000
DTEND;TZID=America/Phoenix:20251130T170000
DTSTAMP:20260423T054837
CREATED:20251030T212521Z
LAST-MODIFIED:20251030T212521Z
UID:10012320-1764496800-1764522000@arizonaseniorguide.com
SUMMARY:Made in Tucson Market
DESCRIPTION:Made in Tucson Market is a street fair which exclusively features artists and makers based in Pima County. Shop for local arts and crafts and meet the creators behind the items. Several local food trucks are part of this event too.
URL:https://arizonaseniorguide.com/event/made-in-tucson-market/
LOCATION:E. 7th Street\, west of 4th Avenue\, 309 E 7th St\, Tucson\, AZ\, 85705
CATEGORIES:art,Fair/Festival,Free Event,Tucson
ATTACH;FMTTYPE=image/webp:https://arizonaseniorguide.com/wp-content/uploads/2025/10/Made-in-Tucson.webp
END:VEVENT
END:VCALENDAR