BEGIN:VCALENDAR
VERSION:2.0
PRODID:-//Arizona Senior Guide - ECPv6.15.20//NONSGML v1.0//EN
CALSCALE:GREGORIAN
METHOD:PUBLISH
X-WR-CALNAME:Arizona Senior Guide
X-ORIGINAL-URL:https://arizonaseniorguide.com
X-WR-CALDESC:Events for Arizona Senior Guide
REFRESH-INTERVAL;VALUE=DURATION:PT1H
X-Robots-Tag:noindex
X-PUBLISHED-TTL:PT1H
BEGIN:VTIMEZONE
TZID:America/Phoenix
BEGIN:STANDARD
TZOFFSETFROM:-0700
TZOFFSETTO:-0700
TZNAME:MST
DTSTART:20240101T000000
END:STANDARD
END:VTIMEZONE
BEGIN:VEVENT
DTSTART;TZID=America/Phoenix:20251019T110000
DTEND;TZID=America/Phoenix:20251019T180000
DTSTAMP:20260423T050147
CREATED:20250818T215927Z
LAST-MODIFIED:20250818T215957Z
UID:10011504-1760871600-1760896800@arizonaseniorguide.com
SUMMARY:2025 Annual Tucson Meet Yourself\, a folklife festival
DESCRIPTION:Food • Music • Dance • Folk Arts • Free!\nFounded in 1974 by folklorist Jim Griffith and his wife\, Loma Griffith\, Tucson Meet Yourself is an annual celebration of the living traditional arts of Southern Arizona’s and Northern Mexico’s diverse ethnic and folk communities. The free\, three-day event features hundreds of artisans\, home cooks\, dancers\, musicians and special exhibits that celebrate and honor beauty in all its diverse\, informal\, and everyday forms. Tucson Meet Yourself happens annually in Downtown Tucson during October. The festival occupies 3 city blocks and Jacomé Plaza\, in front of the Joel D. Valdez Main Library\, 101 N. Stone Ave.\, Tucson AZ 85701 \nTasting foods from around the world is such a big part of this event\, with close to 65 food booths\, representing nearly 30 regions\, that it is locally known as Tucson Eat Yourself. \nFree cold water will be accessible from large blue dispensers\, and handheld fans can be borrowed from the accessibility tent. \nFriday\, October 17 | 11am – 10pm (no performances between 2 and 5pm on Friday\, but plenty of food and folk art)\nSaturday\, October 18 | 11am – 10pm\nSunday\, October 19 | 11 am-6pm \nMore info
URL:https://arizonaseniorguide.com/event/2025-annual-tucson-meet-yourself-a-folklife-festival/2025-10-19/
LOCATION:Downtown Tucson
CATEGORIES:art,Fair/Festival,Free Event,Live Music,Music,Tucson
ATTACH;FMTTYPE=image/webp:https://arizonaseniorguide.com/wp-content/uploads/2025/08/Tucson-Meet-Yourself-2025.webp
END:VEVENT
BEGIN:VEVENT
DTSTART;VALUE=DATE:20250404
DTEND;VALUE=DATE:20250407
DTSTAMP:20260423T050147
CREATED:20240930T233448Z
LAST-MODIFIED:20240930T233448Z
UID:10009749-1743724800-1743983999@arizonaseniorguide.com
SUMMARY:40th Annual Tucson Folk Festival 2025
DESCRIPTION:Since 1986\, more than 300 musicians gather every spring in Downtown Tucson to perform\, swap songs\, and teach at the Tucson Folk Festival. A grassroots and volunteer-driven endeavor at heart\, the event is Arizona’s largest free to the public music festival. The annual celebration features more than 150 performances by local\, regional and national acts on six stages\, a young artist showcase\, and a songwriting competition. \nOur 40th Annual festival takes place on April 4 – 6\, 2025! Thursday night (April 3) features our official festival kick-off party with an acoustic showcase and performer social at a venue TBA. Friday night features our annual Stefan George Memorial Songwriting Competition on the Plaza Stage at Jacome Plaza. The main event continues Saturday and Sunday featuring six stages downtown and more than 150 live performances including National Headliners\, Local and Regional Acts\, Songwriting Competition winners\, Family Show Entertainment\, Young Artist Showcases\, Music Workshops\, Arts and Crafts Exhibitors\, Food Vendors and Beverage Garden! This annual family-friendly festival is held in some of the most historic sections of Tucson. Over 250 volunteers support the success of this free\, accessible festival. \nLearn more
URL:https://arizonaseniorguide.com/event/40th-annual-tucson-folk-festival-2025/
LOCATION:Downtown Tucson
CATEGORIES:Fair/Festival,Free Event,Live Music,Tucson
ATTACH;FMTTYPE=image/webp:https://arizonaseniorguide.com/wp-content/uploads/2024/09/tucson-folk-festival.webp
END:VEVENT
END:VCALENDAR