BEGIN:VCALENDAR
VERSION:2.0
PRODID:-//Arizona Senior Guide - ECPv6.15.20//NONSGML v1.0//EN
CALSCALE:GREGORIAN
METHOD:PUBLISH
X-WR-CALNAME:Arizona Senior Guide
X-ORIGINAL-URL:https://arizonaseniorguide.com
X-WR-CALDESC:Events for Arizona Senior Guide
REFRESH-INTERVAL;VALUE=DURATION:PT1H
X-Robots-Tag:noindex
X-PUBLISHED-TTL:PT1H
BEGIN:VTIMEZONE
TZID:America/Phoenix
BEGIN:STANDARD
TZOFFSETFROM:-0700
TZOFFSETTO:-0700
TZNAME:MST
DTSTART:20240101T000000
END:STANDARD
END:VTIMEZONE
BEGIN:VEVENT
DTSTART;TZID=America/Phoenix:20251003T170000
DTEND;TZID=America/Phoenix:20251003T210000
DTSTAMP:20260423T033332
CREATED:20250906T004903Z
LAST-MODIFIED:20250906T004903Z
UID:10011588-1759510800-1759525200@arizonaseniorguide.com
SUMMARY:Free First Friday Night at the Children's Museum of Phoenix
DESCRIPTION:Bring the grandkids and join us on the first Friday of each month from 5pm to 9pm\, when the Children’s Museum of Phoenix opens to the public free of charge. \nFree First Friday Nights are part of the Museum’s Every Child Program\, which seeks to ensure that all children in our community\, along with their families\, will be able to play and learn at the Museum regardless of their ability to pay. \nOur upcoming Free First Friday Nights for 2025 are scheduled for: \nJune 6th\nJuly 4th\nAugust 1st\nSeptember 5th\nOctober 3rd \nFree First Friday Nights at the Children’s Museum of Phoenix would not be possible without the generous support of the Gila River Indian Community.
URL:https://arizonaseniorguide.com/event/free-first-friday-night-at-the-childrens-museum-of-phoenix/2025-10-03/
LOCATION:Children’s Museum of Phoenix\, 215 N. 7th Street\, Phoenix\, AZ\, 85034
CATEGORIES:Free Event,Phoenix
ATTACH;FMTTYPE=image/webp:https://arizonaseniorguide.com/wp-content/uploads/2025/09/Free-First-Friday-PHX-Childrens-Museum.webp
END:VEVENT
END:VCALENDAR