BEGIN:VCALENDAR
VERSION:2.0
PRODID:-//Arizona Senior Guide - ECPv6.15.20//NONSGML v1.0//EN
CALSCALE:GREGORIAN
METHOD:PUBLISH
X-WR-CALNAME:Arizona Senior Guide
X-ORIGINAL-URL:https://arizonaseniorguide.com
X-WR-CALDESC:Events for Arizona Senior Guide
REFRESH-INTERVAL;VALUE=DURATION:PT1H
X-Robots-Tag:noindex
X-PUBLISHED-TTL:PT1H
BEGIN:VTIMEZONE
TZID:America/Phoenix
BEGIN:STANDARD
TZOFFSETFROM:-0700
TZOFFSETTO:-0700
TZNAME:MST
DTSTART:20220101T000000
END:STANDARD
END:VTIMEZONE
BEGIN:VEVENT
DTSTART;TZID=America/Phoenix:20231208T190000
DTEND;TZID=America/Phoenix:20231208T230000
DTSTAMP:20260424T141650
CREATED:20230920T180832Z
LAST-MODIFIED:20230920T190525Z
UID:10003580-1702062000-1702076400@arizonaseniorguide.com
SUMMARY:Billy Joel and Stevie Nicks: Two Icons One Night
DESCRIPTION:Don’t miss your chance to see Billy Joel and Stevie Nicks perform live in concert on their co-headlining tour\, Two Icons One Night. While they each have their own separate sets\, the two musicians have also performed a couple duets at these shows. \nDoor Time: 5:30 PM \n\nGet Tickets\n\n \n\n\nBilly Joel\nLegendary New York-bred singer-songwriter Billy Joel has toured only sporadically in recent years\, but fans have plenty of opportunities to score tickets to see him in concert going forward — if they’re willing to head out to New York’s Madison Square Garden. Joel signed an open-ended deal with MSG that will have him playing a concert at the venue once per month for as long as there’s demand. And demand has never been a problem for Joel at he historic New York venue; he played his first show there in 1978\, and had logged 46 concerts at the arena by 2013. \nNew York isn’t alone in its love for the singer. Joel has long been established as one of the top-grossing touring artists in the U.S.\, and has sold more than 150 million records over the course his four-decade career. After recording a long string of hits including “Piano Man\,” “New York State of Mind\,” “Just the Way You Are\,” “You May Be Right\,” “Pressure\,” “Uptown Girl\,” “We Didn’t Start the Fire\,” and  “The River of Dreams\,” Joel decided that he was done writing pop and rock songs. It’s a decision he’s stuck with; it’s been more than 20 years since he’s recorded a new pop or rock album. He’s composed new classical material instead\, while continuing to play songs from his catalog in concert. \nStevie Nicks\nBest known as the mysterious and mystical powerhouse lead voice of Fleetwood Mac\, Stevie Nicks is just as much the entrancing chanteuse as a solo songstress. Her latest album\, “In Your Dreams\,” was released in 2011. Her singular sartorial style\, featuring long robes\, lace\, scarves and wild hair\, is as iconic as her sound\, and that\, coupled with long-held rumors of her Wiccan interests\, helped create a remarkably haunting stage presence. Though she tours infrequently and creates new work rarely\, she remains one of the most inspirational women in rock\, with bands like the Dixie Chicks and Destiny’s Child and artists Mary J. Blige and Florence Welch idolizing her inimitable style. \n\n\n\nGet Tickets
URL:https://arizonaseniorguide.com/event/billy-joel-and-stevie-nicks-two-icons-one-night/
LOCATION:Chase Field\, 401 E. Jefferson\, Phoenix\, AZ\, 85004
CATEGORIES:Music,Phoenix
ATTACH;FMTTYPE=image/webp:https://arizonaseniorguide.com/wp-content/uploads/2023/09/billy-joel-stevie-nicks.webp
END:VEVENT
END:VCALENDAR