BEGIN:VCALENDAR
VERSION:2.0
PRODID:-//Arizona Senior Guide - ECPv6.15.20//NONSGML v1.0//EN
CALSCALE:GREGORIAN
METHOD:PUBLISH
X-ORIGINAL-URL:https://arizonaseniorguide.com
X-WR-CALDESC:Events for Arizona Senior Guide
REFRESH-INTERVAL;VALUE=DURATION:PT1H
X-Robots-Tag:noindex
X-PUBLISHED-TTL:PT1H
BEGIN:VTIMEZONE
TZID:America/Phoenix
BEGIN:STANDARD
TZOFFSETFROM:-0700
TZOFFSETTO:-0700
TZNAME:MST
DTSTART:20240101T000000
END:STANDARD
END:VTIMEZONE
BEGIN:VEVENT
DTSTART;TZID=America/Phoenix:20250105T173000
DTEND;TZID=America/Phoenix:20250105T223000
DTSTAMP:20260423T010118
CREATED:20241031T184338Z
LAST-MODIFIED:20241031T184434Z
UID:10009848-1736098200-1736116200@arizonaseniorguide.com
SUMMARY:Tianyu Lights Festival in Phoenix
DESCRIPTION:From October 25th\, 2024\, to January 5th\, 2025\, experience an enchanting night at the Tianyu Lights Festival in Phoenix! Wander through breathtaking luminous art installations and immerse yourself in four captivating themes: Illuminated Forest\, Fairy Tale Wonderland\, Panda-land\, and Ocean World. Indulge in delicious foods and beverages at our Food Court\, and complete your visit with a trip to the Marketplace\, where you’ll find unique\, handcrafted treasures (like Chinese Lanterns\, panda items\, and traditional Chinese crafts.) \nLocation:\nCamelback Ranch-Glendale\,\n10710 W Camelback Rd\, Phoenix\, AZ \nDates:\nOct. 25th\, 2024 – Jan. 5th\, 2025  \n\nWednesday to Sunday\nOPEN on Thanksgiving\, Christmas Eve\, Christmas Day\, New Year’s Eve\, and New Year’s Day\n\nTime:\n5:30 – 10:30PM \nTickets:\nTickets are available for specific dates and entry times\, so please plan your visit accordingly when purchasing. The last entry is at 10 PM\, and ticket holders can stay until the event closes at 10:30 PM. \nOnline Weekday (Sunday\, Wednesday\, Thursday) \n\nGeneral Admission (age 12 and above) – $25\nChild (age 3-11) – $18\nFamily 4 Pack (2 adults and 2 children) – $73\n\nOnline Weekend (Friday & Saturday\, plus other holidays)  \n\nGeneral Admission (age 12 and above) – $28\nChild (age 3-11) – $20\nFamily 4 Pack (2 adults and 2 children) – $82\n\nWalk-up Anytime \n\nGeneral Admission – $35\nChild – $25\n\n* Group Rates: 20% off on groups of 10 and more (if purchased online) \n* Infants under 3 years old are FREE\n\nGet Tickets\n \n\n\nParking\n\n\n\n\n\nParking for the event is $10/car when purchased online in advance with tickets.\nParking can be purchased onsite at $15 with card only.\nWe recommend purchasing your parking online ahead of time.
URL:https://arizonaseniorguide.com/event/tianyu-lights-festival-in-phoenix/2025-01-05/
LOCATION:Camelback Ranch – Glendale\, 10710 W Camelback Rd\, Phoenix\, AZ\, 85037
CATEGORIES:art,Fair/Festival,Phoenix
ATTACH;FMTTYPE=image/webp:https://arizonaseniorguide.com/wp-content/uploads/2024/10/Tianyu-Lights-Festival.webp
END:VEVENT
END:VCALENDAR