BEGIN:VCALENDAR
VERSION:2.0
PRODID:-//Arizona Senior Guide - ECPv6.15.20//NONSGML v1.0//EN
CALSCALE:GREGORIAN
METHOD:PUBLISH
X-WR-CALNAME:Arizona Senior Guide
X-ORIGINAL-URL:https://arizonaseniorguide.com
X-WR-CALDESC:Events for Arizona Senior Guide
REFRESH-INTERVAL;VALUE=DURATION:PT1H
X-Robots-Tag:noindex
X-PUBLISHED-TTL:PT1H
BEGIN:VTIMEZONE
TZID:America/Phoenix
BEGIN:STANDARD
TZOFFSETFROM:-0700
TZOFFSETTO:-0700
TZNAME:MST
DTSTART:20210101T000000
END:STANDARD
END:VTIMEZONE
BEGIN:VEVENT
DTSTART;TZID=America/Phoenix:20220410T100000
DTEND;TZID=America/Phoenix:20220410T220000
DTSTAMP:20260423T062744
CREATED:20220321T232437Z
LAST-MODIFIED:20220322T003900Z
UID:10001911-1649584800-1649628000@arizonaseniorguide.com
SUMMARY:Maricopa County Fair
DESCRIPTION:A traditional fair with: \n\nAmusement Park Rides (not included with admission)\nGames\nCarnival Food\n3 Main Stages with lots of music and other entertainment\nLivestock competitions\n\nAdmission is $8. ($11 Parking not included) \n– Seniors 55 and older may visit the fair for FREE on Wednesday\, April 6th!\n– Wednesday\, Thursday\, and Friday from 10 am- 3 pm admission is FREE for everyone! \nMore info:\nhttps://maricopacountyfair.org/
URL:https://arizonaseniorguide.com/event/maricopa-county-fair/2022-04-10/
LOCATION:AZ Exposition & State Fairgrounds\, 1826 West McDowell Road\, Phoenix\, AZ\, 85007
CATEGORIES:Fair/Festival,Phoenix
ATTACH;FMTTYPE=image/png:https://arizonaseniorguide.com/wp-content/uploads/2022/03/maricopa-county-fair.png
END:VEVENT
END:VCALENDAR