BEGIN:VCALENDAR
VERSION:2.0
PRODID:-//Arizona Senior Guide - ECPv6.15.20//NONSGML v1.0//EN
CALSCALE:GREGORIAN
METHOD:PUBLISH
X-WR-CALNAME:Arizona Senior Guide
X-ORIGINAL-URL:https://arizonaseniorguide.com
X-WR-CALDESC:Events for Arizona Senior Guide
REFRESH-INTERVAL;VALUE=DURATION:PT1H
X-Robots-Tag:noindex
X-PUBLISHED-TTL:PT1H
BEGIN:VTIMEZONE
TZID:America/Phoenix
BEGIN:STANDARD
TZOFFSETFROM:-0700
TZOFFSETTO:-0700
TZNAME:MST
DTSTART:20200101T000000
END:STANDARD
END:VTIMEZONE
BEGIN:VEVENT
DTSTART;TZID=America/Phoenix:20251206T100000
DTEND;TZID=America/Phoenix:20251206T170000
DTSTAMP:20260423T044349
CREATED:20250730T231346Z
LAST-MODIFIED:20250730T231346Z
UID:10011484-1765015200-1765040400@arizonaseniorguide.com
SUMMARY:20th Tucson Tamal & Heritage Festival
DESCRIPTION:Casino Del Sol presents the 20th Tucson Tamal & Heritage Festival\, celebrating the rich tastes\, smells and variation of tamales from the Southwest and Mexico. This unique event provides organizations and individuals with an opportunity to fundraise as Vendors. \nSaturday\, December 6\, 2025 \n10am to 5pm at the AVA Amphitheater \nFREE & open to the public \nThe Festival Features: \n\nTamale contest\nLive local entertainment\nFood vendors\nFood trucks\nArtisan vendors\nFarmers Market vendors\nFun for the entire family!\n\nMore info\, and how to enter the tamale contests.
URL:https://arizonaseniorguide.com/event/20th-tucson-tamal-heritage-festival/
LOCATION:AVA Amphitheater at Casino Del Sol\, 5655 W Valencia Rd.\, Tucson\, AZ\, 85757
CATEGORIES:Fair/Festival,Free Event,Green Valley,Tucson
ATTACH;FMTTYPE=image/jpeg:https://arizonaseniorguide.com/wp-content/uploads/2025/07/tamalfest_20th.jpg
GEO:32.1312887;-111.0868383
X-APPLE-STRUCTURED-LOCATION;VALUE=URI;X-ADDRESS=AVA Amphitheater at Casino Del Sol 5655 W Valencia Rd. Tucson AZ 85757;X-APPLE-RADIUS=500;X-TITLE=5655 W Valencia Rd.:geo:-111.0868383,32.1312887
END:VEVENT
BEGIN:VEVENT
DTSTART;TZID=America/Phoenix:20220422T200000
DTEND;TZID=America/Phoenix:20220422T200000
DTSTAMP:20260423T044349
CREATED:20220314T044712Z
LAST-MODIFIED:20220314T044712Z
UID:10001891-1650657600-1650657600@arizonaseniorguide.com
SUMMARY:Earth\, Wind & Fire\, live in concert (AVA)
DESCRIPTION:Earth\, Wind & Fire are a music institution. 2020 marked a year-long celebration of their 50th anniversary in entertainment that has taken them all around the globe playing sold out concerts. In 2019 their contributions to arts and culture was acknowledged in Washington DC with the prestigious Kennedy Center Honors. The Smithsonian National Portrait Gallery also awarded Earth\, Wind & Fire with its Portrait of a Nation Prize. \nIn 1969\, music legend Maurice White birthed the music force named after the elements from his very own astrological charts. With soul as deep as the plant\, Earth\, Wind & Fire charted a history that will live on forever. \nMore info:https://www.casinodelsol.com/event/earth-wind-fire
URL:https://arizonaseniorguide.com/event/earth-wind-fire-live-in-concert-ava/
LOCATION:AVA Amphitheater at Casino Del Sol\, 5655 W Valencia Rd.\, Tucson\, AZ\, 85757
CATEGORIES:Music,Tucson
ATTACH;FMTTYPE=image/jpeg:https://arizonaseniorguide.com/wp-content/uploads/2022/03/earthwindfire_2021_ava2-e1647233192724.jpg
GEO:32.1312887;-111.0868383
X-APPLE-STRUCTURED-LOCATION;VALUE=URI;X-ADDRESS=AVA Amphitheater at Casino Del Sol 5655 W Valencia Rd. Tucson AZ 85757;X-APPLE-RADIUS=500;X-TITLE=5655 W Valencia Rd.:geo:-111.0868383,32.1312887
END:VEVENT
BEGIN:VEVENT
DTSTART;TZID=America/Phoenix:20211112T193000
DTEND;TZID=America/Phoenix:20211112T193000
DTSTAMP:20260423T044349
CREATED:20211108T170350Z
LAST-MODIFIED:20211108T172504Z
UID:10001690-1636745400-1636745400@arizonaseniorguide.com
SUMMARY:The Beach Boys: 2021 Feel Flows World Tour
DESCRIPTION:Get down to the Casino Del Sol’s AVA Amphitheater to hear the classic pop rock by The Beach Boys! \nYou can capsulize most pop music acts by reciting how many hits they’ve had and how many millions of albums they’ve sold. But these conventional measurements fall short when you’re assessing the impact of The Beach Boys. This band has birthed a torrent of hit singles and sold albums by the tens of millions. But its greater significance lies in the fact that The Beach Boys’ songs have forever changed the musical landscape\, profoundly influencing countless performing artists to follow. Some of their top songs include: Surfin’ Safari\, I Get Around\, Help Me Rhonda\, California Girls\, Grammy nominated Good Vibrations\, and  Kokomo. \nThe band is led by Mike Love\, who\, along with longtime member Bruce Johnston\, musical director Scott Totten\, Brian Eichenberger\, Christian Love\, Tim Bonhomme\, John Cowsill\, Keith Hubacher and Randy Leago\, continue the legacy of the iconic group. Grammy-winning songwriter Bruce Johnston joined The Beach Boys in 1965\, replacing Glenn Campbell\, who filled-in for Brian Wilson\, on vocals/bass\, when he retired from touring. Highly regarded in his field\, Johnston’s vocal work with such legendary artists as Elton John and Pink Floyd firmly established him among rock’s elite artists. \nBuy Tickets \nWith every online ticket purchased for THE BEACH BOYS\, you’ll receive a digital copy of Mike Love’s new album\, 12 SIDES OF SUMMER. You will receive an email with more details about this offer approximately 7 days after your purchase.
URL:https://arizonaseniorguide.com/event/the-beach-boys-2021-feel-flows-world-tour/
LOCATION:AVA Amphitheater at Casino Del Sol\, 5655 W Valencia Rd.\, Tucson\, AZ\, 85757
CATEGORIES:Tucson
ATTACH;FMTTYPE=image/jpeg:https://arizonaseniorguide.com/wp-content/uploads/2021/11/The_Beach_Boys_2021_Feel_Flows_World_Tour.jpg
GEO:32.1312887;-111.0868383
X-APPLE-STRUCTURED-LOCATION;VALUE=URI;X-ADDRESS=AVA Amphitheater at Casino Del Sol 5655 W Valencia Rd. Tucson AZ 85757;X-APPLE-RADIUS=500;X-TITLE=5655 W Valencia Rd.:geo:-111.0868383,32.1312887
END:VEVENT
END:VCALENDAR