BEGIN:VCALENDAR
VERSION:2.0
PRODID:-//Arizona Senior Guide - ECPv6.15.20//NONSGML v1.0//EN
CALSCALE:GREGORIAN
METHOD:PUBLISH
X-WR-CALNAME:Arizona Senior Guide
X-ORIGINAL-URL:https://arizonaseniorguide.com
X-WR-CALDESC:Events for Arizona Senior Guide
REFRESH-INTERVAL;VALUE=DURATION:PT1H
X-Robots-Tag:noindex
X-PUBLISHED-TTL:PT1H
BEGIN:VTIMEZONE
TZID:America/Phoenix
BEGIN:STANDARD
TZOFFSETFROM:-0700
TZOFFSETTO:-0700
TZNAME:MST
DTSTART:20220101T000000
END:STANDARD
END:VTIMEZONE
BEGIN:VEVENT
DTSTART;TZID=America/Phoenix:20231015T070000
DTEND;TZID=America/Phoenix:20231015T140000
DTSTAMP:20260423T033244
CREATED:20230918T000549Z
LAST-MODIFIED:20230918T000549Z
UID:10003255-1697353200-1697378400@arizonaseniorguide.com
SUMMARY:Plant Sale at the Arizona-Sonora Desert Museum
DESCRIPTION:October 14\, 2023 (Members Only)\n7:00 a.m. to 2:00 p.m.\n \nOctober 15\, 2023 (Open to all\, included with admission)\n7:00 a.m. to 2:00 p.m. \nFall is the perfect time to refresh your landscape with new or replacement plants! This year’s Plant Sale will have around 300 types of plants\, including some species never offered here before. We’ll also highlight five special categories of plants that will help you create a garden that goes beyond beautiful. \n\nButterfly Gardening & Milkweed for Monarchs\nHummingbird Gardening\nDesert Tortoise Forage\nDesert Aromatics\nHeritage Food Plants
URL:https://arizonaseniorguide.com/event/plant-sale-at-the-arizona-sonora-desert-museum/2023-10-15/
LOCATION:Arizona-Sonora Desert Museum\, 2021 N. Kinney Rd\, Tucson\, AZ\, 85743
CATEGORIES:Tucson
ATTACH;FMTTYPE=image/png:https://arizonaseniorguide.com/wp-content/uploads/2023/09/desert-museum-plant-sale.png
GEO:32.2445949;-111.1664559
X-APPLE-STRUCTURED-LOCATION;VALUE=URI;X-ADDRESS=Arizona-Sonora Desert Museum 2021 N. Kinney Rd Tucson AZ 85743;X-APPLE-RADIUS=500;X-TITLE=2021 N. Kinney Rd:geo:-111.1664559,32.2445949
END:VEVENT
BEGIN:VEVENT
DTSTART;TZID=America/Phoenix:20230826T170000
DTEND;TZID=America/Phoenix:20230826T210000
DTSTAMP:20260423T033244
CREATED:20230531T185010Z
LAST-MODIFIED:20230531T185536Z
UID:10001953-1693069200-1693083600@arizonaseniorguide.com
SUMMARY:Desert Museum: Cool Summer Nights
DESCRIPTION:Beat the heat and enjoy the Arizona Sonora Desert Museum when it’s cooler this summer. The Desert Museum will stay open until 9pm every Saturday from June 10-August 26 for their Cool Summer Nights events! Each week will have a different theme with live animal encounters\, presentations and activities. Bring your flashlight and explore\, enjoy dinner\, experience a live animal encounter\, let the kids scamper in Packrat Playhouse(6-9pm)\, feel the touch of a stingray\, or participate in special nightly activities. \nPlease note the following closing times: \n\nGardens and aviaries will close at 6:45 p.m.\nDesert Loop Trail will close at 7:00 p.m.\nStingray Touch Exhibit (additional cost of $2/member or $3/non-member). Open from 6-8:30 p.m.\nThe Mountain House Gift Shop (near the entrance) is open until 9:00 p.m.\nThe Ironwood Gift Shop (near the restaurant complex) is open until 8:30 p.m.\nThe Ocotillo Café is open from 5:00 p.m. until 8:00 p.m.\nThe Ironwood Terraces Restaurant is open throughout the day until 8:00 p.m.\nPhoebé’s Coffee Bar is open throughout the day until 9:00 p.m.\n\nWeekly Themes: \n\nJune 17 — Astronomy Night (open till 10:00 p.m. for extra dark skies!)\nJune 24 — The Magic of Monsoons\nJuly 1 — Dino Night\nJuly 8 — Insectopia\nJuly 15 — Majestic Minerals\nJuly 22 — Creatures of the Night\nJuly 29 — 70s Night\nAugust 5 — All About Art\nAugust 12 — Singing with the Saguaros (sing-a-longs)\nAugust 19 — Bat Night\nAugust 26 — Teacher Appreciation Night\n\nRattlesnake Alert: Rattlesnakes are more active as it gets dark. They are important members of our natural environment but if you spot one\, please alert any volunteer or staff member and maintain your distance. Make sure to bring a flashlight and be alert of where you place your hands & feet. Thank you! \nView more details and info here. \nGet tickets
URL:https://arizonaseniorguide.com/event/arizona-sonora-desert-museum-cool-summer-nights/2023-08-26/
LOCATION:Arizona-Sonora Desert Museum\, 2021 N. Kinney Rd\, Tucson\, AZ\, 85743
CATEGORIES:Tucson
ATTACH;FMTTYPE=image/webp:https://arizonaseniorguide.com/wp-content/uploads/2023/05/desert-museum-scaled.webp
GEO:32.2445949;-111.1664559
X-APPLE-STRUCTURED-LOCATION;VALUE=URI;X-ADDRESS=Arizona-Sonora Desert Museum 2021 N. Kinney Rd Tucson AZ 85743;X-APPLE-RADIUS=500;X-TITLE=2021 N. Kinney Rd:geo:-111.1664559,32.2445949
END:VEVENT
END:VCALENDAR