BEGIN:VCALENDAR
VERSION:2.0
PRODID:-//Arizona Senior Guide - ECPv6.15.20//NONSGML v1.0//EN
CALSCALE:GREGORIAN
METHOD:PUBLISH
X-WR-CALNAME:Arizona Senior Guide
X-ORIGINAL-URL:https://arizonaseniorguide.com
X-WR-CALDESC:Events for Arizona Senior Guide
REFRESH-INTERVAL;VALUE=DURATION:PT1H
X-Robots-Tag:noindex
X-PUBLISHED-TTL:PT1H
BEGIN:VTIMEZONE
TZID:America/Phoenix
BEGIN:STANDARD
TZOFFSETFROM:-0700
TZOFFSETTO:-0700
TZNAME:MST
DTSTART:20240101T000000
END:STANDARD
END:VTIMEZONE
BEGIN:VEVENT
DTSTART;TZID=America/Phoenix:20250330T100000
DTEND;TZID=America/Phoenix:20250330T180000
DTSTAMP:20260423T025832
CREATED:20250227T201418Z
LAST-MODIFIED:20250227T201418Z
UID:10010807-1743328800-1743357600@arizonaseniorguide.com
SUMMARY:Arizona Renaissance Festival (in Gold Canyon\, AZ)\, 2025
DESCRIPTION:Whether you are in Phoenix or Tucson\, this 50 acre medieval theme park festival east of Greater Phoenix is worth a trip. Dress the part and travel back in time to experience knights\, wizards\, chivalry\, shows\, jousting tournaments\, fairies\, games & rides\, and over 200 unique artisan shops (handmade crafts\, jewelry\, candles\, swords\, leather goods\, art and more). Be sure to enjoy a feast or grab a BBQ turkey leg while you are there! \nTickets:\n$36.00 for adults\n$24.00 for children 5-12\nChildren ages 4 and under are always FREE \nDiscounts:\nSave $1 on adult/child tickets at Food City and Bashas grocery stores.\nCheck the Bear Essential News for $5 discount on a child’s ticket (age 5-12).
URL:https://arizonaseniorguide.com/event/arizona-renaissance-festival-in-gold-canyon-az-2025/2025-03-30/
LOCATION:Arizona  Renaissance Festival\, 12601 E. US Highway 60\, Gold Canyon\, AZ\, 85118
CATEGORIES:Fair/Festival,Phoenix,Tucson
ATTACH;FMTTYPE=image/jpeg:https://arizonaseniorguide.com/wp-content/uploads/2025/02/2025-Renaissance-Festival.jpg
END:VEVENT
END:VCALENDAR