BEGIN:VCALENDAR
VERSION:2.0
PRODID:-//Arizona Senior Guide - ECPv6.15.20//NONSGML v1.0//EN
CALSCALE:GREGORIAN
METHOD:PUBLISH
X-ORIGINAL-URL:https://arizonaseniorguide.com
X-WR-CALDESC:Events for Arizona Senior Guide
REFRESH-INTERVAL;VALUE=DURATION:PT1H
X-Robots-Tag:noindex
X-PUBLISHED-TTL:PT1H
BEGIN:VTIMEZONE
TZID:America/Phoenix
BEGIN:STANDARD
TZOFFSETFROM:-0700
TZOFFSETTO:-0700
TZNAME:MST
DTSTART:20220101T000000
END:STANDARD
END:VTIMEZONE
BEGIN:VEVENT
DTSTART;TZID=America/Phoenix:20250213T193000
DTEND;TZID=America/Phoenix:20250213T213000
DTSTAMP:20260423T065750
CREATED:20241106T192626Z
LAST-MODIFIED:20241106T192626Z
UID:10009851-1739475000-1739482200@arizonaseniorguide.com
SUMMARY:Brian Regan\, Live at the Arizona Financial Theatre
DESCRIPTION:Critics\, fans and fellow comedians agree: Brian Regan is one of the most respected comedians in the country with Vanity Fair calling Brian\, “The funniest stand-up alive\,” and Entertainment Weekly calling him\, “Your favorite comedian’s favorite comedian.” Having built his 30-plus year career on the strength of his material alone\, Brian’s non-stop theater tour continuously fills the most beautiful venues across North America\, visiting close to 100 cities each year. \n\nGet Tickets
URL:https://arizonaseniorguide.com/event/brian-regan-live-at-the-arizona-financial-theatre/
LOCATION:Arizona Financial Theatre\, 400 West Washington Street\, Phoenix\, AZ\, 85003
CATEGORIES:Comedy,Phoenix
ATTACH;FMTTYPE=image/webp:https://arizonaseniorguide.com/wp-content/uploads/2024/11/brian-reagan.webp
END:VEVENT
BEGIN:VEVENT
DTSTART;TZID=America/Phoenix:20250124T200000
DTEND;TZID=America/Phoenix:20250124T220000
DTSTAMP:20260423T065750
CREATED:20241121T043951Z
LAST-MODIFIED:20241121T043951Z
UID:10010390-1737748800-1737756000@arizonaseniorguide.com
SUMMARY:Sting 3.0 Tour
DESCRIPTION:Gordon Matthew Thomas Sumner\, better known as Sting is the former front man and bassist of The Police who since has had a long and successful solo career. \n\nGet Tickets
URL:https://arizonaseniorguide.com/event/sting-3-tour/
LOCATION:Arizona Financial Theatre\, 400 West Washington Street\, Phoenix\, AZ\, 85003
CATEGORIES:Live Music,Phoenix
ATTACH;FMTTYPE=image/webp:https://arizonaseniorguide.com/wp-content/uploads/2024/11/sting3.webp
END:VEVENT
BEGIN:VEVENT
DTSTART;TZID=America/Phoenix:20241114T200000
DTEND;TZID=America/Phoenix:20241114T220000
DTSTAMP:20260423T065750
CREATED:20240813T204624Z
LAST-MODIFIED:20240813T204712Z
UID:10009533-1731614400-1731621600@arizonaseniorguide.com
SUMMARY:Sarah Silverman: Postmortem
DESCRIPTION:Sarah Silverman is a stand-up comedian and actress known for her sharp\, provocative humor that tackles controversial social issues. She rose to fame with her stand-up and The Sarah Silverman Program\, often pushing boundaries on topics like religion and politics. Beyond comedy\, she’s appeared (and voiced the characters) in various films.   \n\nGet Tickets
URL:https://arizonaseniorguide.com/event/sarah-silverman-postmortem/
LOCATION:Arizona Financial Theatre\, 400 West Washington Street\, Phoenix\, AZ\, 85003
CATEGORIES:Comedy,Phoenix
ATTACH;FMTTYPE=image/jpeg:https://arizonaseniorguide.com/wp-content/uploads/2024/08/Sarah-Silverman-Postmortem.jpg
END:VEVENT
BEGIN:VEVENT
DTSTART;TZID=America/Phoenix:20231231T190000
DTEND;TZID=America/Phoenix:20231231T230000
DTSTAMP:20260423T065750
CREATED:20231005T051040Z
LAST-MODIFIED:20231005T051040Z
UID:10005439-1704049200-1704063600@arizonaseniorguide.com
SUMMARY:John Mulaney in Concert
DESCRIPTION:You won’t get a funnier New Year’s Eve than the one you will enjoy watching John Mulaney live at the Arizona Financial Theatre. \n\nGet Tickets\n \n*Important Event Info: This event will be a phone-free experience. Use of cellphones\, smart watches\, smart accessories\, cameras\, or recording devices will not be permitted in the performance space. \nUpon arrival at the venue\, all phones\, smart watches\, and accessories will be secured in Yondr pouches that will be opened at the end of the event. Guests maintain possession of their phones at all times\, and can access their phones throughout the event at designated Phone Use Areas in the venue. All phones will be re-secured in Yondr pouches before returning to the event space. \nAnyone seen using a phone during the performance will be escorted out of the venue. Guests are encouraged to bring a credit card for purchases inside the venue. We appreciate your cooperation in creating a phone-free viewing experience. \n 
URL:https://arizonaseniorguide.com/event/john-mulaney-in-concert/
LOCATION:Arizona Financial Theatre\, 400 West Washington Street\, Phoenix\, AZ\, 85003
CATEGORIES:Comedy,Phoenix
ATTACH;FMTTYPE=image/jpeg:https://arizonaseniorguide.com/wp-content/uploads/2023/10/mulaney.jpg
END:VEVENT
BEGIN:VEVENT
DTSTART;TZID=America/Phoenix:20231009T200000
DTEND;TZID=America/Phoenix:20231009T220000
DTSTAMP:20260423T065750
CREATED:20230919T212707Z
LAST-MODIFIED:20230920T191158Z
UID:10003576-1696881600-1696888800@arizonaseniorguide.com
SUMMARY:Sting: My Songs 2023
DESCRIPTION:Sting’s My Songs concert is an exuberant and dynamic show featuring his most beloved songs\, written throughout the 17-time Grammy Award winner’s illustrious career both with The Police and as a solo artist. Fans can expect to be taken on a musical journey with timeless hits like ‘Fields of Gold’\, ‘Shape of my Heart’\, ‘Roxanne’\, ‘Englishman In New York\,’ ‘Every Breath You Take\,’ ‘Roxanne\,’ ‘Message In A Bottle’\,  ‘Demolition Man’ and many more. \nOn tour\, Sting will be accompanied by an electric\, rock ensemble. Special Guest Joe Sumner will be appearing at all newly announced performances. \n\nGet Tickets
URL:https://arizonaseniorguide.com/event/sting-my-songs-2023/
LOCATION:Arizona Financial Theatre\, 400 West Washington Street\, Phoenix\, AZ\, 85003
CATEGORIES:Music,Phoenix
ATTACH;FMTTYPE=image/png:https://arizonaseniorguide.com/wp-content/uploads/2023/09/Sting-My-Songs-2023.png
END:VEVENT
END:VCALENDAR