BEGIN:VCALENDAR
VERSION:2.0
PRODID:-//Arizona Senior Guide - ECPv6.15.20//NONSGML v1.0//EN
CALSCALE:GREGORIAN
METHOD:PUBLISH
X-ORIGINAL-URL:https://arizonaseniorguide.com
X-WR-CALDESC:Events for Arizona Senior Guide
REFRESH-INTERVAL;VALUE=DURATION:PT1H
X-Robots-Tag:noindex
X-PUBLISHED-TTL:PT1H
BEGIN:VTIMEZONE
TZID:America/Phoenix
BEGIN:STANDARD
TZOFFSETFROM:-0700
TZOFFSETTO:-0700
TZNAME:MST
DTSTART:20250101T000000
END:STANDARD
END:VTIMEZONE
BEGIN:VEVENT
DTSTART;VALUE=DATE:20260103
DTEND;VALUE=DATE:20260202
DTSTAMP:20260423T045856
CREATED:20251027T174810Z
LAST-MODIFIED:20251027T180205Z
UID:10012292-1767398400-1769990399@arizonaseniorguide.com
SUMMARY:Senior Olympic Festival (SOF)\, 2026
DESCRIPTION:Try competing in The 2026 Senior Olympics Festival in Tucson\, January 3 – February 1\, 2026!\nAges 50+ \nRegistration:\nRegister November 3 – December 26\, 2025 to participate.\nRegister online at ezeereg.com (and search for “SOF” events.) Or register by calling 520-791-4877\, or visiting the Randolf Administration Building (at 920 S. Randolf Way\, Tucson AZ). \nFor more details\, visit the Senior Olympic Festival (Tucson) webpage. \nOpen House: \nTuesday\, December 9\, 2025\, 1-5pm\nWednesday\, December 10\, 2025\, 9am-1pm\nThursday\, December 11\, 2025\, 1-5pm \nLocation: Allen Hall (1710 E Silverlake Tucson\, AZ 85713)\nCome meet your event coordinators (Abraham Montijo\, Albert Campuzano\, April Casey) and other participants. Get more details about your event. Pick up your pre-paid t-shirt ($10) and lapel pins($5) or purchase one on-site. (Supplies limited!)\n*Free Senior Olympic Festival 2026 lapel pins to the first 50 attendees!* \nEvents:\nArchery\nBadminton\nBasketball 3-on3\nBasketball Shoot\nBilliards\nBocce\nBowling\nBridge\nBunco\nChair Volleyball\nCribbage\nDarts\nDisc Golf\nEuchre\nGolf\nHandball\nHorseshoes\nLeisure Walks\nPickleball\nPowerlifting\nRacquetball\nRoad Races (5K & 10K)\nShooting Events (High Power Rifle\, Rim & Center Fire Pistol\, Smallbore Prone Rifle\, Rimfire Sporting Rifle\, and Trap & Skeet)\nShuffleboard\nSlowpitch Softball\nSwimming\nTable Tennis\nTennis\nTexas Hold ‘Em\nTrack and Field\nVolleyball
URL:https://arizonaseniorguide.com/event/senior-olympic-festival-2026/
LOCATION:Allen Hall\, 1710 E Silverlake\, Tucson\, AZ\, 85713
CATEGORIES:Sports,Tucson
ATTACH;FMTTYPE=image/webp:https://arizonaseniorguide.com/wp-content/uploads/2024/10/senior-olympics-festival-2025.webp
END:VEVENT
END:VCALENDAR