BEGIN:VCALENDAR
VERSION:2.0
PRODID:-//Arizona Senior Guide - ECPv6.15.20//NONSGML v1.0//EN
CALSCALE:GREGORIAN
METHOD:PUBLISH
X-WR-CALNAME:Arizona Senior Guide
X-ORIGINAL-URL:https://arizonaseniorguide.com
X-WR-CALDESC:Events for Arizona Senior Guide
REFRESH-INTERVAL;VALUE=DURATION:PT1H
X-Robots-Tag:noindex
X-PUBLISHED-TTL:PT1H
BEGIN:VTIMEZONE
TZID:America/Phoenix
BEGIN:STANDARD
TZOFFSETFROM:-0700
TZOFFSETTO:-0700
TZNAME:MST
DTSTART:20230101T000000
END:STANDARD
END:VTIMEZONE
BEGIN:VEVENT
DTSTART;TZID=America/Phoenix:20250329T190000
DTEND;TZID=America/Phoenix:20250329T200000
DTSTAMP:20260423T023720
CREATED:20241119T005719Z
LAST-MODIFIED:20241119T005719Z
UID:10009881-1743274800-1743278400@arizonaseniorguide.com
SUMMARY:A Tainted Mind: Close Up Magic with Tank
DESCRIPTION:A Magical adventure in the heart of Old Town Scottsdale.\n“A Tainted Mind” is a Mind Altering Adventure \nThis is a magic experience like you’ve never experienced. 55+ minutes of up close and personal magic\, Tank will\, with your help\, and often right in your hands create miracles! No camera tricks\, just real magic from a student of the arts for over 30 years. \nTanks show is a well designed combination of Magic\, Storytelling and Wonder. Enjoy interactive fun and theatrical performance. It’s a good idea to arrive early to ensure you get a good parking spot\, grab a drink and get your seats. \nThis show is THE ultimate Close up\, Intimate Magical Experience! \nTickets at TanksMagic.com \n  \nSaturdays @ Hilton Garden Inn Scottsdale Old Town\nAdventure begins at 6:30pm\, Show starts @ 7pm \n–Do you feel called to join the Journey?– \nHilton Garden Inn Scottsdale Old Town\n7324 E Indian School Rd\, Scottsdale\, AZ 85251
URL:https://arizonaseniorguide.com/event/a-tainted-mind-close-up-magic-with-tank/2025-03-29/
LOCATION:Hilton Garden Inn Scottsdale Old Town\, 7324 E Indian School Rd\, Scottsdale\, AZ\, 85251\, United States
CATEGORIES:Magic,Phoenix
ATTACH;FMTTYPE=image/jpeg:https://arizonaseniorguide.com/wp-content/uploads/2024/11/wide-rope.jpg
ORGANIZER;CN="TanksMagic":MAILTO:Tank@Tanksmagic.com
END:VEVENT
BEGIN:VEVENT
DTSTART;TZID=America/Phoenix:20240727T183000
DTEND;TZID=America/Phoenix:20240727T200000
DTSTAMP:20260423T023720
CREATED:20240624T193947Z
LAST-MODIFIED:20240624T193947Z
UID:10009503-1722105000-1722110400@arizonaseniorguide.com
SUMMARY:Close Up Magic by Tank
DESCRIPTION:A Magical adventure in the heart of Old Town Scottsdale.\n“A Tainted Mind” is a Family Friendly show that runs an hour +\nThis show is THE ultimate Close up\, Intimate Magical Experience! \nEvery Saturday in July\, 2024 @ Hyatt Place Old Town\nJourney begins at 6:30pm\, Show starts @ 7pm\n$39+ \nMore info & tickets
URL:https://arizonaseniorguide.com/event/close-up-magic-by-tank/2024-07-27/
LOCATION:Hyatt Place Old Town\, 7300 E 3rd Ave\, Scottsdale\, AZ\, 85251\, United States
CATEGORIES:Comedy,Magic,Phoenix
ATTACH;FMTTYPE=image/jpeg:https://arizonaseniorguide.com/wp-content/uploads/2024/06/magicposter-v1a-300_dpi-copy-2-e1719257707450.jpg
ORGANIZER;CN="TanksMagic":MAILTO:Tank@Tanksmagic.com
END:VEVENT
END:VCALENDAR