BEGIN:VCALENDAR
VERSION:2.0
PRODID:-//Arizona Senior Guide - ECPv6.15.20//NONSGML v1.0//EN
CALSCALE:GREGORIAN
METHOD:PUBLISH
X-WR-CALNAME:Arizona Senior Guide
X-ORIGINAL-URL:https://arizonaseniorguide.com
X-WR-CALDESC:Events for Arizona Senior Guide
REFRESH-INTERVAL;VALUE=DURATION:PT1H
X-Robots-Tag:noindex
X-PUBLISHED-TTL:PT1H
BEGIN:VTIMEZONE
TZID:America/Phoenix
BEGIN:STANDARD
TZOFFSETFROM:-0700
TZOFFSETTO:-0700
TZNAME:MST
DTSTART:20230101T000000
END:STANDARD
END:VTIMEZONE
BEGIN:VEVENT
DTSTART;TZID=America/Phoenix:20251204T110000
DTEND;TZID=America/Phoenix:20251204T123000
DTSTAMP:20260423T024122
CREATED:20250917T234715Z
LAST-MODIFIED:20250917T234749Z
UID:10012263-1764846000-1764851400@arizonaseniorguide.com
SUMMARY:Phoenix Holiday Luncheon: Jingle Bell Jive
DESCRIPTION:Start your holiday season on a high note with Arizona Opera! Gather your friends for a festive afternoon of fabulous food\, live opera\, and merry surprises. Enjoy a three-course lunch\, sparkling performances\, and more\, all while supporting Arizona Opera’s 2025/26 Season of three staged operas\, as well as the company’s array of education and community programs that reach over 50\,000 students and adults across the state. \nTickets and info
URL:https://arizonaseniorguide.com/event/phoenix-holiday-luncheon-jingle-bell-jive/
LOCATION:Arizona Biltmore Golf Club\, 2400 Biltmore Estates Dr.\, Phoenix\, 85016
CATEGORIES:Holiday,Live Music,Phoenix
ATTACH;FMTTYPE=image/jpeg:https://arizonaseniorguide.com/wp-content/uploads/2025/09/Jingle-Bell-Live-2025.jpg
END:VEVENT
BEGIN:VEVENT
DTSTART;TZID=America/Phoenix:20241205T110000
DTEND;TZID=America/Phoenix:20241205T123000
DTSTAMP:20260423T024122
CREATED:20241029T184935Z
LAST-MODIFIED:20241029T184935Z
UID:10009774-1733396400-1733401800@arizonaseniorguide.com
SUMMARY:Jingle Bell Live: Phoenix Holiday Luncheon
DESCRIPTION:Join us at the iconic Hotel Valley Ho for a delightful cocktail reception\, a sumptuous three-course plated lunch\, and live performances that capture the magic of the season. With enchanting opera surprises\, this festive event promises joy\, music\, and merriment. Don’t miss out on this unforgettable celebration! \nEvent Chair: Jenny Holsman Tetreault | Presenting Sponsor: Billie Jo Herberger
URL:https://arizonaseniorguide.com/event/jingle-bell-live-phoenix-holiday-luncheon/
LOCATION:Hotel Valley Ho\, 6850 E Main St.\, Scottsdale\, 85251
CATEGORIES:Holiday,Phoenix
ATTACH;FMTTYPE=image/png:https://arizonaseniorguide.com/wp-content/uploads/2024/10/SCOTTSDALE-Jingle-Bell-Jive-1.png
END:VEVENT
END:VCALENDAR