BEGIN:VCALENDAR
VERSION:2.0
PRODID:-//Arizona Senior Guide - ECPv6.15.20//NONSGML v1.0//EN
CALSCALE:GREGORIAN
METHOD:PUBLISH
X-WR-CALNAME:Arizona Senior Guide
X-ORIGINAL-URL:https://arizonaseniorguide.com
X-WR-CALDESC:Events for Arizona Senior Guide
REFRESH-INTERVAL;VALUE=DURATION:PT1H
X-Robots-Tag:noindex
X-PUBLISHED-TTL:PT1H
BEGIN:VTIMEZONE
TZID:America/Phoenix
BEGIN:STANDARD
TZOFFSETFROM:-0700
TZOFFSETTO:-0700
TZNAME:MST
DTSTART:20250101T000000
END:STANDARD
END:VTIMEZONE
BEGIN:VEVENT
DTSTART;TZID=America/Phoenix:20260422T090000
DTEND;TZID=America/Phoenix:20260422T130000
DTSTAMP:20260422T171450
CREATED:20240423T201215Z
LAST-MODIFIED:20250908T193406Z
UID:10009321-1776848400-1776862800@arizonaseniorguide.com
SUMMARY:Uptown Farmers' Market (Wednesdays)
DESCRIPTION:Uptown Farmers Market is a food-based market and gathering place dedicated to inspiring and educating home cooks through arizona produce\, handmade foods and handcrafted goods. \nThis Wednesday farmers market is run year-round\, by a very small crew\, in the heart of Phoenix\, which allows us frequent face-to-face connection with our Arizona producers.  This means that we have personally met\, and correspond directly with\, every single local grower\, farmers\, baker\, creator and producer here. \nCurrently Open:\nSaturdays from 7:00 am – 11:00 am (year-round)\nWednesdays from 9:00 am – 1:00 pm (closed for the summer. Reopens in October.) \nUptown Farmers Market is a dedicated gathering space for nearly 200 Local Arizona Producers. \n\nSmoked meats\nHoney\nProduce\nSeafood\nHealth products\nCoffee\nCheese\nSweets\nBreads\nMicrogreens\nPlants\nArtisan Crafts\nand more!\n\nMore info
URL:https://arizonaseniorguide.com/event/uptown-farmers-market-wednesdays/2026-04-22/
LOCATION:Uptown Farmers Market\, 5757 N Central Ave\, Phoenix\, AZ\, 85012
CATEGORIES:Phoenix
ATTACH;FMTTYPE=image/webp:https://arizonaseniorguide.com/wp-content/uploads/2023/09/uptown-farmer-mkt-copy-1-e1695245925865.webp
END:VEVENT
BEGIN:VEVENT
DTSTART;TZID=America/Phoenix:20260422T090000
DTEND;TZID=America/Phoenix:20260422T130000
DTSTAMP:20260422T171450
CREATED:20240919T212919Z
LAST-MODIFIED:20250908T191711Z
UID:10011655-1776848400-1776862800@arizonaseniorguide.com
SUMMARY:Green Valley Village Wednesday Farmers & Artisans Market
DESCRIPTION:Along the I-19 corridor just south of Tucson you will find the Green Valley Village Farmers & Artisans Market\, the area’s longest-running farmers marketplace. Every Wednesday morning\, the market comes alive with a variety of small local food businesses and artisans at the Green Valley Village. This market is reminiscent of the mercados from ages past\, where merchants from the surrounding areas came to town to sell their wares. Come by to pick up fresh vegetables from our local growers. Enjoy a cup of fresh roasted coffee with delicious flaky pastries\, or treat yourself to a tasty lunch! Stroll through the market to find some of the most beautiful and unique handmade artisan goods\, jewelry\, and crafts in the Southwest. \nOPEN EVERY WEDNESDAY\n8AM – 12PM (MAY – SEP)\n9AM – 1PM (OCT – APR ) \nLocated in Green Valley\, AZ right off of the I-19 South Freeway. Take the Esperanza exit\, then head west and turn into the Green Valley Village Shopping Center. The market is accessible and has restrooms on site. \nMore info
URL:https://arizonaseniorguide.com/event/green-valley-village-farmers-artisans-market-2/2026-04-22/
LOCATION:Green Valley Village Shopping Center\, 101 S. La Cañada Dr.\, Green Valley\, AZ\, 85614
CATEGORIES:Free Event,Green Valley,Tucson
ATTACH;FMTTYPE=image/jpeg:https://arizonaseniorguide.com/wp-content/uploads/2023/09/GreenValley_Farmers-Market.jpg
END:VEVENT
BEGIN:VEVENT
DTSTART;TZID=America/Phoenix:20260422T150000
DTEND;TZID=America/Phoenix:20260422T200000
DTSTAMP:20260422T171450
CREATED:20250227T183516Z
LAST-MODIFIED:20250227T183520Z
UID:10005311-1776870000-1776888000@arizonaseniorguide.com
SUMMARY:Pay-What-You-Wish-Wednesdays @ Phoenix Art Museum
DESCRIPTION:Pay-What-You-Wish Wednesdays\, the longest-running community-access program at Phoenix Art Museum\, has welcomed more than 1 million visitors in its 20-year history. By reducing economic barriers\, we ensure that all people have the opportunity to access arts and culture. \n\n\nEvery Wednesday\, 3-9PM\, the Museum offers voluntary donation times for general admission and reduced rates to view special engagement exhibitions. Consider making a donation to support your Museum. \nGeneral admission is free\, but special exhibitions require a ticket (pricing may vary). Buy tickets online\, and skip the line during popular visitor times. \nReserve Tickets \nDonate \nPay-What-You-Wish Wednesdays are made possible by SRP and City of Phoenix. \n  \n\n 
URL:https://arizonaseniorguide.com/event/pay-what-you-wish-wednesdays-phoenix-art-museum-2/2026-04-22/
LOCATION:Phoenix Art Museum\, 1625 North Central Ave.\, Phoenix\, AZ\, 85004
CATEGORIES:art,Free Event,Phoenix
ATTACH;FMTTYPE=image/webp:https://arizonaseniorguide.com/wp-content/uploads/2023/09/pay-what-you-wish-wednesdays-scaled.webp
END:VEVENT
END:VCALENDAR