BEGIN:VCALENDAR
VERSION:2.0
PRODID:-//Arizona Senior Guide - ECPv6.15.20//NONSGML v1.0//EN
CALSCALE:GREGORIAN
METHOD:PUBLISH
X-ORIGINAL-URL:https://arizonaseniorguide.com
X-WR-CALDESC:Events for Arizona Senior Guide
REFRESH-INTERVAL;VALUE=DURATION:PT1H
X-Robots-Tag:noindex
X-PUBLISHED-TTL:PT1H
BEGIN:VTIMEZONE
TZID:America/Phoenix
BEGIN:STANDARD
TZOFFSETFROM:-0700
TZOFFSETTO:-0700
TZNAME:MST
DTSTART:20210101T000000
END:STANDARD
END:VTIMEZONE
BEGIN:VEVENT
DTSTART;TZID=America/Phoenix:20251105T173000
DTEND;TZID=America/Phoenix:20251105T200000
DTSTAMP:20260423T050100
CREATED:20251024T202333Z
LAST-MODIFIED:20251024T202841Z
UID:10012302-1762363800-1762372800@arizonaseniorguide.com
SUMMARY:Shafer Wine Dinner at Hacienda del Sol
DESCRIPTION:Join us at The Grill at Hacienda del Sol Guest Ranch Resort for an exclusive dining affair\, showcasing an array of wines from Napa\, California. Indulge in a delightful six-course plated dinner created by Executive Chef Ramon Delgado with California inspirations paired perfectly with Shafer Wines\, curated by Sommelier David Mills. We look forward sharing the beauty of Napa Valley with you. \nTickets are priced at $275 per person and include a impressive six-course meal paired with distinct wines from Shafer Family Vineyards. With limited seating available\, we encourage you to secure your tickets in advance to avoid missing out on this wine dinner. \nWednesday\, November 5th\n5:30pm Reception | 6pm Dinner \nGet Tickets \n  \nMenu:\nFirst Course \nMonterey Bay Salmon Medallion\nHorseradish-Green Apple Crust | Parsnip Puree | Cider Beurre Blanc\nRed Shoulder Ranch | Chardonnay | 2024 \nSecond Course \nCoffee rubbed Pekin Duck Breast\nAllspice Carrot puree |Charred Heirloom Tomato Demi\nTD-9 | Cabernet Sauvignon | 2023 \nThird Course \nPorcini-Pecan crust Pork Medallion\nFondant Potato | Squash Leaves | Fig pan Jus\nOne Point Five | Cabernet Sauvignon | 2023 \nFourth Course \nShort Rib Lamb Torchon\nFarrotto | Asparagus tips |Rosemary braising stock reduction\nRelentless | Syrah-Petite Syrah Blend | 2022 \nFifth Course \nMesquite Ember charred Culotte loin\nCaramelized Wild Mushroom | Maître d’hôtel Butter\nHillside Select | Cabernet Sauvignon | 2021 \nSixth Course \nCherry Sangria Sorbet\nCitrus | warming spices\nWarm Mezcal Hibiscus Cherry Tea
URL:https://arizonaseniorguide.com/event/shafer-wine-dinner-at-hacienda-del-sol/
LOCATION:Hacienda Del Sol Guest Ranch Resort\, 5501 N. Hacienda Del Sol Rd\, Tucson\, AZ\, 85718
CATEGORIES:Tucson
ATTACH;FMTTYPE=image/webp:https://arizonaseniorguide.com/wp-content/uploads/2025/10/iStock-615736640-wine-grapes-winery.webp
END:VEVENT
BEGIN:VEVENT
DTSTART;TZID=America/Phoenix:20231015T170000
DTEND;TZID=America/Phoenix:20231015T200000
DTSTAMP:20260423T050100
CREATED:20230828T234050Z
LAST-MODIFIED:20230828T234212Z
UID:10002302-1697389200-1697400000@arizonaseniorguide.com
SUMMARY:Zin\, Blues & BBQ at Hacienda del Sol guest Ranch Resort
DESCRIPTION:Enjoy a mouth-watering gourmet BBQ menu\, live blues music\, and over 24 varieties of Zinfandel wine from local distributors! \nPrice:\n$90 per adult: Buffet & Wine (Includes unlimited tastings)\n$70 per adult: Buffet Only \nMore info and tickets
URL:https://arizonaseniorguide.com/event/zin-blues-bbq-at-hacienda-del-sol-guest-ranch-resort/
LOCATION:Hacienda Del Sol Guest Ranch Resort\, 5501 N. Hacienda Del Sol Rd\, Tucson\, AZ\, 85718
CATEGORIES:Music,Tucson
ATTACH;FMTTYPE=image/webp:https://arizonaseniorguide.com/wp-content/uploads/2023/08/zinbluesbbq.webp
END:VEVENT
BEGIN:VEVENT
DTSTART;TZID=America/Phoenix:20220507T180000
DTEND;TZID=America/Phoenix:20220507T180000
DTSTAMP:20260423T050100
CREATED:20220322T001140Z
LAST-MODIFIED:20220322T001204Z
UID:10001913-1651946400-1651946400@arizonaseniorguide.com
SUMMARY:Uncorked Arizona Wine Festival
DESCRIPTION:Join us for the Uncorked: AZ Wine Fest featuring more than 100 wines from across the globe\, favorite local food trucks\, live DJ\, and more! \nThere are two ticket options for this event. Early admission ($75) is at 6pm and features an extra hour of tasting with smaller capacity\, and special pours form select wineries during that first hour. General admission ($60) is at 7pm and the event ends at 10pm. Tickets include all wine tasting with food sold separately. \nBring your thirst and your friends\, and join us for the 4th annual Uncorked: AZ Wine Festival! Cheers! \nThis event is 21 and over only. You must provide a valid ID for entry. \nThis event benefits local nonprofit the AZ Small Dog Rescue which helps shelter small dogs who have been abandoned\, neglected\, abused\, or are unwanted in a fully licensed no-kill facility. \nMore info:\nhttps://uncorkedwinefestivals.com/uncorked-arizona-wine-festival/
URL:https://arizonaseniorguide.com/event/uncorked-arizona-wine-festival/
LOCATION:Salt River Fields at Talking Stick\, 7555 N Pima Rd\, Scottsdale\, AZ\, 85258
CATEGORIES:Fair/Festival,Phoenix
ATTACH;FMTTYPE=image/png:https://arizonaseniorguide.com/wp-content/uploads/2022/03/uncorked-az-wine-festival.png
END:VEVENT
BEGIN:VEVENT
DTSTART;TZID=America/Phoenix:20220423T160000
DTEND;TZID=America/Phoenix:20220423T220000
DTSTAMP:20260423T050100
CREATED:20220321T233114Z
LAST-MODIFIED:20220321T233114Z
UID:10001912-1650729600-1650751200@arizonaseniorguide.com
SUMMARY:7th Annual Sangria\, Craft Beer and Food Truck Festival
DESCRIPTION:7th Annual AZ Sangria\, Craft Beer\, and Food Truck Festival \n\n$10 general admission ticket\n$40 for an all inclusive drink ticket (includes unlimited tastings of Sangrias\, Craft Beer\, and Mexican Lagers) $45 at the door.\nOver 20 unique Food Trucks (including ones with Latin flare)\nGreat live entertainment\nPet friendly\nFun shopping vendors\n\nMore info:\nhttps://limelight.bammtickets.com/
URL:https://arizonaseniorguide.com/event/7th-annual-sangria-craft-beer-and-food-truck-festival/
LOCATION:Riverview Park\, 2100 W. Rio Salado Parkway\, Mesa\, AZ\, 85201
CATEGORIES:Fair/Festival,Phoenix
ATTACH;FMTTYPE=image/png:https://arizonaseniorguide.com/wp-content/uploads/2022/03/320_661330_LimelightEntertainment-e1647905427851.png
END:VEVENT
BEGIN:VEVENT
DTSTART;TZID=America/Phoenix:20220219T110000
DTEND;TZID=America/Phoenix:20220219T180000
DTSTAMP:20260423T050100
CREATED:20220216T171744Z
LAST-MODIFIED:20220216T171744Z
UID:10001842-1645268400-1645293600@arizonaseniorguide.com
SUMMARY:Off the Vine Arizona Wine Festival
DESCRIPTION:The Arizona Wine Growers Association will be hosting the 8th Annual Off the Vine Arizona Wine Festival at the historic Steam Pump Ranch in Oro Valley\, Arizona. 20+ of Arizona’s finest wineries will be in attendance\, pouring their award-winning wines. Early bird online tickets are $30 and includes a commemorative wine glass with eight wine tasting tickets\, or $35 at the door. Non Wine Drinkers\, Designated Drivers\, and Kids are welcome to this event at no charge. Come on in and enjoy the day. \nThis year’s festival will feature exclusive tastings from 20+ of Arizona’s finest wineries\, live music and local fare from a variety of Arizona eateries\, all set amongst the historic Steam Pump Ranch and its iconic 1800’s ranch house. This is a great opportunity for everyone from wine novices to connoisseurs to taste local wines that are receiving accolades in statewide\, national and international competitions. \nPlease note that masks are not required for this event and are up to the discretion of each participant. This is a rain or shine event. Tickets are not refundable. \nTickets available here.
URL:https://arizonaseniorguide.com/event/off-the-vine-arizona-wine-festival/
LOCATION:Steam Pump Ranch\, 10901 N. Oracle Rd.\, Oro Valley\, AZ\, 85737
CATEGORIES:Fair/Festival,Tucson
ATTACH;FMTTYPE=image/png:https://arizonaseniorguide.com/wp-content/uploads/2022/02/off-the-vine-e1645031850833.png
END:VEVENT
END:VCALENDAR