BEGIN:VCALENDAR
VERSION:2.0
PRODID:-//Arizona Senior Guide - ECPv6.15.20//NONSGML v1.0//EN
CALSCALE:GREGORIAN
METHOD:PUBLISH
X-ORIGINAL-URL:https://arizonaseniorguide.com
X-WR-CALDESC:Events for Arizona Senior Guide
REFRESH-INTERVAL;VALUE=DURATION:PT1H
X-Robots-Tag:noindex
X-PUBLISHED-TTL:PT1H
BEGIN:VTIMEZONE
TZID:America/Phoenix
BEGIN:STANDARD
TZOFFSETFROM:-0700
TZOFFSETTO:-0700
TZNAME:MST
DTSTART:20220101T000000
END:STANDARD
END:VTIMEZONE
BEGIN:VEVENT
DTSTART;TZID=America/Phoenix:20260407T120000
DTEND;TZID=America/Phoenix:20260407T130000
DTSTAMP:20260423T001540
CREATED:20230905T051950Z
LAST-MODIFIED:20240826T203604Z
UID:10002660-1775563200-1775566800@arizonaseniorguide.com
SUMMARY:Free Tour of the Historic Fox Theatre
DESCRIPTION:We love to show off our beautiful\, historic theatre and share the many\, remarkable stories it embodies! Join us on one of our monthly\, free public tours. Join us at 12:00 noon on the first Tuesday of each month (except no tour in July) in the theatre’s entryway. \nDonations are welcome to help our non-profit keep the history alive. \nPlease note: this tour involves climbing many stairs. \nInterested in setting up a private tour? If you are part of a group of ten to twenty-five people that would want a tour\, contact Jordan Wiley-Hill at jordan@foxtucson.com. \n 
URL:https://arizonaseniorguide.com/event/free-tour-of-the-historic-fox-theatre/2026-04-07/
LOCATION:Fox Tucson Theatre\, 17 West Congress Street\, Tucson\, AZ\, 85701
CATEGORIES:Free Event,Tucson
ATTACH;FMTTYPE=image/png:https://arizonaseniorguide.com/wp-content/uploads/2021/08/fox-theatre-tucson.png
GEO:32.2220224;-110.9716152
X-APPLE-STRUCTURED-LOCATION;VALUE=URI;X-ADDRESS=Fox Tucson Theatre 17 West Congress Street Tucson AZ 85701;X-APPLE-RADIUS=500;X-TITLE=17 West Congress Street:geo:-110.9716152,32.2220224
END:VEVENT
BEGIN:VEVENT
DTSTART;TZID=America/Phoenix:20230923T173000
DTEND;TZID=America/Phoenix:20230923T193000
DTSTAMP:20260423T001540
CREATED:20230815T212220Z
LAST-MODIFIED:20230815T212220Z
UID:10001986-1695490200-1695497400@arizonaseniorguide.com
SUMMARY:The Downtown Public Art and Murals Walking Tour
DESCRIPTION:Presidio Museum Tour Guide Dorothy Yanez will lead a tour of public art and murals throughout downtown Tucson. The 2-mile tour begins at the Presidio Museum\, winds through the historic neighborhood and downtown\, ending south of Congress Street. Along the way\, learn about the artist and public art work of several murals and public art pieces. \nPre-registration is required. \nAugust 26 Registration HERE.\nSeptember 23 Registration HERE.
URL:https://arizonaseniorguide.com/event/the-downtown-public-art-and-murals-walking-tour/2023-09-23/
LOCATION:Presidio San Agustín del Tucson Museum\, 196 N. Court Ave.\, Tucson\, AZ\, 85701
CATEGORIES:Tucson
ATTACH;FMTTYPE=image/jpeg:https://arizonaseniorguide.com/wp-content/uploads/2023/08/IMG_1639-1024x768-1.jpg
END:VEVENT
END:VCALENDAR