BEGIN:VCALENDAR
VERSION:2.0
PRODID:-//Arizona Senior Guide - ECPv6.15.20//NONSGML v1.0//EN
CALSCALE:GREGORIAN
METHOD:PUBLISH
X-WR-CALNAME:Arizona Senior Guide
X-ORIGINAL-URL:https://arizonaseniorguide.com
X-WR-CALDESC:Events for Arizona Senior Guide
REFRESH-INTERVAL;VALUE=DURATION:PT1H
X-Robots-Tag:noindex
X-PUBLISHED-TTL:PT1H
BEGIN:VTIMEZONE
TZID:America/Phoenix
BEGIN:STANDARD
TZOFFSETFROM:-0700
TZOFFSETTO:-0700
TZNAME:MST
DTSTART:20250101T000000
END:STANDARD
END:VTIMEZONE
BEGIN:VEVENT
DTSTART;TZID=America/Phoenix:20260505T120000
DTEND;TZID=America/Phoenix:20260505T130000
DTSTAMP:20260422T222533
CREATED:20230905T051950Z
LAST-MODIFIED:20240826T203604Z
UID:10002661-1777982400-1777986000@arizonaseniorguide.com
SUMMARY:Free Tour of the Historic Fox Theatre
DESCRIPTION:We love to show off our beautiful\, historic theatre and share the many\, remarkable stories it embodies! Join us on one of our monthly\, free public tours. Join us at 12:00 noon on the first Tuesday of each month (except no tour in July) in the theatre’s entryway. \nDonations are welcome to help our non-profit keep the history alive. \nPlease note: this tour involves climbing many stairs. \nInterested in setting up a private tour? If you are part of a group of ten to twenty-five people that would want a tour\, contact Jordan Wiley-Hill at jordan@foxtucson.com. \n 
URL:https://arizonaseniorguide.com/event/free-tour-of-the-historic-fox-theatre/2026-05-05/
LOCATION:Fox Tucson Theatre\, 17 West Congress Street\, Tucson\, AZ\, 85701
CATEGORIES:Free Event,Tucson
ATTACH;FMTTYPE=image/png:https://arizonaseniorguide.com/wp-content/uploads/2021/08/fox-theatre-tucson.png
GEO:32.2220224;-110.9716152
X-APPLE-STRUCTURED-LOCATION;VALUE=URI;X-ADDRESS=Fox Tucson Theatre 17 West Congress Street Tucson AZ 85701;X-APPLE-RADIUS=500;X-TITLE=17 West Congress Street:geo:-110.9716152,32.2220224
END:VEVENT
END:VCALENDAR