BEGIN:VCALENDAR
VERSION:2.0
PRODID:-//Arizona Senior Guide - ECPv6.15.20//NONSGML v1.0//EN
CALSCALE:GREGORIAN
METHOD:PUBLISH
X-ORIGINAL-URL:https://arizonaseniorguide.com
X-WR-CALDESC:Events for Arizona Senior Guide
REFRESH-INTERVAL;VALUE=DURATION:PT1H
X-Robots-Tag:noindex
X-PUBLISHED-TTL:PT1H
BEGIN:VTIMEZONE
TZID:America/Phoenix
BEGIN:STANDARD
TZOFFSETFROM:-0700
TZOFFSETTO:-0700
TZNAME:MST
DTSTART:20230101T000000
END:STANDARD
END:VTIMEZONE
BEGIN:VEVENT
DTSTART;VALUE=DATE:20251111
DTEND;VALUE=DATE:20251112
DTSTAMP:20260423T025541
CREATED:20240926T235811Z
LAST-MODIFIED:20250916T202043Z
UID:10009660-1762819200-1762905599@arizonaseniorguide.com
SUMMARY:Free Entrance Day to National Parks
DESCRIPTION:Enjoy free admission to National Parks on November 11\, 2025 for Veterans’ Day. \nThese fee-free days provide a great opportunity to visit a new place or an old favorite\, especially one of the national parks that normally charge an entrance fee. The entrance fee waiver for fee-free days does not cover amenity or user fees for activities such as camping\, boat launches\, transportation\, or special tours. \nPlease check with each park for operating hours and event schedules. \nMore info \nIn Tucson\, you can visit Saguaro National Park (East or West) free of charge. \nFrom Phoenix\, Tonto National Monument\, Montezuma Castle National Monument and Saguaro National Park are within 3 hours drive. \nParticipating Arizona National Parks: \n\nGlen Canyon\, Glen Canyon National Recreation Area\, AZ\,UT\nGrand Canyon\, Grand Canyon\, AZ\nLake Mead\, the Mojave Desert\, AZ\,NV\nMontezuma Castle\, Camp Verde\, AZ\nOrgan Pipe Cactus\, Ajo\, AZ\nPetrified Forest\, Petrified Forest National Park\, AZ\nPipe Spring\, Fredonia\, AZ\nSaguaro\,\, Tucson\, AZ\nSunset Crater Volcano\, Flagstaff\, AZ\nTonto\, Roosevelt\, AZ\nTumacácori\, Tumacácori\, AZ\nTuzigoot\, Clarkdale\, AZ\nWalnut Canyon\, Flagstaff\, AZ\nWupatki\, Flagstaff\, AZ\n\n 
URL:https://arizonaseniorguide.com/event/free-entrance-day-to-national-parks-veterans-day/
LOCATION:Saguaro National Park (East)\, 2700 N. Kinney Road\, Tucson\, Arizona 85743\, Tucson\, AZ\, 85743
CATEGORIES:Free Event,Green Valley,Phoenix,Prescott,Saddlebrook,Tucson,Wilcox
ATTACH;FMTTYPE=image/webp:https://arizonaseniorguide.com/wp-content/uploads/2023/08/saguaro-national-monument.webp
END:VEVENT
BEGIN:VEVENT
DTSTART;TZID=America/Phoenix:20241110T123000
DTEND;TZID=America/Phoenix:20241110T150000
DTSTAMP:20260423T025541
CREATED:20240927T192200Z
LAST-MODIFIED:20240928T003647Z
UID:10009712-1731241800-1731250800@arizonaseniorguide.com
SUMMARY:Rockin' 4 Heroes Concert
DESCRIPTION:Awesome music\, excellent atmosphere\, and tasty food and drinks! \nJoin us for a FREE Rockin’ celebration to honor our heroes – First Responders\, Active Military\, Veterans and Gold Star families. \nBring your friends\, family\, and neighbors and join us for an afternoon of high-energy music and celebration as we come together to thank those who serve and protect us. \nRockin’ 4 Heroes is unique: there is no other public event that honors all 4 of these hero groups in one setting. It pulls communities together in a meaningful and fun public display of gratitude and respect. \nThere is NO CHARGE for admission\, but there are many opportunities to support the event and our heroes through corporate sponsorships\, private donations\, raffle ticket purchases\, and beer and wine purchases. Plus\, you can support our local businesses by enjoying the wide variety of food options available from participating Food Trucks. \nDance…eat…drink…mingle…and show your appreciation to our heroes! \nGates open 12:30 PM – Music starts at 1:00 PM\nFeaturing the Lexington Lab Band (Kentucky musicians covering classic rock\, pop and country)\nOpening Music by the Mark Miller Band (Country musicians from Tucson\, AZ) \nAlso\, check out the many static displays by our Hero groups\, the exciting auction items available to bid on\, and the cool Rockin’ 4 Heroes merchandise available for purchase this year! Pick up some 50/50 tickets and win CASH in our 50/50 Raffle. \nRockin’ 4 Heroes features open lawn seating\, so bring your own chair or blanket and enjoy a beautiful fall afternoon in the park. No coolers allowed but water bottles are OK. \nRegister to save your spot! \nRockin’ 4 Heroes admission tickets are free\, but we ask everyone to register for their e-tickets as it helps us ensure there is sufficient food\, drinks\, space\, and services to accommodate all who attend. Click the link above to get your free tickets and stay up to date with the latest details about this year’s event. \nSee you there\, Rockers!
URL:https://arizonaseniorguide.com/event/rockin-4-heroes/
LOCATION:James D Kriegh Park\, 23 W. Calle Concordia\, Oro Valley\, AZ\, 85704
CATEGORIES:Free Event,Live Music,Oro Valley,Tucson
ATTACH;FMTTYPE=image/png:https://arizonaseniorguide.com/wp-content/uploads/2024/09/R4H-Logo-color.png
END:VEVENT
END:VCALENDAR