BEGIN:VCALENDAR
VERSION:2.0
PRODID:-//Arizona Senior Guide - ECPv6.15.20//NONSGML v1.0//EN
CALSCALE:GREGORIAN
METHOD:PUBLISH
X-ORIGINAL-URL:https://arizonaseniorguide.com
X-WR-CALDESC:Events for Arizona Senior Guide
REFRESH-INTERVAL;VALUE=DURATION:PT1H
X-Robots-Tag:noindex
X-PUBLISHED-TTL:PT1H
BEGIN:VTIMEZONE
TZID:America/Phoenix
BEGIN:STANDARD
TZOFFSETFROM:-0700
TZOFFSETTO:-0700
TZNAME:MST
DTSTART:20220101T000000
END:STANDARD
END:VTIMEZONE
BEGIN:VEVENT
DTSTART;TZID=America/Phoenix:20251208T190000
DTEND;TZID=America/Phoenix:20251208T210000
DTSTAMP:20260423T011321
CREATED:20251208T033919Z
LAST-MODIFIED:20251208T033951Z
UID:10012328-1765220400-1765227600@arizonaseniorguide.com
SUMMARY:Tina Tina and the Motown Blossoms
DESCRIPTION:Tina Tina and the Motown Blossoms \nGet ready to sing\, dance\, and relive the magic at Sunland Village (55+ Community). \nTina Tina & The Motown Blossoms bring the legendary hits of Tina Turner and Motown’s greatest artists to the stage with powerhouse vocals\, dazzling energy\, and unforgettable performances that will have every generation on their feet all night long!
URL:https://arizonaseniorguide.com/event/tina-tina-and-the-motown-blossoms/
LOCATION:Sunland Village 55+ Community\, 4601 E. Dolphin Ave.\, Mesa\, AZ\, 85206
CATEGORIES:Live Music,Phoenix
ATTACH;FMTTYPE=image/png:https://arizonaseniorguide.com/wp-content/uploads/2025/12/Screenshot-2025-12-05-202047.png
END:VEVENT
BEGIN:VEVENT
DTSTART;TZID=America/Phoenix:20250502T193000
DTEND;TZID=America/Phoenix:20250502T210000
DTSTAMP:20260423T011321
CREATED:20250428T173312Z
LAST-MODIFIED:20250428T173932Z
UID:10010920-1746214200-1746219600@arizonaseniorguide.com
SUMMARY:Legends of Pop
DESCRIPTION:Don’t gamble on Las Vegas—this electrifying show is right here\, right now! Celebrate three music legends Elton John\, Martina McBride and Tina Turner\, with a powerhouse 15-member cast\, live musicians\, and all-live vocals that will have you dancing. \nSing along to iconic hits like Proud Mary\, Simply the Best\, Bennie and the Jets\, Rocket Man\, Independence Day\, and more! \nMore info and buy tickets ($20)
URL:https://arizonaseniorguide.com/event/legends-of-pop/
LOCATION:Chandler Center for the Arts\, 250 North Arizona Avenue\, Chandler\, 85225
CATEGORIES:Live Music,Phoenix
ATTACH;FMTTYPE=image/jpeg:https://arizonaseniorguide.com/wp-content/uploads/2025/04/Big-Pop-Productions-April-Email-1-1-e1745861652889.jpg
END:VEVENT
BEGIN:VEVENT
DTSTART;TZID=America/Phoenix:20250502T193000
DTEND;TZID=America/Phoenix:20250502T210000
DTSTAMP:20260423T011321
CREATED:20250319T235857Z
LAST-MODIFIED:20250319T235857Z
UID:10010838-1746214200-1746219600@arizonaseniorguide.com
SUMMARY:Legends of Pop (Elton John\, Martina McBride & Tina Turner)
DESCRIPTION:Don’t gamble on Las Vegas—this electrifying show is right here\, right now! Celebrate three music legends Elton John\, Martina McBride and Tina Turner\, with a powerhouse 15-member cast\, live musicians\, and all-live vocals that will have you dancing. \nSing along to iconic hits like Proud Mary\, Simply the Best\, Bennie and the Jets\, Rocket Man\, Independence Day\, and more!
URL:https://arizonaseniorguide.com/event/legends-of-pop-elton-john-martina-mcbride-tina-turner/
LOCATION:Chandler Center for the Arts\, 250 North Arizona Avenue\, Chandler\, 85225
CATEGORIES:Live Music,Music,Phoenix
ATTACH;FMTTYPE=image/png:https://arizonaseniorguide.com/wp-content/uploads/2025/03/Screenshot-2025-03-18-154252.png
END:VEVENT
BEGIN:VEVENT
DTSTART;TZID=America/Phoenix:20241022T200000
DTEND;TZID=America/Phoenix:20241022T230000
DTSTAMP:20260423T011321
CREATED:20240813T005150Z
LAST-MODIFIED:20240813T005150Z
UID:10009528-1729627200-1729638000@arizonaseniorguide.com
SUMMARY:The Black Jacket Symphony Presents: Elton John's Madman Across The Water
DESCRIPTION:The Black Jacket Symphony Presents:\nElton Johns Madman Across The Water\nStraight out of Alabama to your stage\, get ready to hear all your favorites as you have never heard them before and catch Black Jacket Symphony live! From Mozart and The Beatles\, to Pink Floyd\, Prince and Michael Jackson\, the Black Jacket Symphony perform your favorite classic albums — note for note and sound for sound — in a live setting. This concert\, they will present Elton John’s album\, Madman Across the Water. Making their debut in 2009 performing to a hyped audience at WorkPlay in Birmingham\, the Black Jacket Symphony have since sold out venues and halls with thousands of screaming fans. May through September 2022 is packed with concerts\, and the Black Jacket Symphony is set to rock the hearts of fans of classic rock music across the nation. \nThe group of hand-picked\, black jacket-adorning musicians changes based on the album being performed\, and no sonic detail is overlooked\, with the musicians doing whatever it takes to reproduce the album\, but give it an intriguing new take. It’s always a full night of electrifying rock and roll magic when the Black Jacket Symphony come to town. Yearning for a visual experience unlike any other\, fans from all over the country flock to their shows\, and once you see one\, you won’t miss another! Get your tickets today. \nFounded in 2009 by guitarist J. Willoughby and his partner and technical director Jason Rogoff\, the Black Jacket Symphony comprises several groups of musicians dedicated to recreating a specific classic album. Though their live shows are built around performing covers of classic rock albums\, in an interview with The Daily Times\, Willoughby says that the Black Jacket Symphony is not a tribute band. Willoughby noted that the difference is that the Black Jacket Symphony is all about the music they’re playing and not about the musicians themselves. Various Black Jacket Symphony ensembles have recreated an estimated 38 classic albums over the course of their careers. \nImportant Event Info: Doors 7PM | Show 8PM | Reserved Seating | All Ages – 6 & Over\n\nGet Tickets
URL:https://arizonaseniorguide.com/event/the-black-jacket-symphony-presents-elton-johns-madman-across-the-water/
LOCATION:Rialto Theatre\, 318 E. Congress St.\, Tucson\, AZ\, 85701
CATEGORIES:Music,Tucson
ATTACH;FMTTYPE=image/webp:https://arizonaseniorguide.com/wp-content/uploads/2024/08/black-jacket-symphony-elton-john.webp
END:VEVENT
BEGIN:VEVENT
DTSTART;TZID=America/Phoenix:20240820T193000
DTEND;TZID=America/Phoenix:20240820T220000
DTSTAMP:20260423T011321
CREATED:20240521T003610Z
LAST-MODIFIED:20240521T003610Z
UID:10009483-1724182200-1724191200@arizonaseniorguide.com
SUMMARY:The Australian Pink Floyd Show
DESCRIPTION:Selling over 4 million tickets worldwide and described by The Times as “The Gold Standard” and The Daily Mirror as “The Kings of the Genre”\, The Australian Pink Floyd Show gave its first ever concert in Adelaide\, Australia in 1988. Since then\, they have performed in over 35 countries worldwide; played at David Gilmour’s 50th birthday celebration and were even joined on stage by David & Rick Wright. TAPFS is the leading show of its kind in the world. \n\nGet Tickets
URL:https://arizonaseniorguide.com/event/the-australian-pink-floyd-show/
LOCATION:Fox Tucson Theatre\, 17 West Congress Street\, Tucson\, AZ\, 85701
CATEGORIES:Music,Tucson
ATTACH;FMTTYPE=image/jpeg:https://arizonaseniorguide.com/wp-content/uploads/2024/05/Aussie-Pink-Floyd.jpg
GEO:32.2220224;-110.9716152
X-APPLE-STRUCTURED-LOCATION;VALUE=URI;X-ADDRESS=Fox Tucson Theatre 17 West Congress Street Tucson AZ 85701;X-APPLE-RADIUS=500;X-TITLE=17 West Congress Street:geo:-110.9716152,32.2220224
END:VEVENT
BEGIN:VEVENT
DTSTART;TZID=America/Phoenix:20240802T193000
DTEND;TZID=America/Phoenix:20240802T220000
DTSTAMP:20260423T011321
CREATED:20240521T003021Z
LAST-MODIFIED:20240521T003021Z
UID:10009482-1722627000-1722636000@arizonaseniorguide.com
SUMMARY:Hotel California: A Salute to the Eagles
DESCRIPTION:A spirited blend of originality and the pursuit of excellence have taken Hotel California “A Salute to the Eagles” to a level of recognition normally reserved for Gold and Platinum recording artists. By respectfully and accurately reproducing the Grammy award winning sounds of our generation’s Greatest American Songbook\, this legendary Southern California group\, has touched the hearts of fans all over the world\, The most successful and longest running show of it’s kind\, Hotel California “A Salute to the Eagles”\, is the ONLY show to have ever received an “Official Authorization” for a live performance. So join us on a trip down a dark desert highway… Feel the cool wind in your hair … It’s time to check into … The Hotel California! \n\nGet Tickets
URL:https://arizonaseniorguide.com/event/hotel-california-a-salute-to-the-eagles/
LOCATION:Fox Tucson Theatre\, 17 West Congress Street\, Tucson\, AZ\, 85701
CATEGORIES:Music,Tucson
ATTACH;FMTTYPE=image/jpeg:https://arizonaseniorguide.com/wp-content/uploads/2024/05/Hotel-California-A-Salute-to-the-Eagles.jpg
GEO:32.2220224;-110.9716152
X-APPLE-STRUCTURED-LOCATION;VALUE=URI;X-ADDRESS=Fox Tucson Theatre 17 West Congress Street Tucson AZ 85701;X-APPLE-RADIUS=500;X-TITLE=17 West Congress Street:geo:-110.9716152,32.2220224
END:VEVENT
BEGIN:VEVENT
DTSTART;TZID=America/Phoenix:20240519T190000
DTEND;TZID=America/Phoenix:20240519T210000
DTSTAMP:20260423T011321
CREATED:20230920T183338Z
LAST-MODIFIED:20230920T183338Z
UID:10003584-1716145200-1716152400@arizonaseniorguide.com
SUMMARY:Classic Albums Live - Billy Joel's The Stranger
DESCRIPTION:Experience Billy Joel’s iconic album\, The Stranger\, performed live on stage\, note-for-note\, cut-for-cut. No costumes. No impersonators. Classic Albums Live is all about the music. \nRelive the nostalgia of The Stranger\, Joel’s fifth studio album\, released in September 1977. An album that helped define the ’70s\, it won two GRAMMY Awards in 1978 for Record of the Year and Song of the Year. Four songs from the album were on the Billboard 100: “She’s Always a Woman\,” “Movin’ Out\,” “Just the Way You Are” and “Only the Good Die Young.” \n“We don”t dress up or wear any sort of costume\,” says Craig Martin\, Classic Albums Live founder. “All of our energy is put into the music. We want the performance to sound exactly like the album.” \nClassic Albums Live takes the greatest albums and recreates them live on stage with the best musicians to honor enduring music with accuracy. \n\nGet Tickets
URL:https://arizonaseniorguide.com/event/classic-albums-live-billy-joels-the-stranger/
LOCATION:Chandler Center for the Arts\, 250 North Arizona Avenue\, Chandler\, 85225
CATEGORIES:Music,Phoenix
ATTACH;FMTTYPE=image/jpeg:https://arizonaseniorguide.com/wp-content/uploads/2023/09/Albums-Live-Billy-Joel.jpg
END:VEVENT
BEGIN:VEVENT
DTSTART;TZID=America/Phoenix:20240519T180000
DTEND;TZID=America/Phoenix:20240519T193000
DTSTAMP:20260423T011321
CREATED:20240422T233039Z
LAST-MODIFIED:20240422T233039Z
UID:10008392-1716141600-1716147000@arizonaseniorguide.com
SUMMARY:Mr. Skynyrd Band\, Lynyrd Skynyrd Tribute Band
DESCRIPTION:Mr. Skynyrd is\, without question\, the hottest Lynyrd Skynyrd tribute band out there today. With a collection of uncompromising\, experienced musicians\, their two-hour show is dedicated to delivering spot-on renditions of those classic Lynyrd Skynyrd hits! \n\nGet Tickets*\n\nTickets: $27\, with discounts available for children\, students\, seniors\, and members of the military and first responders. \n*If you order online\, you must purchase the entire table. (No social seating at this time) For odd-numbered parties\, groups\, or to use a gift card or season pass\, please call #520-529-1000.
URL:https://arizonaseniorguide.com/event/mr-skynyrd-band-lynyrd-skynyrd-tribute-band/
LOCATION:Gaslight Music Hall\, 13005 N. Oracle Rd\, Oro Valley\, AZ
CATEGORIES:Music,Tucson
ATTACH;FMTTYPE=image/jpeg:https://arizonaseniorguide.com/wp-content/uploads/2024/04/Mr-Skynyrd-Band.jpg
END:VEVENT
BEGIN:VEVENT
DTSTART;TZID=America/Phoenix:20240420T193000
DTEND;TZID=America/Phoenix:20240420T213000
DTSTAMP:20260423T011321
CREATED:20230921T194126Z
LAST-MODIFIED:20230921T194600Z
UID:10004123-1713641400-1713648600@arizonaseniorguide.com
SUMMARY:Stayin' Alive - One Night of the Bee Gees
DESCRIPTION:Stayin’ Alive offers to their audiences the songs and sights of a full Bee Gees playlist\, singing blockbusters such as Night Fever\, Jive Talkin’\, How Deep Is You Love\, You Should Be Dancing\, Nights on Broadway\, and Stayin’ Alive. \n\nGet Tickets\n \nImportant Event Info: Doors 6:30PM | Show 7:30PM | Reserved Seating | All Ages | Clear Bag Policy | Public On Sale – 9/22 10AM \n \nStayin’ Alive Promo Video from Todd Sharman on Vimeo.
URL:https://arizonaseniorguide.com/event/one-night-of-the-bee-gees/
LOCATION:Rialto Theatre\, 318 E. Congress St.\, Tucson\, AZ\, 85701
CATEGORIES:Music,Tucson
ATTACH;FMTTYPE=image/jpeg:https://arizonaseniorguide.com/wp-content/uploads/2023/09/Stayin-alive.jpg
END:VEVENT
BEGIN:VEVENT
DTSTART;TZID=America/Phoenix:20240324T150000
DTEND;TZID=America/Phoenix:20240324T163000
DTSTAMP:20260423T011321
CREATED:20231220T203545Z
LAST-MODIFIED:20231222T165049Z
UID:10008236-1711292400-1711297800@arizonaseniorguide.com
SUMMARY:Legends of Pop at the Fox Theatre
DESCRIPTION:This show is a stunning tribute to Tina Turner\, Elton John and Elvis Presley! Imagine these three mega stars on one stage for one concert right here in Tucson. Don’t gamble on Las Vegas\, this show always sells out! Yes\, Its the king of rock and roll on the same stage as the queen of rock and roll. \n“Legends of pop ” performers have performed in Las Vegas\, Asia\, Europe\, Australia\, and at major performing arts centers around the nation. We’re gonna take you down “the yellow brick road” while you’re “rolling on the river” and have you “all shook up” knowing you are “simply the best.” With over a billion records sold by the original artists\, this very popular tribute show will have you on your feet! \nTickets:\nSenior and veteran discounted tickets always available–please contact the box office.\n*Holiday Special! 20% off until January 15th\, 2024.*\nGet Tickets\n \n 
URL:https://arizonaseniorguide.com/event/legends-of-pop-at-the-fox-theatre/
LOCATION:AZ
CATEGORIES:Music,Tucson
ATTACH;FMTTYPE=image/jpeg:https://arizonaseniorguide.com/wp-content/uploads/2023/12/Legends-of-Pop-scaled.jpg
ORGANIZER;CN="Broadway Pop Shows":MAILTO:hroger131@yahoo.com
END:VEVENT
BEGIN:VEVENT
DTSTART;TZID=America/Phoenix:20240126T200000
DTEND;TZID=America/Phoenix:20240126T230000
DTSTAMP:20260423T011322
CREATED:20230921T192524Z
LAST-MODIFIED:20230921T192635Z
UID:10004121-1706299200-1706310000@arizonaseniorguide.com
SUMMARY:Peace Frog\, a Doors Tribute Band
DESCRIPTION:“Celebrating their 25th anniversary\, this highly acclaimed act pays tribute to Jim Morrison and The Doors by recreating the magic and intensity of a Doors concert experience. Based out of Venice\, California\, lead singer Tony Fernandez lives out every move of Jim Morrison on stage and delivers a powerful recreation of true likeness in presence\, vocals\, mannerisms and spirit. Peace Frog is the drama and rock theater that made the Doors famous. Dark and spooky\, mystical and hypnotic\, the band demonstrates the ability to transform any room into an actual Doors concert experience. With intoxicating renditions of “Hello\, I Love You”\, “Light My Fire”\, “L.A. Woman”\, “The End” and many of the Doors classic songs\, Peace Frog has the crowd entranced! Jim Morrison can no longer perform live\, but when you witness Peace Frog you will think you are at Doors concert. It is a must see for all Doors fans and for anyone looking to experience an amazing recreation of a Doors show!” – peacefrogband.com \n\nGet Tickets\n \nImportant Event Info: Doors 7PM | Show 8PM | GA Standing | 21 & Over – ID REQUIRED | General Admission | Standing room only* \n*Accessible Tickets: Patrons requesting accessible seating should purchase a General Admission ticket and you will be accommodated at the venue. \nClear Bag Policy: The following bags are allowed: \n\nBags that are clear plastic or vinyl and do not exceed 12in x 6in x 12in\nOne-gallon clear plastic freezer bags (Ziploc bag or similar)\nSmall clutch bags\, approximately 5in x 7in\nAll bags subject to search.\nClear bags are available for sale at the box office.\n\n \nPeace Frog Doors Tribute Promo Video from Fernandez on Vimeo.
URL:https://arizonaseniorguide.com/event/peace-frog-a-doors-tribute-band/
LOCATION:191 Toole\, 191 Toole Ave\, Tucson\, AZ\, 85701
CATEGORIES:Music,Tucson
ATTACH;FMTTYPE=image/webp:https://arizonaseniorguide.com/wp-content/uploads/2023/09/Peace-Frog-Doors.webp
END:VEVENT
BEGIN:VEVENT
DTSTART;TZID=America/Phoenix:20240126T193000
DTEND;TZID=America/Phoenix:20240126T213000
DTSTAMP:20260423T011322
CREATED:20230920T182713Z
LAST-MODIFIED:20230920T182932Z
UID:10003583-1706297400-1706304600@arizonaseniorguide.com
SUMMARY:The Fab Four performs The Beatles' "Rubber Soul"
DESCRIPTION:If you want to experience the best Beatles tribute ever\, you won’t want to miss The Fab Four-The Ultimate Tribute.  The 2023 tour brings their all new show to the stage\, with a performance of The Beatles’ “Rubber Soul” in its entirety\, as well as the Beatles’ greatest hits.  \nThe Emmy Award Winning Fab Four is elevated far above every other Beatles Tribute due to their precise attention to detail. With uncanny\, note-for-note live renditions of Beatles’ classics such as “Can’t Buy Me Love\,” “Yesterday\,” “A Day In The Life\,” “Twist And Shout\,” “Here Comes The Sun\,” and “Hey Jude”\, the Fab Four will make you think you are watching the real thing.  \nTheir incredible stage performances include three costume changes representing every era of the Beatles ever-changing career\, and this loving tribute to the Beatles has amazed audiences in countries around the world\, including Japan\, Australia\, France\, Hong Kong\, The United Kingdom\, Germany\, Mexico and Brazil. \n\nGet Tickets\n \n\nIf sold out\, get resale tickets
URL:https://arizonaseniorguide.com/event/the-fab-four-performs-the-beatles-rubber-soul/
LOCATION:Mesa Arts Center\, 1 E Main St\, Mesa\, AZ\, 85201
CATEGORIES:Music,Phoenix
ATTACH;FMTTYPE=image/png:https://arizonaseniorguide.com/wp-content/uploads/2023/09/fab-four.png
END:VEVENT
BEGIN:VEVENT
DTSTART;TZID=America/Phoenix:20230924T200000
DTEND;TZID=America/Phoenix:20230924T220000
DTSTAMP:20260423T011322
CREATED:20230919T202722Z
LAST-MODIFIED:20230920T191301Z
UID:10003575-1695585600-1695592800@arizonaseniorguide.com
SUMMARY:Classic Albums Live - Creedence Clearwater Revival
DESCRIPTION:Classic Albums Live – Creedence Clearwater Revival – Chronicle Vol. 1 \nCreedence Clearwater Revival was America’s greatest band…their music reached out and got an entire continent rocking. Hit after hit\, no other band delivers that big a collection of instantly recognizable\, toe tapping songs. Classic Albums Live will honor the legacy of CCR by performing their Chronicle\, Vol. 1 album with joy and dedication\, note-for-note\, cut-for-cut. \nClassic Albums Live takes classic albums from the 60s and 70s and recreates those albums live onstage – note-for-note\, cut-for-cut – using the world’s best musicians. Fans are treated to an exact replication of the album\, followed by a second set of the featured artist’s greatest hits. \nAdditional Info\nDOORS: 7:00PM\nSHOW: 8:00PM \nPlease Note: This event is ages 13+ (Ages 5-12 must be accompanied by a parent/legal guardian. Children 4 and under not admitted.) \nDelivery is delayed for this event; tickets will be released 72 hours prior to the show. \n*BAG POLICY*\n– Bags up to 12″ x 6″ x 12″ are allowed in the venue (NO BACKPACKS)\n– All bags will be searched prior to entry\n– Bags that are not clear will be subject to additional search \n\nGet Tickets
URL:https://arizonaseniorguide.com/event/classic-albums-live-creedence-clearwater-revival/
LOCATION:The Van Buren\, 401 W Van Buren St\, Phoenix\, AZ\, 85003
CATEGORIES:Music,Phoenix
ATTACH;FMTTYPE=image/webp:https://arizonaseniorguide.com/wp-content/uploads/2023/09/Classic-Albums-Live-CCR.webp
END:VEVENT
END:VCALENDAR