BEGIN:VCALENDAR
VERSION:2.0
PRODID:-//Arizona Senior Guide - ECPv6.15.20//NONSGML v1.0//EN
CALSCALE:GREGORIAN
METHOD:PUBLISH
X-ORIGINAL-URL:https://arizonaseniorguide.com
X-WR-CALDESC:Events for Arizona Senior Guide
REFRESH-INTERVAL;VALUE=DURATION:PT1H
X-Robots-Tag:noindex
X-PUBLISHED-TTL:PT1H
BEGIN:VTIMEZONE
TZID:America/Phoenix
BEGIN:STANDARD
TZOFFSETFROM:-0700
TZOFFSETTO:-0700
TZNAME:MST
DTSTART:20220101T000000
END:STANDARD
END:VTIMEZONE
BEGIN:VEVENT
DTSTART;TZID=America/Phoenix:20251127T120000
DTEND;TZID=America/Phoenix:20251127T160000
DTSTAMP:20260423T063630
CREATED:20250922T204733Z
LAST-MODIFIED:20250922T212241Z
UID:10012290-1764244800-1764259200@arizonaseniorguide.com
SUMMARY:Thanksgiving Buffet at La Paloma Resort (La Luz Restaurant)
DESCRIPTION:Thursday\, November 27\, 2025 | 12 PM – 4 PM\nLa Luz Restaurant at Westin La Paloma Resort\nThis Thanksgiving\, gather with family and friends for a festive buffet filled with seasonal favorites\, chef-crafted specialties\, and decadent desserts. \nPlus\, let the kids be kids at La Paloma Playland! Children ages 5 – 12 will make new friends and enjoy movies\, crafts\, games\, snacks and more in a fun and exciting environment. *Adult Supervision required. \nBuffet Highlights Include:\n\nFresh salad platters & vibrant seasonal greens\nCheese & charcuterie display with assorted accompaniments\nSeafood Selections: gulf shrimp\, oysters\, mussels\, smoked salmon\nBreakfast favorites\, including comforting butternut squash bisque\nHot Sides: garlic mashed potatoes\, roasted brussels with crispy pork belly\, traditional stuffing\, sweet glazed yams\nChef-Carved Turkey & Prime Rib with all the fixings\nPasta & Chef’s Action Stations including day boat scallops\nDecadent pastry corner featuring pumpkin pie\, mini cheesecakes\, tarts\, panna cotta\, and more\n\n$119 Adults | $65 Kids (10 & under) | + 18% Gratuity \nMore info and tickets
URL:https://arizonaseniorguide.com/event/thanksgiving-buffet-at-la-paloma-resort-la-luz-restaurant/
LOCATION:Westin La Paloma Resort & Spa\, 3800 E Sunrise Dr\, Tucson\, AZ\, 85718
CATEGORIES:Thanksgiving,Tucson
ATTACH;FMTTYPE=image/webp:https://arizonaseniorguide.com/wp-content/uploads/2025/09/Thanksgiving-buffet.webp
END:VEVENT
BEGIN:VEVENT
DTSTART;TZID=America/Phoenix:20241128T173000
DTEND;TZID=America/Phoenix:20241128T213000
DTSTAMP:20260423T063631
CREATED:20241115T202740Z
LAST-MODIFIED:20241115T202740Z
UID:10009863-1732815000-1732829400@arizonaseniorguide.com
SUMMARY:Thanksgiving Four-Course Dinner at Ritz-Carlton\, Dove Mountain
DESCRIPTION:Indulge in Chef Dyson’s four-course tasting menu at Core Kitchen & Wine Bar featuring selections such as Pumpkin and Spiced Apple Bisque\, Duck Confit Stuffed Quail\, or Poached Lobster\, alongside traditional entree options such as Roasted Turkey\, or non-traditional options such as Arctic Char and Buffalo Tenderloin. \nThursday\, November 28 | 5:30 p.m. to 9:30 p.m.\n$165 Per Guest | $75 Per Child (Ages 2-12) \nIndulge in Chef Dyson’s four-course tasting menu featuring a traditional Thanksgiving entrée. \nView Menu \nCall 520-572-3000 to reserve seats.
URL:https://arizonaseniorguide.com/event/thanksgiving-four-course-dinner-at-ritz-carlton-dove-mountain/
LOCATION:Ritz-Carlton\, Dove Mountain\, 15000 North Secret Springs Drive\, Marana\, AZ\, 85658
CATEGORIES:Thanksgiving,Tucson
ATTACH;FMTTYPE=image/webp:https://arizonaseniorguide.com/wp-content/uploads/2024/11/Ritz-Carlton-Thanksgiving.webp
END:VEVENT
BEGIN:VEVENT
DTSTART;TZID=America/Phoenix:20241128T110000
DTEND;TZID=America/Phoenix:20241128T190000
DTSTAMP:20260423T063631
CREATED:20240930T190757Z
LAST-MODIFIED:20240930T191656Z
UID:10009729-1732791600-1732820400@arizonaseniorguide.com
SUMMARY:Thanksgiving Day Buffet 2024 at Hacienda del Sol
DESCRIPTION:Celebrate Thanksgiving at Hacienda del Sol\, where tradition meets elegance in a stunning desert setting. Enjoy a sumptuous feast featuring gourmet dishes crafted from the finest ingredients\, all while taking in breathtaking views of the Santa Catalina Mountains. Join us for a memorable holiday filled with warmth\, exceptional cuisine\, and the unique charm of our historic resort. \n$95 Per Adult | $50 Per Child ages 6-12 | 5 and under are free \nCall 520.529.3500 to make your reservations today! \nMENU\nMarketplace Salad Bar \n\nAssorted Organic Greens\nRomaine & Radicchio\nGrilled Pears\nCucumber\nFeta\nCandied Pumpkin Seeds\nMatchstick Carrots\nRed Onion\nOlive Cured Tomatoes\nParmesan Croutons\nWatermelon\nRadishes\nGolden Balsamic-Cranberry Vinaigrette\nSweet & Sour Honey Vinaigrette\nParker House Dinner Rolls\nWhipped Sweet Butter\n\nComposed Salads\n \n\nAmbrosia Salad\nWaldorf Salad\nCarrot-Raisin Salad\n\nSoups\n \n\nRoasted Butternut Bisque\nPork Pozole\n\nCharcuterle Station \n\nSoppressata Salami\nSpanish Chorizo\nMarinated Country Olives\nMozzarella Manchego\nFig Jam\nGlazed Pecans\nRed Grapes\nCrostini Whole Grain Mustard\nCornichons\nGrilled Vegetables\n\nCarving Station \n\nRoasted Tom Turkey Breast | Spiced Cranberry Compote\nStanding Prime Rib Roast | Jus Lie\, Shallot Soubise Sauce\, Atomic Horseradish Sauce\n\nEntrées \n\nPan-Seared Salmon | Roasted Forrest Mushrooms\, Beurre Rouge Sauce\nDuck Confit & 4-Cheese Ravioli\n\nDelectable Sides \n\nCranberry-Bacon Green Beans\nCornbread & Cranberry Pecan Stuffing\nTriple Cream Brie Mashed Potatoes & Giblet Gravy\nRed Himalayan\, Red Quinoa\, Pecan Pilaf\nSweet Glazed Yams Marshmallow Brulee\nCreamed Brussels Sprouts & Crisp Bacon\nRoasted Parsnips & Sunchokes\nSouthern Mac & Cheese\n\nDessert \n\nPumpkin & Sweet Potato Pie\nClassic Pecan Pie\nDouble Fudge Chocolate Cake\nAssorted Cheesecake Squares\nCran-Apple Cheesecake\nBourbon Brioche Pudding\nStone Fruit Cobbler\nPear-Almond Galette-Crème Fraiche
URL:https://arizonaseniorguide.com/event/thanksgiving-day-buffet-2024-at-hacienda-del-sol/
LOCATION:Hacienda Del Sol Guest Ranch Resort\, 5501 N. Hacienda Del Sol Rd\, Tucson\, AZ\, 85718
CATEGORIES:Holiday,Thanksgiving,Tucson
ATTACH;FMTTYPE=image/webp:https://arizonaseniorguide.com/wp-content/uploads/2024/09/hacienda-del-sol-thanksgiving.webp
END:VEVENT
BEGIN:VEVENT
DTSTART;TZID=America/Phoenix:20241128T110000
DTEND;TZID=America/Phoenix:20241128T140000
DTSTAMP:20260423T063631
CREATED:20241115T202128Z
LAST-MODIFIED:20241115T202948Z
UID:10009862-1732791600-1732802400@arizonaseniorguide.com
SUMMARY:Thanksgiving Brunch at Ritz-Carlton\, Dove Mountain
DESCRIPTION:Thursday\, November 28 | 11:00 a.m. to 2:00 p.m.\n$155 Per Guest | $75 Per Child (Ages 2-12)\nIndulge in a selection of classic dishes\, featuring a stunning ice display with freshly shucked oysters and a carving station offering prime meats such as roasted lamb shoulder and steelhead trout. Meet Tom the Turkey as he joins us for this festive celebration.\n\n*Seating is limited. Reservations are required.\n*Pricing is exclusive of tax and service charge\n*Cancellations within 72 hours of the event and no-shows will incur a fee of $80 per guest.\n\nView Menu\nReserve your table
URL:https://arizonaseniorguide.com/event/thanksgiving-brunch-at-ritz-carlton-dove-mountain/
LOCATION:Ritz-Carlton\, Dove Mountain\, 15000 North Secret Springs Drive\, Marana\, AZ\, 85658
CATEGORIES:Thanksgiving,Tucson
ATTACH;FMTTYPE=image/webp:https://arizonaseniorguide.com/wp-content/uploads/2024/11/Ritz-Carlton-Thanksgiving.webp
END:VEVENT
BEGIN:VEVENT
DTSTART;TZID=America/Phoenix:20231123T110000
DTEND;TZID=America/Phoenix:20231123T170000
DTSTAMP:20260423T063631
CREATED:20230828T235357Z
LAST-MODIFIED:20230828T235727Z
UID:10002303-1700737200-1700758800@arizonaseniorguide.com
SUMMARY:Thanksgiving Day Buffet 2023 at Hacienda del Sol
DESCRIPTION:Indulge in a feast of flavors this Thanksgiving at Hacienda del Sol Guest Ranch Resort’s lavish buffet celebration on Thursday\, November 23rd from 11am – 5pm. Elevate your holiday tradition with a culinary experience like no other. Their talented chefs have curated a bountiful spread that pays homage to the rich heritage of the Southwest\, blending traditional Thanksgiving favorites with a Southwestern twist. \n$90 Per Adult | $50 Per Child ages 6-12 | 5 and under are free \nCall 520.529.3500 to make your reservations today! \nMENU \nMarketplace Salad Bar \n\nSeasonal Crisp Vegetables and Organic Tender Greens\nCharred Shallot-Sage Agave Vinaigrette\nCitrus-Cranberry Dressing\nRoasted Butternut Squash-Gew0rztraminer Bisque\nAmbrosia Salad\nWaldorf Salad\nCarrot-Raisin Salad\n\nCharcuterle Station \n\nSoppressata Salami\nSpanish Chorizo\nMarinated Country Olives\nMozzarella Manchego\nFig Jam\nGlazed Pecans\nRed Grapes\nCrostini Whole Grain Mustard\nCornichons\nGrilled Vegetables\n\nCarving Station \n\nRoasted Tom Turkey Breast\nSpiced Cranberry Compote\nBeef Baron Steamship Roast\nJus lie\nAtomic Horseradish Sauce\n\nEntrées \n\nPan-Seared Salmon\nGrilled Applewood-Smoked Ham Steak\n\nDelectable Sides \n\nGreen Bean Amandine\nCornbread & Cranberry Pecan Stuffing\nTriple Cream Brie Mashed Potatoes\nGiblet Gravy\nLong Grain Orzo Rice Pilaf\nSweet Glazed Yams Marshmallow Brulee\nWhite Balsamic Roasted Brussels Sprouts\nCrisp Bacon\nSeasonal Roasted Vegetable Medley\nAssorted Dinner Rolls and Sweet Butter\n\nDessert \n\nPumpkin Pie\nSweet Potato Pie\nClassic Pecan Pie\nDouble Fudge Chocolate Cake\nAssorted Cheesecake Squares\nCran-Apple Cheesecake\nBourbon Brioche Pudding\nStone Fruit Cobbler\nPear-Almond Galette\nCreme Fraiche
URL:https://arizonaseniorguide.com/event/thanksgiving-day-buffet-2023-at-hacienda-del-sol/
LOCATION:Hacienda Del Sol Guest Ranch Resort\, 5501 N. Hacienda Del Sol Rd\, Tucson\, AZ\, 85718
CATEGORIES:Tucson
ATTACH;FMTTYPE=image/webp:https://arizonaseniorguide.com/wp-content/uploads/2023/08/thanksgiving.webp
END:VEVENT
END:VCALENDAR