BEGIN:VCALENDAR
VERSION:2.0
PRODID:-//Arizona Senior Guide - ECPv6.15.20//NONSGML v1.0//EN
CALSCALE:GREGORIAN
METHOD:PUBLISH
X-WR-CALNAME:Arizona Senior Guide
X-ORIGINAL-URL:https://arizonaseniorguide.com
X-WR-CALDESC:Events for Arizona Senior Guide
REFRESH-INTERVAL;VALUE=DURATION:PT1H
X-Robots-Tag:noindex
X-PUBLISHED-TTL:PT1H
BEGIN:VTIMEZONE
TZID:America/Phoenix
BEGIN:STANDARD
TZOFFSETFROM:-0700
TZOFFSETTO:-0700
TZNAME:MST
DTSTART:20240101T000000
END:STANDARD
END:VTIMEZONE
BEGIN:VEVENT
DTSTART;TZID=America/Phoenix:20251012T150000
DTEND;TZID=America/Phoenix:20251012T160000
DTSTAMP:20260423T082726
CREATED:20250915T234131Z
LAST-MODIFIED:20250915T234131Z
UID:10011908-1760281200-1760284800@arizonaseniorguide.com
SUMMARY:'Picturesque' a free orchestra concert in Scottsdale
DESCRIPTION:Get ready to be transported! The Women’s Orchestra of Arizona (WOA) kicks off its 2025-2026 season with the spectacular concert\, “Picturesque.” This is a performance you absolutely won’t want to miss! \n\nThe afternoon begins with the playful energy of Rossini’s “Barber of Seville Overture.” This piece is famous for its energetic crescendo that builds excitement and anticipation\, a perfect start to a magnificent afternoon.\nFollowing this\, WOA will perform “Suffolk Suite” by the renowned female composer\, Doreen Carwithen. A child prodigy who began her musical training at age four\, Carwithen became the first woman to be awarded a J. Arthur Rank Film Scholarship.\nThe winner of the most recent “Pass the Baton” drawing will lead the orchestra in a stirring arrangement of Samuel A. Ward’s “America the Beautiful.”\nThe feature of the afternoon’s program will be Mussorgsky’s timeless classic\, “Pictures at an Exhibition\,” a vibrant and dramatic masterpiece that brings an entire art gallery to life through sound. Inspired by a posthumous exhibition of his friend Viktor Hartmann’s art\, Mussorgsky composed this suite to musically represent ten of the artworks. The famous “Promenade” theme\, which recurs throughout the piece\, acts as a musical depiction of a visitor walking from one painting to the next.\n\nTICKET TYPES: \n\nFree General Admission\nVIP Seating – Immerse yourself in the beauty of orchestral music from the best seats in the house. $10 each\nVIP Seating – FREE For Veterans! (Available to all branches of currently-serving Military and Veterans\, including immediate family of troops KIA.) Use Discount Code: STRINGSOFHONOR\n\nMore info
URL:https://arizonaseniorguide.com/event/picturesque-a-free-orchestra-concert-in-scottsdale/
LOCATION:North Scottsdale United Methodist Church\, 11735 N Scottsdale Rd\, Scottsdale\, 85254
CATEGORIES:Free Event,Live Music,Music,Phoenix
ATTACH;FMTTYPE=image/jpeg:https://arizonaseniorguide.com/wp-content/uploads/2025/09/WOA-conductors-and-orch-standing-sm.jpg
ORGANIZER;CN="Women's Orchestra of Arizona":MAILTO:woa@womensorchestraarizona.com
END:VEVENT
END:VCALENDAR