BEGIN:VCALENDAR
VERSION:2.0
PRODID:-//Arizona Senior Guide - ECPv6.15.20//NONSGML v1.0//EN
CALSCALE:GREGORIAN
METHOD:PUBLISH
X-ORIGINAL-URL:https://arizonaseniorguide.com
X-WR-CALDESC:Events for Arizona Senior Guide
REFRESH-INTERVAL;VALUE=DURATION:PT1H
X-Robots-Tag:noindex
X-PUBLISHED-TTL:PT1H
BEGIN:VTIMEZONE
TZID:America/Phoenix
BEGIN:STANDARD
TZOFFSETFROM:-0700
TZOFFSETTO:-0700
TZNAME:MST
DTSTART:20230101T000000
END:STANDARD
END:VTIMEZONE
BEGIN:VEVENT
DTSTART;TZID=America/Phoenix:20240824T193000
DTEND;TZID=America/Phoenix:20240824T213000
DTSTAMP:20260423T063504
CREATED:20240701T171033Z
LAST-MODIFIED:20240701T171033Z
UID:10009512-1724527800-1724535000@arizonaseniorguide.com
SUMMARY:Bohemian Rhapsody movie sing-along at the Fox Theatre
DESCRIPTION:Come to the Fox Theatre to sing along to your favorite Queen songs in this Bohemian Rhapsody movie screening! \nBohemian Rhapsody (the movie) is an enthralling celebration of Queen\, their music\, and their extraordinary lead singer Freddie Mercury\, who defied stereotypes and convention to become one of history’s most beloved entertainers. Following Queen’s meteoric rise\, their revolutionary sound and Freddie’s solo career\, the film also chronicles the band’s reunion\, and one of the greatest performances in rock history. \nFox Theatre\nAugust 24\, 2024 at 7:30pm \nTickets and more
URL:https://arizonaseniorguide.com/event/bohemian-rhapsody-movie-sing-along-at-the-fox-theatre/
LOCATION:Fox Tucson Theatre\, 17 West Congress Street\, Tucson\, AZ\, 85701
CATEGORIES:Tucson
ATTACH;FMTTYPE=image/jpeg:https://arizonaseniorguide.com/wp-content/uploads/2024/06/Queen-Bohemian-Rhapsody-movie-sing-along.jpg
GEO:32.2220224;-110.9716152
X-APPLE-STRUCTURED-LOCATION;VALUE=URI;X-ADDRESS=Fox Tucson Theatre 17 West Congress Street Tucson AZ 85701;X-APPLE-RADIUS=500;X-TITLE=17 West Congress Street:geo:-110.9716152,32.2220224
END:VEVENT
BEGIN:VEVENT
DTSTART;TZID=America/Phoenix:20240629T193000
DTEND;TZID=America/Phoenix:20240629T220000
DTSTAMP:20260423T063504
CREATED:20240521T002407Z
LAST-MODIFIED:20240521T002407Z
UID:10009481-1719689400-1719698400@arizonaseniorguide.com
SUMMARY:Grease - Fox Theatre Screening & Sing-Along
DESCRIPTION:Experience the friendships\, romances and adventures of a group of high school kids in the 1950s. Welcome to the singing and dancing world of “Grease\,” the most successful movie musical of all time. A wholesome exchange student (Olivia Newton-John) and a leather-clad Danny (John Travolta) have a summer romance\, but will it cross clique lines? \n\nGet Tickets
URL:https://arizonaseniorguide.com/event/grease-fox-theatre-screening-sing-along/
LOCATION:Fox Tucson Theatre\, 17 West Congress Street\, Tucson\, AZ\, 85701
CATEGORIES:Tucson
ATTACH;FMTTYPE=image/jpeg:https://arizonaseniorguide.com/wp-content/uploads/2024/05/Grease-Sing-Along.jpg
GEO:32.2220224;-110.9716152
X-APPLE-STRUCTURED-LOCATION;VALUE=URI;X-ADDRESS=Fox Tucson Theatre 17 West Congress Street Tucson AZ 85701;X-APPLE-RADIUS=500;X-TITLE=17 West Congress Street:geo:-110.9716152,32.2220224
END:VEVENT
END:VCALENDAR