BEGIN:VCALENDAR
VERSION:2.0
PRODID:-//Arizona Senior Guide - ECPv6.15.20//NONSGML v1.0//EN
CALSCALE:GREGORIAN
METHOD:PUBLISH
X-ORIGINAL-URL:https://arizonaseniorguide.com
X-WR-CALDESC:Events for Arizona Senior Guide
REFRESH-INTERVAL;VALUE=DURATION:PT1H
X-Robots-Tag:noindex
X-PUBLISHED-TTL:PT1H
BEGIN:VTIMEZONE
TZID:America/Phoenix
BEGIN:STANDARD
TZOFFSETFROM:-0700
TZOFFSETTO:-0700
TZNAME:MST
DTSTART:20200101T000000
END:STANDARD
END:VTIMEZONE
BEGIN:VEVENT
DTSTART;TZID=America/Phoenix:20230929T173000
DTEND;TZID=America/Phoenix:20230929T203000
DTSTAMP:20260423T060623
CREATED:20230816T050050Z
LAST-MODIFIED:20230818T181949Z
UID:10001994-1696008600-1696019400@arizonaseniorguide.com
SUMMARY:Summer Friday Night BBQs at the Tucson Raquet Club
DESCRIPTION:Looking for a fun poolside party? Check out the Friday Night Barbecues at The Tucson Racquet and Fitness Club from 5:30pm – 8:30pm over the summer: May 5th – September 29th. Live music\, swimming (2 pools and jacuzzi)\, and tennis. Grilled favorites (burgers\, hotdogs\, chips etc) available for purchase.  Grab your lawn chair or blanket and while the kids play in the pool enjoy some good music in a safe\, friendly atmosphere. Open to non-members for $6/person. Members and their accompanied guests are of course admitted at no charge. Lifeguards are on duty.
URL:https://arizonaseniorguide.com/event/summer-friday-night-bbqs-at-the-tucson-raquet-club/2023-09-29/
LOCATION:Tucson Racquet and Fitness Club\, 4001 N. Country Club Road\, Tucson\, AZ\, 85716
CATEGORIES:Tucson
ATTACH;FMTTYPE=image/jpeg:https://arizonaseniorguide.com/wp-content/uploads/2023/08/friday-night-BBQs-tucson-racquet-club.jpg
END:VEVENT
BEGIN:VEVENT
DTSTART;TZID=America/Phoenix:20230826T183000
DTEND;TZID=America/Phoenix:20230826T210000
DTSTAMP:20260423T060623
CREATED:20230815T213019Z
LAST-MODIFIED:20230815T213019Z
UID:10001987-1693074600-1693083600@arizonaseniorguide.com
SUMMARY:End of Summer White Party
DESCRIPTION:Join us poolside at the Forty Niner Country Club for a premier end-of-summer White Party. Come dressed in your very best summer whites and experience incredible appetizers from our new Chef Brian Smith as well as some sweet vibes from DJ MatLuv.\nGeneral Admission – $50\nGeneral Members Admission – $45\nV.I.P. Members Only – $100\nMembers Only VIP Sectioned off Area is limited and will include table/bottle service\, champagne and an exclusive appetizer bar. \nMore info here:\nhttps://www.fortyninercc.com/event/end-of-summer-white-party/
URL:https://arizonaseniorguide.com/event/end-of-summer-white-party/
LOCATION:Forty Niner Country Club\, 12000 E. Tanque Verde\, Tucson\, AZ\, 85749
CATEGORIES:Tucson
ATTACH;FMTTYPE=image/webp:https://arizonaseniorguide.com/wp-content/uploads/2023/08/White-Party-2023.webp
END:VEVENT
BEGIN:VEVENT
DTSTART;TZID=America/Phoenix:20211204T170000
DTEND;TZID=America/Phoenix:20211204T220000
DTSTAMP:20260423T060623
CREATED:20211127T054053Z
LAST-MODIFIED:20211127T054053Z
UID:10001788-1638637200-1638655200@arizonaseniorguide.com
SUMMARY:Night in the 40’s Hangar Dance
DESCRIPTION:Dress up in your best 1940s dance clothes and enjoy live music and dancing at the Airbase Arizona Flying Museum’s annual Big Band dance fundraiser\, Night in the 40’s Hangar Dance. \nTicket prices are $40 for general admission\, $80 for Reserved Seating next to the dance floor\, and $120 for our exclusive Officer’s Club seating. \nFunds go to support the Airbase Arizona Flying Museum.
URL:https://arizonaseniorguide.com/event/night-in-the-40s-hangar-dance/
LOCATION:Arizona Commemorative Air Force Museum\, 2017 N. Greenfield Rd.\, Mesa\, AZ\, 85215
CATEGORIES:Phoenix
ATTACH;FMTTYPE=image/png:https://arizonaseniorguide.com/wp-content/uploads/2021/11/Night-in-the-40s-Hangar-Dance.png
GEO:33.4525947;-111.7349162
X-APPLE-STRUCTURED-LOCATION;VALUE=URI;X-ADDRESS=Arizona Commemorative Air Force Museum 2017 N. Greenfield Rd. Mesa AZ 85215;X-APPLE-RADIUS=500;X-TITLE=2017 N. Greenfield Rd.:geo:-111.7349162,33.4525947
END:VEVENT
END:VCALENDAR