BEGIN:VCALENDAR
VERSION:2.0
PRODID:-//Arizona Senior Guide - ECPv6.15.20//NONSGML v1.0//EN
CALSCALE:GREGORIAN
METHOD:PUBLISH
X-ORIGINAL-URL:https://arizonaseniorguide.com
X-WR-CALDESC:Events for Arizona Senior Guide
REFRESH-INTERVAL;VALUE=DURATION:PT1H
X-Robots-Tag:noindex
X-PUBLISHED-TTL:PT1H
BEGIN:VTIMEZONE
TZID:America/Phoenix
BEGIN:STANDARD
TZOFFSETFROM:-0700
TZOFFSETTO:-0700
TZNAME:MST
DTSTART:20220101T000000
END:STANDARD
END:VTIMEZONE
BEGIN:VEVENT
DTSTART;VALUE=DATE:20260103
DTEND;VALUE=DATE:20260202
DTSTAMP:20260423T064339
CREATED:20251027T174810Z
LAST-MODIFIED:20251027T180205Z
UID:10012292-1767398400-1769990399@arizonaseniorguide.com
SUMMARY:Senior Olympic Festival (SOF)\, 2026
DESCRIPTION:Try competing in The 2026 Senior Olympics Festival in Tucson\, January 3 – February 1\, 2026!\nAges 50+ \nRegistration:\nRegister November 3 – December 26\, 2025 to participate.\nRegister online at ezeereg.com (and search for “SOF” events.) Or register by calling 520-791-4877\, or visiting the Randolf Administration Building (at 920 S. Randolf Way\, Tucson AZ). \nFor more details\, visit the Senior Olympic Festival (Tucson) webpage. \nOpen House: \nTuesday\, December 9\, 2025\, 1-5pm\nWednesday\, December 10\, 2025\, 9am-1pm\nThursday\, December 11\, 2025\, 1-5pm \nLocation: Allen Hall (1710 E Silverlake Tucson\, AZ 85713)\nCome meet your event coordinators (Abraham Montijo\, Albert Campuzano\, April Casey) and other participants. Get more details about your event. Pick up your pre-paid t-shirt ($10) and lapel pins($5) or purchase one on-site. (Supplies limited!)\n*Free Senior Olympic Festival 2026 lapel pins to the first 50 attendees!* \nEvents:\nArchery\nBadminton\nBasketball 3-on3\nBasketball Shoot\nBilliards\nBocce\nBowling\nBridge\nBunco\nChair Volleyball\nCribbage\nDarts\nDisc Golf\nEuchre\nGolf\nHandball\nHorseshoes\nLeisure Walks\nPickleball\nPowerlifting\nRacquetball\nRoad Races (5K & 10K)\nShooting Events (High Power Rifle\, Rim & Center Fire Pistol\, Smallbore Prone Rifle\, Rimfire Sporting Rifle\, and Trap & Skeet)\nShuffleboard\nSlowpitch Softball\nSwimming\nTable Tennis\nTennis\nTexas Hold ‘Em\nTrack and Field\nVolleyball
URL:https://arizonaseniorguide.com/event/senior-olympic-festival-2026/
LOCATION:Allen Hall\, 1710 E Silverlake\, Tucson\, AZ\, 85713
CATEGORIES:Sports,Tucson
ATTACH;FMTTYPE=image/webp:https://arizonaseniorguide.com/wp-content/uploads/2024/10/senior-olympics-festival-2025.webp
END:VEVENT
BEGIN:VEVENT
DTSTART;VALUE=DATE:20251103
DTEND;VALUE=DATE:20251227
DTSTAMP:20260423T064339
CREATED:20251027T180727Z
LAST-MODIFIED:20251027T180727Z
UID:10012303-1762128000-1766793599@arizonaseniorguide.com
SUMMARY:Registration for Senior Olympic Festival (SOF)\, 2026
DESCRIPTION:Try competing in The 2026 Senior Olympics Festival in Tucson\, January 3 – February 1\, 2026!\nAges 50+ \nRegistration:\nRegister November 3 – December 26\, 2025 to participate.\nRegister online at ezeereg.com (and search for “SOF” events.) Or register by calling 520-791-4877\, or visiting the Randolf Administration Building (at 920 S. Randolf Way\, Tucson AZ). \nFor more details\, visit the Senior Olympic Festival (Tucson) webpage. \nOpen House: \nTuesday\, December 9\, 2025\, 1-5pm\nWednesday\, December 10\, 2025\, 9am-1pm\nThursday\, December 11\, 2025\, 1-5pm \nLocation: Allen Hall (1710 E Silverlake Tucson\, AZ 85713)\nCome meet your event coordinators (Abraham Montijo\, Albert Campuzano\, April Casey) and other participants. Get more details about your event. Pick up your pre-paid t-shirt ($10) and lapel pins($5) or purchase one on-site. (Supplies limited!)\n*Free Senior Olympic Festival 2026 lapel pins to the first 50 attendees!* \nEvents:\nArchery\nBadminton\nBasketball 3-on3\nBasketball Shoot\nBilliards\nBocce\nBowling\nBridge\nBunco\nChair Volleyball\nCribbage\nDarts\nDisc Golf\nEuchre\nGolf\nHandball\nHorseshoes\nLeisure Walks\nPickleball\nPowerlifting\nRacquetball\nRoad Races (5K & 10K)\nShooting Events (High Power Rifle\, Rim & Center Fire Pistol\, Smallbore Prone Rifle\, Rimfire Sporting Rifle\, and Trap & Skeet)\nShuffleboard\nSlowpitch Softball\nSwimming\nTable Tennis\nTennis\nTexas Hold ‘Em\nTrack and Field\nVolleyball
URL:https://arizonaseniorguide.com/event/registration-for-senior-olympic-festival-sof-2026/
LOCATION:Randolf Administration Building\, 920 S. Randolf Way\, Tucson\, AZ\, 85716
CATEGORIES:Sports,Tucson
ATTACH;FMTTYPE=image/webp:https://arizonaseniorguide.com/wp-content/uploads/2024/10/senior-olympics-festival-2025.webp
END:VEVENT
BEGIN:VEVENT
DTSTART;VALUE=DATE:20250104
DTEND;VALUE=DATE:20250203
DTSTAMP:20260423T064339
CREATED:20241001T234233Z
LAST-MODIFIED:20241002T000024Z
UID:10009750-1735948800-1738540799@arizonaseniorguide.com
SUMMARY:Senior Olympic Festival\, 2025
DESCRIPTION:Try competing in The 2025 Senior Olympics Festival in Tucson\, January 4 – February 2\, 2025!\nAges 50+ \nRegistration:\nRegister November 4 – December 27\, 2024 to participate.\nRegister online at ezeereg.com (and search for “SOF” events.) Or register by calling 520-791-4877\, or visiting the Randolf Administration Building (at 920 S. Randolf Way\, Tucson AZ). \nFor more details\, visit the Senior Olympic Festival (Tucson) webpage or download the more comprehensive Senior Olympics Festival PDF booklet. \nMeet the Coordinators: \nThursday\, December 12\, 2024\, 11am-2pm\nUdall Recreation Center (7200 E. Tanque Verde Road\, Tucson\, AZ\, 85715)\nCome meet your event coordinator and other participants. Get more details about your event. Pick up your pre-paid t-shirt ($10) and pins($5) or purchase one. (Supplies limited!)\n*Free Senior Olympic Festival 2025 lapel pins to the first 50 attendees!* \nEvents:\nArchery\nBadminton\nBasketball 3-on3\nBasketball Shoot\nBilliards\nBocce\nBowling\nBridge\nBunco\nChair Volleyball\nCribbage\nDarts\nDisc Golf\nEuchre\nGolf\nHandball\nHorseshoes\nLeisure Walks\nPickleball\nPowerlifting\nRacquetball\nRoad Races\nShooting Events (High Power Rifle\, Rim & Center Fire Pistol\, Smallbor Prone Rifle\, Rimfire Sporting Rifle\, and Trap & Skeet)\nShuffleboard\nSlowpitch Softball\nSwimming\nTable Tennis\nTennis\nTexas Hold ‘Em\nTrack and Field\nVolleyball
URL:https://arizonaseniorguide.com/event/senior-olympic-festival-2025/
LOCATION:Morris K. Udall Regional Center\, 7200 E. Tanque Verde Road\, Tucson\, AZ\, 85715
CATEGORIES:Sports,Tucson
ATTACH;FMTTYPE=image/webp:https://arizonaseniorguide.com/wp-content/uploads/2024/10/senior-olympics-festival-2025.webp
GEO:32.2493717;-110.8391799
X-APPLE-STRUCTURED-LOCATION;VALUE=URI;X-ADDRESS=Morris K. Udall Regional Center 7200 E. Tanque Verde Road Tucson AZ 85715;X-APPLE-RADIUS=500;X-TITLE=7200 E. Tanque Verde Road:geo:-110.8391799,32.2493717
END:VEVENT
BEGIN:VEVENT
DTSTART;VALUE=DATE:20241227
DTEND;VALUE=DATE:20241228
DTSTAMP:20260423T064339
CREATED:20241002T000526Z
LAST-MODIFIED:20241002T000526Z
UID:10009751-1735257600-1735343999@arizonaseniorguide.com
SUMMARY:Senior Olympic Festival\, 2025 - Registration Deadline
DESCRIPTION:Try competing in The 2025 Senior Olympics Festival in Tucson\, January 4 – February 2\, 2025!\nAges 50+ \nRegistration:\nRegister November 4 – December 27\, 2024 to participate.\nRegister online at ezeereg.com (and search for “SOF” events.) Or register by calling 520-791-4877\, or visiting the Randolf Administration Building (at 920 S. Randolf Way\, Tucson AZ). \nFor more details\, visit the Senior Olympic Festival (Tucson) webpage or download the more comprehensive Senior Olympics Festival PDF booklet. \nMeet the Coordinators: \nThursday\, December 12\, 2024\, 11am-2pm\nUdall Recreation Center (7200 E. Tanque Verde Road\, Tucson\, AZ\, 85715)\nCome meet your event coordinator and other participants. Get more details about your event. Pick up your pre-paid t-shirt ($10) and pins($5) or purchase one. (Supplies limited!)\n*Free Senior Olympic Festival 2025 lapel pins to the first 50 attendees!* \nEvents:\nArchery\nBadminton\nBasketball 3-on3\nBasketball Shoot\nBilliards\nBocce\nBowling\nBridge\nBunco\nChair Volleyball\nCribbage\nDarts\nDisc Golf\nEuchre\nGolf\nHandball\nHorseshoes\nLeisure Walks\nPickleball\nPowerlifting\nRacquetball\nRoad Races\nShooting Events (High Power Rifle\, Rim & Center Fire Pistol\, Smallbor Prone Rifle\, Rimfire Sporting Rifle\, and Trap & Skeet)\nShuffleboard\nSlowpitch Softball\nSwimming\nTable Tennis\nTennis\nTexas Hold ‘Em\nTrack and Field\nVolleyball
URL:https://arizonaseniorguide.com/event/senior-olympic-festival-2025-registration-deadline/
LOCATION:Morris K. Udall Regional Center\, 7200 E. Tanque Verde Road\, Tucson\, AZ\, 85715
CATEGORIES:Sports,Tucson
ATTACH;FMTTYPE=image/webp:https://arizonaseniorguide.com/wp-content/uploads/2024/10/senior-olympics-festival-2025.webp
GEO:32.2493717;-110.8391799
X-APPLE-STRUCTURED-LOCATION;VALUE=URI;X-ADDRESS=Morris K. Udall Regional Center 7200 E. Tanque Verde Road Tucson AZ 85715;X-APPLE-RADIUS=500;X-TITLE=7200 E. Tanque Verde Road:geo:-110.8391799,32.2493717
END:VEVENT
BEGIN:VEVENT
DTSTART;VALUE=DATE:20240106
DTEND;VALUE=DATE:20240129
DTSTAMP:20260423T064339
CREATED:20231204T233157Z
LAST-MODIFIED:20231204T233157Z
UID:10006279-1704499200-1706486399@arizonaseniorguide.com
SUMMARY:Senior Olympic Festival\, 2024
DESCRIPTION:Try competing in The Senior Olympics Festival in Tucson this year\, January 6-28\, 2024!\nAges 50+ \nRegistration:\nRegister November 6 – December 29\, 2023 to participate. Register online at ezeereg.com (and search for “SOF” events.) Or register by calling 520-791-4877\, or visiting the Randolf Administration Building (at 920 S. Randolf Way\, Tucson AZ). \nFor more details\, visit the Senior Olympic Festival (Tucson) webpage. \nMeet the Coordinators: \nFriday\, January 5\, 2024\, 12-2pm\nUdall Recreation Center\nCome meet your event coordinator and other participants. Get more details about your event. Pick up your pre-paid t-shirt and pins or purchase one. \nEvents:\nArchery\nBadminton\nBasketball Shoot\nBilliards\nBocce\nBowling\nBridge\nBunco\nCribbage\nDarts\nDisc Golf\nEuchre\nGolf\nHandball\nHorseshoes\nLeisure Walks\nPickleball\nPowerlifting\nRacquetball\nRoad Races\nShooting Events\nShuffleboard\nSoftball\nSwimming\nTable Tennis\nTennis\nTexas Hold ‘Em\nTrack and Field\nVolleyball
URL:https://arizonaseniorguide.com/event/senior-olympic-festival-2024/
LOCATION:Morris K. Udall Regional Center\, 7200 E. Tanque Verde Road\, Tucson\, AZ\, 85715
CATEGORIES:Sports,Tucson
ATTACH;FMTTYPE=image/jpeg:https://arizonaseniorguide.com/wp-content/uploads/2023/12/senior-olympics-festival-book-cover-e1701732143752.jpg
GEO:32.2493717;-110.8391799
X-APPLE-STRUCTURED-LOCATION;VALUE=URI;X-ADDRESS=Morris K. Udall Regional Center 7200 E. Tanque Verde Road Tucson AZ 85715;X-APPLE-RADIUS=500;X-TITLE=7200 E. Tanque Verde Road:geo:-110.8391799,32.2493717
END:VEVENT
BEGIN:VEVENT
DTSTART;VALUE=DATE:20231229
DTEND;VALUE=DATE:20231230
DTSTAMP:20260423T064339
CREATED:20231204T234013Z
LAST-MODIFIED:20231204T234013Z
UID:10006280-1703808000-1703894399@arizonaseniorguide.com
SUMMARY:Registration DEADLINE for Senior Olympic Festival\, 2024
DESCRIPTION:Try competing in The Senior Olympics Festival in Tucson this year\, January 6-28\, 2024!\nAges 50+ \nRegistration DEADLINE:\nRegister by December 29\, 2023 to participate. Register online at ezeereg.com (and search for “SOF” events.) Or register by calling 520-791-4877\, or visiting the Randolf Administration Building (at 920 S. Randolf Way\, Tucson AZ). \nFor more details\, visit the Senior Olympic Festival (Tucson) webpage. \nEvents:\nArchery\nBadminton\nBasketball Shoot\nBilliards\nBocce\nBowling\nBridge\nBunco\nCribbage\nDarts\nDisc Golf\nEuchre\nGolf\nHandball\nHorseshoes\nLeisure Walks\nPickleball\nPowerlifting\nRacquetball\nRoad Races\nShooting Events\nShuffleboard\nSoftball\nSwimming\nTable Tennis\nTennis\nTexas Hold ‘Em\nTrack and Field\nVolleyball
URL:https://arizonaseniorguide.com/event/senior-olympic-festival-2024-registration-deadline/
LOCATION:Morris K. Udall Regional Center\, 7200 E. Tanque Verde Road\, Tucson\, AZ\, 85715
CATEGORIES:Sports,Tucson
ATTACH;FMTTYPE=image/jpeg:https://arizonaseniorguide.com/wp-content/uploads/2023/12/senior-olympics-festival-book-cover-e1701732143752.jpg
GEO:32.2493717;-110.8391799
X-APPLE-STRUCTURED-LOCATION;VALUE=URI;X-ADDRESS=Morris K. Udall Regional Center 7200 E. Tanque Verde Road Tucson AZ 85715;X-APPLE-RADIUS=500;X-TITLE=7200 E. Tanque Verde Road:geo:-110.8391799,32.2493717
END:VEVENT
END:VCALENDAR