BEGIN:VCALENDAR
VERSION:2.0
PRODID:-//Arizona Senior Guide - ECPv6.15.20//NONSGML v1.0//EN
CALSCALE:GREGORIAN
METHOD:PUBLISH
X-ORIGINAL-URL:https://arizonaseniorguide.com
X-WR-CALDESC:Events for Arizona Senior Guide
REFRESH-INTERVAL;VALUE=DURATION:PT1H
X-Robots-Tag:noindex
X-PUBLISHED-TTL:PT1H
BEGIN:VTIMEZONE
TZID:America/Phoenix
BEGIN:STANDARD
TZOFFSETFROM:-0700
TZOFFSETTO:-0700
TZNAME:MST
DTSTART:20230101T000000
END:STANDARD
END:VTIMEZONE
BEGIN:VEVENT
DTSTART;TZID=America/Phoenix:20240526T130000
DTEND;TZID=America/Phoenix:20240526T160000
DTSTAMP:20260423T061352
CREATED:20230905T044706Z
LAST-MODIFIED:20230905T044706Z
UID:10002628-1716728400-1716739200@arizonaseniorguide.com
SUMMARY:Gadsden-Pacific Division Toy Train Operating Museum - open house
DESCRIPTION:The GADSDEN-PACIFIC TOY TRAIN OPERATING MUSEUM is a charitable\, not-for-profit 501 (C) (3) corporation dedicated to the hobby of model railroading by providing the public with an interactive museum of operating toy train layouts\, displays and exhibits. \nToday’s museum started as a club of twenty-five individuals in 1980 and has grown steadily over the years to over 130 members. Although we first opened our doors to the public in 1988 from within the Foothills Mall\, we moved in 1998 to our current location. The museum has grown to include G gauge\, standard gauge\, S gauge\, HO gauge\, N gauge and Z gauge operational layouts throughout the display area. Visitors may operate the trains and accessories throughout the museum by pushing buttons located with the displays\, all at tabletop level to give visitors a better view of all trains. \nWe even have model trains running outdoors\, a real caboose that you can walk through\, and a 7.5″ gauge ride-on train (which runs if the weather is ok.) \nHours\nWe are open every Sunday afternoon from 1:00 to 4:00 September through May. We will be closed on Easter Sunday\, (plus Christmas Eve\, Christmas Day\, and/or New Year’s Day if they fall on a Sunday) and throughout June\, July and August. \nAdmission is $5.00\, but as many as 6 of your crew can get in for a total of $10.00! \nInformation Line: 520-888-2222\nA living\, breathing (so far) person answers these calls most days during what other organizations call normal business hours.
URL:https://arizonaseniorguide.com/event/gadsden-pacific-division-toy-train-operating-museum-open-house/2024-05-26/
LOCATION:Gadsden-Pacific Division Toy Train Operating Museum\, 3975 N. MILLER AVE.\, Tucson\, AZ\, 85705-2275
CATEGORIES:Tucson
ATTACH;FMTTYPE=image/webp:https://arizonaseniorguide.com/wp-content/uploads/2023/09/toy-train-museum.webp
END:VEVENT
BEGIN:VEVENT
DTSTART;TZID=America/Phoenix:20240413T173000
DTEND;TZID=America/Phoenix:20240413T193000
DTSTAMP:20260423T061352
CREATED:20240409T175349Z
LAST-MODIFIED:20240409T180201Z
UID:10008300-1713029400-1713036600@arizonaseniorguide.com
SUMMARY:Nourish Phoenix: First Annual Charity Fashion Gallery
DESCRIPTION:Nourish Phoenix (NourishPHX)\, a food and clothing bank serving low-income individuals and families based in Central Phoenix\, is hosting its inaugural 2024 Nourish Phoenix Fashion Gallery event on Saturday\, April 13 from 5:30 p.m. to 7:30 p.m. \nDuring the event\, guests will be able to browse around the high-end fashion gallery featuring couture clothes exclusively from the clothing closet at NourishPHX. All vintage pieces in the display are designer items that have been donated to NourishPHX to help serve approximately 20\,000 families annually with clothing as well as food\, hygiene and job assistance. \nIn addition to the gallery\, Food Network featured Chefs\, Jeff Kraus and Adam Allison\, will be preparing a variety of hors d’oeuvres and appetizers for gallery guests. \nHosted at a private home in Paradise Valley\, tickets to this exclusive event $125 per person. The location address will be disclosed once registration is completed.\nFunds raised from ticket sales and donations will go directly to NourishPHX and the clients they serve. In addition to the clothing closet\, NourishPHX also provides nutritious food boxes\, hygiene kits\, career development courses and enrichment activities to those in need. NourishPHX also works with dozens of community partners to provide medical\, dental and veterinary care. \nTo register for the 2024 Nourish Phoenix Fashion Gallery visit givebutter.com/nphxfashiongallery. For more information\, visit nourishphx.org.
URL:https://arizonaseniorguide.com/event/nourish-phoenix-first-annual-charity-fashion-gallery/
LOCATION:Location disclosed upon registration\, Phoenix\, 85007
CATEGORIES:art,Phoenix
ATTACH;FMTTYPE=image/png:https://arizonaseniorguide.com/wp-content/uploads/2024/04/nourish-phx-fashion-gallery-e1712685701573.png
ORGANIZER;CN="Nourish Phoenix":MAILTO:bsanches@lavidge.com
END:VEVENT
END:VCALENDAR