BEGIN:VCALENDAR
VERSION:2.0
PRODID:-//Arizona Senior Guide - ECPv6.15.20//NONSGML v1.0//EN
CALSCALE:GREGORIAN
METHOD:PUBLISH
X-ORIGINAL-URL:https://arizonaseniorguide.com
X-WR-CALDESC:Events for Arizona Senior Guide
REFRESH-INTERVAL;VALUE=DURATION:PT1H
X-Robots-Tag:noindex
X-PUBLISHED-TTL:PT1H
BEGIN:VTIMEZONE
TZID:America/Phoenix
BEGIN:STANDARD
TZOFFSETFROM:-0700
TZOFFSETTO:-0700
TZNAME:MST
DTSTART:20230101T000000
END:STANDARD
END:VTIMEZONE
BEGIN:VEVENT
DTSTART;TZID=America/Phoenix:20241208T070000
DTEND;TZID=America/Phoenix:20241208T100000
DTSTAMP:20260423T055606
CREATED:20240916T201111Z
LAST-MODIFIED:20240916T201111Z
UID:10009551-1733641200-1733652000@arizonaseniorguide.com
SUMMARY:Hanukkah Hot Cocoa Run at the JCC
DESCRIPTION:All are welcome to join in sharing the light and warmth of Hanukkah with the Tucson J’s 8th annual Hanukkah Hot Cocoa Run Sunday\, December 8! \nThe Hanukkah Hot Cocoa Run is a timed 5k and 1 mile race with a free 1k untimed run for all ages and abilities and Double Chocolate 5k/1m combo. The run starts and ends at the Tucson J in the Jill Rosenzweig Memorial Sculpture Garden with an out and back course on the Rillito River Path. Hit the trail\, enjoy a warm cup of cocoa\, and be in community! \nOPTIONS FOR ALL KINDS OF MOVERS: \n\n5k Run + Walk*\n1 Mile Run + Walk*\nFree 1k Fun Run\nDouble Chocolate 5k +1 Mile Combo*\n\n*Shirts are included in the registration for the 5k\, 1 mile and Double Chocolate. Shirts for 1k participants can be purchased for $15 each. Register before Fri\, Nov 15 to guarantee your shirt size! \nSTART TIMES + PRICING INFO \n\n5k Run + Walk: 7am check-in; 8am start\nCost: $30 Early Bird  |  After Oct 1: $35\n1 Mile Run + Walk: 7-8:30am check-in; 8:45am start\nCost: $20 Early Bird  |  After Oct 1: $25\nDouble Chocolate (5k+1Mile): 7am check-in; 8am start\nCost: $45 Early Bird  |  After Oct 1: $50\n1K Fun Run: 7-8:45am check-in; 9am start\nCost: FREE (race shirt can be purchased separately for $15)\n\nMore info and Registration
URL:https://arizonaseniorguide.com/event/hanukkah-hot-cocoa-run-at-the-jcc/
LOCATION:Tucson Jewish Community Center (JCC)\, 3800 E River Rd\, Tucson\, AZ\, 85718\, United States
CATEGORIES:Free Event,Sports,Tucson
ATTACH;FMTTYPE=image/png:https://arizonaseniorguide.com/wp-content/uploads/2024/09/hot-cocoa-run.png
END:VEVENT
END:VCALENDAR