BEGIN:VCALENDAR
VERSION:2.0
PRODID:-//Arizona Senior Guide - ECPv6.15.20//NONSGML v1.0//EN
CALSCALE:GREGORIAN
METHOD:PUBLISH
X-WR-CALNAME:Arizona Senior Guide
X-ORIGINAL-URL:https://arizonaseniorguide.com
X-WR-CALDESC:Events for Arizona Senior Guide
REFRESH-INTERVAL;VALUE=DURATION:PT1H
X-Robots-Tag:noindex
X-PUBLISHED-TTL:PT1H
BEGIN:VTIMEZONE
TZID:America/Phoenix
BEGIN:STANDARD
TZOFFSETFROM:-0700
TZOFFSETTO:-0700
TZNAME:MST
DTSTART:20240101T000000
END:STANDARD
END:VTIMEZONE
BEGIN:VEVENT
DTSTART;TZID=America/Phoenix:20250905T170000
DTEND;TZID=America/Phoenix:20250905T210000
DTSTAMP:20260423T161222
CREATED:20250906T004903Z
LAST-MODIFIED:20250906T004903Z
UID:10011587-1757091600-1757106000@arizonaseniorguide.com
SUMMARY:Free First Friday Night at the Children's Museum of Phoenix
DESCRIPTION:Bring the grandkids and join us on the first Friday of each month from 5pm to 9pm\, when the Children’s Museum of Phoenix opens to the public free of charge. \nFree First Friday Nights are part of the Museum’s Every Child Program\, which seeks to ensure that all children in our community\, along with their families\, will be able to play and learn at the Museum regardless of their ability to pay. \nOur upcoming Free First Friday Nights for 2025 are scheduled for: \nJune 6th\nJuly 4th\nAugust 1st\nSeptember 5th\nOctober 3rd \nFree First Friday Nights at the Children’s Museum of Phoenix would not be possible without the generous support of the Gila River Indian Community.
URL:https://arizonaseniorguide.com/event/free-first-friday-night-at-the-childrens-museum-of-phoenix/2025-09-05/
LOCATION:Children’s Museum of Phoenix\, 215 N. 7th Street\, Phoenix\, AZ\, 85034
CATEGORIES:Free Event,Phoenix
ATTACH;FMTTYPE=image/webp:https://arizonaseniorguide.com/wp-content/uploads/2025/09/Free-First-Friday-PHX-Childrens-Museum.webp
END:VEVENT
BEGIN:VEVENT
DTSTART;TZID=America/Phoenix:20250907T090000
DTEND;TZID=America/Phoenix:20250907T120000
DTSTAMP:20260423T161222
CREATED:20250905T214452Z
LAST-MODIFIED:20250905T214452Z
UID:10011530-1757235600-1757246400@arizonaseniorguide.com
SUMMARY:Grandparents Day Celebration at Trail Dust Town
DESCRIPTION:Sunday\, September 7th 9am to noon \nCelebrate grandparents and grand friends with Young at HeART Together at Trail Dust Town!! \n(Note: You do not need to have a grandparent with you to enjoy the festivities. We will have family fun crafts\, games and entertainment for all ages! Crafts could be made to send to a grandparent or grandfriend you know.) \nTickets\n– Tickets will be sold day of by the Savoy Opera House\n– Grandparents get in FREE.\n– $10 for ages 1 and up.\n– Ticket prices include outdoor and indoor amusements and activities. (A portion of the ticket sales will be going to Young at HeART Together) \nActivities: \n\nJams with Mr. Nature’s Music Garden\nArts & craft make & take stations\nIntergenerational indoor games & amusement rides\nBooks\, storytime\, snacks & more!\nPerformance by The Tucson Prunes\nGrandparents day GRAND Hug count down and sweet treat!\n\nIf you have any questions please email us at youngathearttogether@gmail.com\nWe hope to see you September 7th for a GRAND day of fun\, love\, kindness and celebration!
URL:https://arizonaseniorguide.com/event/grandparents-day-celebration-at-trail-dust-town/
LOCATION:Trail Dust Town\, 6541 E. Tanque Verde Rd\, Tucson\, AZ\, 85715
CATEGORIES:Tucson
ATTACH;FMTTYPE=image/jpeg:https://arizonaseniorguide.com/wp-content/uploads/2025/09/Grandparents-Day-2025-trail-dust-town.jpg
END:VEVENT
END:VCALENDAR