BEGIN:VCALENDAR
VERSION:2.0
PRODID:-//Arizona Senior Guide - ECPv6.15.20//NONSGML v1.0//EN
CALSCALE:GREGORIAN
METHOD:PUBLISH
X-WR-CALNAME:Arizona Senior Guide
X-ORIGINAL-URL:https://arizonaseniorguide.com
X-WR-CALDESC:Events for Arizona Senior Guide
REFRESH-INTERVAL;VALUE=DURATION:PT1H
X-Robots-Tag:noindex
X-PUBLISHED-TTL:PT1H
BEGIN:VTIMEZONE
TZID:America/Phoenix
BEGIN:STANDARD
TZOFFSETFROM:-0700
TZOFFSETTO:-0700
TZNAME:MST
DTSTART:20250101T000000
END:STANDARD
END:VTIMEZONE
BEGIN:VEVENT
DTSTART;VALUE=DATE:20260116
DTEND;VALUE=DATE:20260125
DTSTAMP:20260423T043822
CREATED:20250916T211756Z
LAST-MODIFIED:20250916T211844Z
UID:10011915-1768521600-1769299199@arizonaseniorguide.com
SUMMARY:Tucson Jazz Festival\, 2026
DESCRIPTION:  \n  \n  \n  \n  \n  \nThe Tucson Jazz Festival (TJF) is an annual 9-day festival which brings jazz musicians from all over to perform in various downtown Tucson venues\, including theaters\, music halls\, small jazz clubs\, and outdoor stages. This year’s concert venues include: The Rialto Theatre\, Club Congress\, The Century Room\, The Grand Tucson\, La Rosa\, Linda Ronstadt Music Hall\, Fox Tucson Theatre\, and Paul and Alice Baker Center for Public Media. \n2026 Lineup includes: \n\nCory Wong\nDee Dee Bridgewater with Bill Charlap\nEmmet Cohen Presents: Miles and Coltrane at 100\nSergio Mendoza & Friends and Tucson Latin Jazz Orchestra\n\n\n\nIn addition\, the Annual Downtown Jazz Fiesta held annually on MLK Day (January 19\, 2026) is free and open to the public outdoors. More details TBA on tucsonjazzfestival.org. \n\n\nView the full lineup and purchase tickets here.
URL:https://arizonaseniorguide.com/event/tucson-jazz-festival-2026/
CATEGORIES:Fair/Festival,Live Music,Music,Tucson
ATTACH;FMTTYPE=image/jpeg:https://arizonaseniorguide.com/wp-content/uploads/2025/09/tucson-jazz-festival.jpg
END:VEVENT
END:VCALENDAR