BEGIN:VCALENDAR
VERSION:2.0
PRODID:-//Arizona Senior Guide - ECPv6.15.20//NONSGML v1.0//EN
CALSCALE:GREGORIAN
METHOD:PUBLISH
X-ORIGINAL-URL:https://arizonaseniorguide.com
X-WR-CALDESC:Events for Arizona Senior Guide
REFRESH-INTERVAL;VALUE=DURATION:PT1H
X-Robots-Tag:noindex
X-PUBLISHED-TTL:PT1H
BEGIN:VTIMEZONE
TZID:America/Phoenix
BEGIN:STANDARD
TZOFFSETFROM:-0700
TZOFFSETTO:-0700
TZNAME:MST
DTSTART:20250101T000000
END:STANDARD
END:VTIMEZONE
BEGIN:VEVENT
DTSTART;TZID=America/Phoenix:20260203T153000
DTEND;TZID=America/Phoenix:20260203T163000
DTSTAMP:20260423T014239
CREATED:20250411T193543Z
LAST-MODIFIED:20250908T191858Z
UID:10010910-1770132600-1770136200@arizonaseniorguide.com
SUMMARY:Mindfulness Meditation and More (Green Valley)
DESCRIPTION:Learn to be present during meditation and all other aspects of your life to enhance your health and well being. \nMindfulness is paying attention on purpose to the present moment. It is a learnable set of skills that can be cultivated over time. \nFind out how practicing mindfulness can benefit your mind\, your body and your relationships. \nLed by community volunteers. \nTuesdays 3:30-4:30pm\nat Joyner-Green Valley Library
URL:https://arizonaseniorguide.com/event/mindfulness-meditation-and-more-green-valley/2026-02-03/
LOCATION:Joyner-Green Valley Library\, 601 N. La Canada Dr.\, Green Valley\, AZ\, 85614
CATEGORIES:Classes,Fitness,Free Event,Green Valley,Tucson
ATTACH;FMTTYPE=image/png:https://arizonaseniorguide.com/wp-content/uploads/2025/04/Mindfulness-Meditation-and-More.png
END:VEVENT
BEGIN:VEVENT
DTSTART;TZID=America/Phoenix:20260210T153000
DTEND;TZID=America/Phoenix:20260210T163000
DTSTAMP:20260423T014239
CREATED:20250411T193543Z
LAST-MODIFIED:20250908T191858Z
UID:10010911-1770737400-1770741000@arizonaseniorguide.com
SUMMARY:Mindfulness Meditation and More (Green Valley)
DESCRIPTION:Learn to be present during meditation and all other aspects of your life to enhance your health and well being. \nMindfulness is paying attention on purpose to the present moment. It is a learnable set of skills that can be cultivated over time. \nFind out how practicing mindfulness can benefit your mind\, your body and your relationships. \nLed by community volunteers. \nTuesdays 3:30-4:30pm\nat Joyner-Green Valley Library
URL:https://arizonaseniorguide.com/event/mindfulness-meditation-and-more-green-valley/2026-02-10/
LOCATION:Joyner-Green Valley Library\, 601 N. La Canada Dr.\, Green Valley\, AZ\, 85614
CATEGORIES:Classes,Fitness,Free Event,Green Valley,Tucson
ATTACH;FMTTYPE=image/png:https://arizonaseniorguide.com/wp-content/uploads/2025/04/Mindfulness-Meditation-and-More.png
END:VEVENT
BEGIN:VEVENT
DTSTART;TZID=America/Phoenix:20260217T153000
DTEND;TZID=America/Phoenix:20260217T163000
DTSTAMP:20260423T014239
CREATED:20250411T193543Z
LAST-MODIFIED:20250908T191858Z
UID:10010912-1771342200-1771345800@arizonaseniorguide.com
SUMMARY:Mindfulness Meditation and More (Green Valley)
DESCRIPTION:Learn to be present during meditation and all other aspects of your life to enhance your health and well being. \nMindfulness is paying attention on purpose to the present moment. It is a learnable set of skills that can be cultivated over time. \nFind out how practicing mindfulness can benefit your mind\, your body and your relationships. \nLed by community volunteers. \nTuesdays 3:30-4:30pm\nat Joyner-Green Valley Library
URL:https://arizonaseniorguide.com/event/mindfulness-meditation-and-more-green-valley/2026-02-17/
LOCATION:Joyner-Green Valley Library\, 601 N. La Canada Dr.\, Green Valley\, AZ\, 85614
CATEGORIES:Classes,Fitness,Free Event,Green Valley,Tucson
ATTACH;FMTTYPE=image/png:https://arizonaseniorguide.com/wp-content/uploads/2025/04/Mindfulness-Meditation-and-More.png
END:VEVENT
BEGIN:VEVENT
DTSTART;TZID=America/Phoenix:20260224T153000
DTEND;TZID=America/Phoenix:20260224T163000
DTSTAMP:20260423T014239
CREATED:20250411T193543Z
LAST-MODIFIED:20250908T191858Z
UID:10010913-1771947000-1771950600@arizonaseniorguide.com
SUMMARY:Mindfulness Meditation and More (Green Valley)
DESCRIPTION:Learn to be present during meditation and all other aspects of your life to enhance your health and well being. \nMindfulness is paying attention on purpose to the present moment. It is a learnable set of skills that can be cultivated over time. \nFind out how practicing mindfulness can benefit your mind\, your body and your relationships. \nLed by community volunteers. \nTuesdays 3:30-4:30pm\nat Joyner-Green Valley Library
URL:https://arizonaseniorguide.com/event/mindfulness-meditation-and-more-green-valley/2026-02-24/
LOCATION:Joyner-Green Valley Library\, 601 N. La Canada Dr.\, Green Valley\, AZ\, 85614
CATEGORIES:Classes,Fitness,Free Event,Green Valley,Tucson
ATTACH;FMTTYPE=image/png:https://arizonaseniorguide.com/wp-content/uploads/2025/04/Mindfulness-Meditation-and-More.png
END:VEVENT
END:VCALENDAR