BEGIN:VCALENDAR
VERSION:2.0
PRODID:-//Arizona Senior Guide - ECPv6.15.20//NONSGML v1.0//EN
CALSCALE:GREGORIAN
METHOD:PUBLISH
X-WR-CALNAME:Arizona Senior Guide
X-ORIGINAL-URL:https://arizonaseniorguide.com
X-WR-CALDESC:Events for Arizona Senior Guide
REFRESH-INTERVAL;VALUE=DURATION:PT1H
X-Robots-Tag:noindex
X-PUBLISHED-TTL:PT1H
BEGIN:VTIMEZONE
TZID:America/Phoenix
BEGIN:STANDARD
TZOFFSETFROM:-0700
TZOFFSETTO:-0700
TZNAME:MST
DTSTART:20240101T000000
END:STANDARD
END:VTIMEZONE
BEGIN:VEVENT
DTSTART;TZID=America/Phoenix:20250902T153000
DTEND;TZID=America/Phoenix:20250902T163000
DTSTAMP:20260423T112829
CREATED:20250411T193543Z
LAST-MODIFIED:20250908T191858Z
UID:10010888-1756827000-1756830600@arizonaseniorguide.com
SUMMARY:Mindfulness Meditation and More (Green Valley)
DESCRIPTION:Learn to be present during meditation and all other aspects of your life to enhance your health and well being. \nMindfulness is paying attention on purpose to the present moment. It is a learnable set of skills that can be cultivated over time. \nFind out how practicing mindfulness can benefit your mind\, your body and your relationships. \nLed by community volunteers. \nTuesdays 3:30-4:30pm\nat Joyner-Green Valley Library
URL:https://arizonaseniorguide.com/event/mindfulness-meditation-and-more-green-valley/2025-09-02/
LOCATION:Joyner-Green Valley Library\, 601 N. La Canada Dr.\, Green Valley\, AZ\, 85614
CATEGORIES:Classes,Fitness,Free Event,Green Valley,Tucson
ATTACH;FMTTYPE=image/png:https://arizonaseniorguide.com/wp-content/uploads/2025/04/Mindfulness-Meditation-and-More.png
END:VEVENT
BEGIN:VEVENT
DTSTART;TZID=America/Phoenix:20250909T153000
DTEND;TZID=America/Phoenix:20250909T163000
DTSTAMP:20260423T112829
CREATED:20250411T193543Z
LAST-MODIFIED:20250908T191858Z
UID:10010889-1757431800-1757435400@arizonaseniorguide.com
SUMMARY:Mindfulness Meditation and More (Green Valley)
DESCRIPTION:Learn to be present during meditation and all other aspects of your life to enhance your health and well being. \nMindfulness is paying attention on purpose to the present moment. It is a learnable set of skills that can be cultivated over time. \nFind out how practicing mindfulness can benefit your mind\, your body and your relationships. \nLed by community volunteers. \nTuesdays 3:30-4:30pm\nat Joyner-Green Valley Library
URL:https://arizonaseniorguide.com/event/mindfulness-meditation-and-more-green-valley/2025-09-09/
LOCATION:Joyner-Green Valley Library\, 601 N. La Canada Dr.\, Green Valley\, AZ\, 85614
CATEGORIES:Classes,Fitness,Free Event,Green Valley,Tucson
ATTACH;FMTTYPE=image/png:https://arizonaseniorguide.com/wp-content/uploads/2025/04/Mindfulness-Meditation-and-More.png
END:VEVENT
BEGIN:VEVENT
DTSTART;TZID=America/Phoenix:20250916T153000
DTEND;TZID=America/Phoenix:20250916T163000
DTSTAMP:20260423T112829
CREATED:20250411T193543Z
LAST-MODIFIED:20250908T191858Z
UID:10010890-1758036600-1758040200@arizonaseniorguide.com
SUMMARY:Mindfulness Meditation and More (Green Valley)
DESCRIPTION:Learn to be present during meditation and all other aspects of your life to enhance your health and well being. \nMindfulness is paying attention on purpose to the present moment. It is a learnable set of skills that can be cultivated over time. \nFind out how practicing mindfulness can benefit your mind\, your body and your relationships. \nLed by community volunteers. \nTuesdays 3:30-4:30pm\nat Joyner-Green Valley Library
URL:https://arizonaseniorguide.com/event/mindfulness-meditation-and-more-green-valley/2025-09-16/
LOCATION:Joyner-Green Valley Library\, 601 N. La Canada Dr.\, Green Valley\, AZ\, 85614
CATEGORIES:Classes,Fitness,Free Event,Green Valley,Tucson
ATTACH;FMTTYPE=image/png:https://arizonaseniorguide.com/wp-content/uploads/2025/04/Mindfulness-Meditation-and-More.png
END:VEVENT
BEGIN:VEVENT
DTSTART;TZID=America/Phoenix:20250923T153000
DTEND;TZID=America/Phoenix:20250923T163000
DTSTAMP:20260423T112829
CREATED:20250411T193543Z
LAST-MODIFIED:20250908T191858Z
UID:10010891-1758641400-1758645000@arizonaseniorguide.com
SUMMARY:Mindfulness Meditation and More (Green Valley)
DESCRIPTION:Learn to be present during meditation and all other aspects of your life to enhance your health and well being. \nMindfulness is paying attention on purpose to the present moment. It is a learnable set of skills that can be cultivated over time. \nFind out how practicing mindfulness can benefit your mind\, your body and your relationships. \nLed by community volunteers. \nTuesdays 3:30-4:30pm\nat Joyner-Green Valley Library
URL:https://arizonaseniorguide.com/event/mindfulness-meditation-and-more-green-valley/2025-09-23/
LOCATION:Joyner-Green Valley Library\, 601 N. La Canada Dr.\, Green Valley\, AZ\, 85614
CATEGORIES:Classes,Fitness,Free Event,Green Valley,Tucson
ATTACH;FMTTYPE=image/png:https://arizonaseniorguide.com/wp-content/uploads/2025/04/Mindfulness-Meditation-and-More.png
END:VEVENT
BEGIN:VEVENT
DTSTART;TZID=America/Phoenix:20250930T153000
DTEND;TZID=America/Phoenix:20250930T163000
DTSTAMP:20260423T112830
CREATED:20250411T193543Z
LAST-MODIFIED:20250908T191858Z
UID:10010892-1759246200-1759249800@arizonaseniorguide.com
SUMMARY:Mindfulness Meditation and More (Green Valley)
DESCRIPTION:Learn to be present during meditation and all other aspects of your life to enhance your health and well being. \nMindfulness is paying attention on purpose to the present moment. It is a learnable set of skills that can be cultivated over time. \nFind out how practicing mindfulness can benefit your mind\, your body and your relationships. \nLed by community volunteers. \nTuesdays 3:30-4:30pm\nat Joyner-Green Valley Library
URL:https://arizonaseniorguide.com/event/mindfulness-meditation-and-more-green-valley/2025-09-30/
LOCATION:Joyner-Green Valley Library\, 601 N. La Canada Dr.\, Green Valley\, AZ\, 85614
CATEGORIES:Classes,Fitness,Free Event,Green Valley,Tucson
ATTACH;FMTTYPE=image/png:https://arizonaseniorguide.com/wp-content/uploads/2025/04/Mindfulness-Meditation-and-More.png
END:VEVENT
END:VCALENDAR