BEGIN:VCALENDAR
VERSION:2.0
PRODID:-//Arizona Senior Guide - ECPv6.15.20//NONSGML v1.0//EN
CALSCALE:GREGORIAN
METHOD:PUBLISH
X-ORIGINAL-URL:https://arizonaseniorguide.com
X-WR-CALDESC:Events for Arizona Senior Guide
REFRESH-INTERVAL;VALUE=DURATION:PT1H
X-Robots-Tag:noindex
X-PUBLISHED-TTL:PT1H
BEGIN:VTIMEZONE
TZID:America/Phoenix
BEGIN:STANDARD
TZOFFSETFROM:-0700
TZOFFSETTO:-0700
TZNAME:MST
DTSTART:20230101T000000
END:STANDARD
END:VTIMEZONE
BEGIN:VEVENT
DTSTART;TZID=America/Phoenix:20241123T170000
DTEND;TZID=America/Phoenix:20241123T200000
DTSTAMP:20260423T031917
CREATED:20240916T205226Z
LAST-MODIFIED:20240916T205226Z
UID:10009571-1732381200-1732392000@arizonaseniorguide.com
SUMMARY:Guitars Under the Stars – Live Music at the Tohono Chul Bistro
DESCRIPTION:Join us for Guitars Under the Stars every Friday and Saturday from 5-8 pm at Tohono Chul’s Garden Bistro.\nImmerse yourself in the soulful sounds of live guitar melodies while savoring delicious local food and drinks\, all set against the stunning backdrop of the beautiful Hummingbird Garden. \nThis event is the perfect way to unwind after a long week while surrounded by nature’s beauty. Your presence also supports our talented local artists\, making each night a celebration of community and music. \nAdmission to Guitars Under the Stars is FREE with food and drinks available for purchase.
URL:https://arizonaseniorguide.com/event/guitars-under-the-stars/2024-11-23/
LOCATION:Tohono Chul\, 7366 N. Paseo del Norte\, Tucson\, AZ\, 85704\, United States
CATEGORIES:Free Event,Music,Tucson
ATTACH;FMTTYPE=image/png:https://arizonaseniorguide.com/wp-content/uploads/2024/09/2024_GUTS_Landing-Page-Header-1-8ZivAB.tmp_.png
GEO:32.3392818;-110.9801424
X-APPLE-STRUCTURED-LOCATION;VALUE=URI;X-ADDRESS=Tohono Chul 7366 N. Paseo del Norte Tucson AZ 85704 United States;X-APPLE-RADIUS=500;X-TITLE=7366 N. Paseo del Norte:geo:-110.9801424,32.3392818
END:VEVENT
END:VCALENDAR