BEGIN:VCALENDAR
VERSION:2.0
PRODID:-//Arizona Senior Guide - ECPv6.15.20//NONSGML v1.0//EN
CALSCALE:GREGORIAN
METHOD:PUBLISH
X-ORIGINAL-URL:https://arizonaseniorguide.com
X-WR-CALDESC:Events for Arizona Senior Guide
REFRESH-INTERVAL;VALUE=DURATION:PT1H
X-Robots-Tag:noindex
X-PUBLISHED-TTL:PT1H
BEGIN:VTIMEZONE
TZID:America/Phoenix
BEGIN:STANDARD
TZOFFSETFROM:-0700
TZOFFSETTO:-0700
TZNAME:MST
DTSTART:20210101T000000
END:STANDARD
END:VTIMEZONE
BEGIN:VEVENT
DTSTART;VALUE=DATE:20251209
DTEND;VALUE=DATE:20251210
DTSTAMP:20260423T063506
CREATED:20251208T035006Z
LAST-MODIFIED:20251208T035006Z
UID:10012327-1765238400-1765324799@arizonaseniorguide.com
SUMMARY:The Holiday Hunger Fight (fundraiser for St. Mary’s Food Bank) at Barro’s Pizza
DESCRIPTION:Barro’s Pizza\, a family-owned pizzeria\, is stepping up to fight hunger in the community. \nOn December 9\, 2025\, all Barro’s Pizza locations across Arizona will donate their entire day’s proceeds from dine-in\, carry-out and delivery to St. Mary’s Food Bank. This marks the 14th year of their successful holiday hunger fight campaign. Enjoy a meal from any Barro’s Pizza location and patrons will be making an impact on the lives of those in need. \nSt. Mary’s Food Bank\, a leading nonprofit organization dedicated to alleviating hunger in Arizona\, relies heavily on the generosity of community partners. The funds raised through this annual campaign have a significant impact on the organization’s ability to provide meals to those in need during the holiday season and beyond. Over the course of the program’s existence\, Barro’s Pizza has raised an astounding $2.5 million\, equivalent to 12.5 million meals. \nBarro’s Pizza has been a staple in the Arizona community for over 40 years\, known for their commitment to community involvement. For more information\, visit https://barrospizza.com/locations/
URL:https://arizonaseniorguide.com/event/the-holiday-hunger-fight-fundraiser-for-st-marys-food-bank-at-barros-pizza/
CATEGORIES:Phoenix,Tucson
ATTACH;FMTTYPE=image/png:https://arizonaseniorguide.com/wp-content/uploads/2025/12/St.-Marys-Food-Bank-IMG.png
END:VEVENT
BEGIN:VEVENT
DTSTART;TZID=America/Phoenix:20241208T070000
DTEND;TZID=America/Phoenix:20241208T100000
DTSTAMP:20260423T063506
CREATED:20240916T201111Z
LAST-MODIFIED:20240916T201111Z
UID:10009551-1733641200-1733652000@arizonaseniorguide.com
SUMMARY:Hanukkah Hot Cocoa Run at the JCC
DESCRIPTION:All are welcome to join in sharing the light and warmth of Hanukkah with the Tucson J’s 8th annual Hanukkah Hot Cocoa Run Sunday\, December 8! \nThe Hanukkah Hot Cocoa Run is a timed 5k and 1 mile race with a free 1k untimed run for all ages and abilities and Double Chocolate 5k/1m combo. The run starts and ends at the Tucson J in the Jill Rosenzweig Memorial Sculpture Garden with an out and back course on the Rillito River Path. Hit the trail\, enjoy a warm cup of cocoa\, and be in community! \nOPTIONS FOR ALL KINDS OF MOVERS: \n\n5k Run + Walk*\n1 Mile Run + Walk*\nFree 1k Fun Run\nDouble Chocolate 5k +1 Mile Combo*\n\n*Shirts are included in the registration for the 5k\, 1 mile and Double Chocolate. Shirts for 1k participants can be purchased for $15 each. Register before Fri\, Nov 15 to guarantee your shirt size! \nSTART TIMES + PRICING INFO \n\n5k Run + Walk: 7am check-in; 8am start\nCost: $30 Early Bird  |  After Oct 1: $35\n1 Mile Run + Walk: 7-8:30am check-in; 8:45am start\nCost: $20 Early Bird  |  After Oct 1: $25\nDouble Chocolate (5k+1Mile): 7am check-in; 8am start\nCost: $45 Early Bird  |  After Oct 1: $50\n1K Fun Run: 7-8:45am check-in; 9am start\nCost: FREE (race shirt can be purchased separately for $15)\n\nMore info and Registration
URL:https://arizonaseniorguide.com/event/hanukkah-hot-cocoa-run-at-the-jcc/
LOCATION:Tucson Jewish Community Center (JCC)\, 3800 E River Rd\, Tucson\, AZ\, 85718\, United States
CATEGORIES:Free Event,Sports,Tucson
ATTACH;FMTTYPE=image/png:https://arizonaseniorguide.com/wp-content/uploads/2024/09/hot-cocoa-run.png
END:VEVENT
BEGIN:VEVENT
DTSTART;TZID=America/Phoenix:20241004T180000
DTEND;TZID=America/Phoenix:20241004T210000
DTSTAMP:20260423T063506
CREATED:20250819T002752Z
LAST-MODIFIED:20250819T002752Z
UID:10011508-1728064800-1728075600@arizonaseniorguide.com
SUMMARY:ZOOcson 2025 – A Wild Night Benefiting Reid Park Zoo
DESCRIPTION:Join Reid Park Zoo for the must-attend social event of the fall\, ZOOcson. \nFriday\, October 3rd. 6-9PM \nThis year’s gala will feature: \n\nTucson’s favorite restaurants\nLive and Online Auctions (chance to win amazing experiences\, 200+one-of-a-kind items)\nAnimal ambassador presentations\nLive music\nIncludes food at all restaurant stations\nIncludes 2 drink tickets (please note this is a 21 and older event)\n\nWant to enhance your ZOOcson experience with a special adventure in the Zoo’s Tanzania area? Register for the Premium Experience ticket which includes early entry at 5:15 p.m.\, training demonstration\, pool session\, barn visit\, appetizers\, beverages\, and entertainment. \nRestaurant Stations:\nIce bar by Arizona Ice Art\, Agustin Kitchen\, Atlas Catering & Events\, Balay\, Beyond Bread\, BJ’s Restaurant & Brewhouse\, Canyon’s Crown Restaurant & Pub\, Casino Del Sol\, Cielos at Lodge on the Desert\, Corbett’s\, Craft Culinary Concepts\, Dante’s Fire\, Gourmet Girls Gluten Free Bakery/Bistro\, Govinda’s Natural Foods\, Handels Ice Cream\, Hotel Congress\, HUB Restaurant\, Kingfisher Bar & Grill\, PF Chang’s\, Portillo’s\, Sauce Pizza and Wine\, Snooze\, an A.M. Eatery\, Teaspoon\, Vero Amore/Noble Hops. \nLive Entertainment: TBA \nTickets: No tickets will be emailed or mailed. Please note your name will be on a check-in list at the event. All funds raised will benefit the Zoo’s education programs\, conservation efforts\, care of the animals\, and improvements to the Zoo. \n$10 Off Early Bird Tickets available until August 31 \n$175 per person Adult Ticket\n$165 per Zoo Member Adult Ticket\n$275 per person Premium Ticket\n$265 per Zoo Member Premium Ticket \nTickets and more info
URL:https://arizonaseniorguide.com/event/zoocson-2025-a-wild-night-benefiting-reid-park-zoo/
LOCATION:Reid Park Zoo\, 3400 E. Zoo Court\, Tucson\, AZ\, 85716\, United States
CATEGORIES:Tucson
ATTACH;FMTTYPE=image/webp:https://arizonaseniorguide.com/wp-content/uploads/2025/08/zoocson-2025.webp
GEO:32.2087926;-110.9213774
X-APPLE-STRUCTURED-LOCATION;VALUE=URI;X-ADDRESS=Reid Park Zoo 3400 E. Zoo Court Tucson AZ 85716 United States;X-APPLE-RADIUS=500;X-TITLE=3400 E. Zoo Court:geo:-110.9213774,32.2087926
END:VEVENT
BEGIN:VEVENT
DTSTART;TZID=America/Phoenix:20241004T180000
DTEND;TZID=America/Phoenix:20241004T210000
DTSTAMP:20260423T063506
CREATED:20240916T195617Z
LAST-MODIFIED:20240916T195648Z
UID:10009550-1728064800-1728075600@arizonaseniorguide.com
SUMMARY:ZOOcson 2024 – A Wild Night Benefiting Reid Park Zoo
DESCRIPTION:Join Reid Park Zoo for the must-attend social event of the fall\, ZOOcson. This year’s gala will feature: \n\nTucson’s favorite restaurants\nLive and Online Auctions (chance to win amazing experiences\, 200+one-of-a-kind items)\nAnimal ambassador presentations\nLive music\nIncludes food at all restaurant stations\nIncludes 2 drink tickets (please note this is a 21 and older event)\n\nWant to enhance your ZOOcson experience with a special adventure in the Zoo’s Tanzania area? Register for the Premium Experience ticket which includes early entry at 5:15 p.m.\, training demonstration\, pool session\, barn visit\, appetizers\, beverages\, and entertainment. \nRestaurant Stations:\nIce bar by Arizona Ice Art\, Adis Aguas & Raspados\, Atlas Catering\, Balay\, Beyond Bread\, BJs Restaurant & Brewhouse\,  Brother John’s Bourbon & Barbecue\, Cafe Con Leche\, Cakes for Causes\, Canyon’s Crown\, Casino Del Sol\, Club Congress\, Commoner & Co\, Corbett’s Tucson\,  Craft Culinary Concepts\, Dante’s Fire\, Flora’s Market Run\, Govinda’s Natural Foods\,  Hawaiian Bros\, Kingfisher Bar & Grill\, Kitchen 86\, L&L Hawaiian BBQ\, Locale\, Lodge on the Desert\, PF Chang’s\, Portillo’s\, Prep & Pastry\, Sauce Pizza & Wine\, Teaspoon\, Texas Roadhouse\, The Original Mama Louisa’s\, Thunder Bacon Burger Co.\, Vero Amore. \nLive Entertainment: Chris Arpad\, Mindy Rondstadt & the One-Bill Band \nTickets: No tickets will be emailed or mailed. Please note your name will be on a check-in list at the event. All funds raised will benefit the Zoo’s education programs\, conservation efforts\, care of the animals\, and improvements to the Zoo. \n$175 per person Adult Ticket\n$150 per Zoo Member Adult Ticket\n$275 per person Premium Ticket\n$250 per Zoo Member Premium Ticket \nTickets and more info
URL:https://arizonaseniorguide.com/event/zoocson-2024/
LOCATION:Reid Park Zoo\, 3400 E. Zoo Court\, Tucson\, AZ\, 85716\, United States
CATEGORIES:Tucson
ATTACH;FMTTYPE=image/jpeg:https://arizonaseniorguide.com/wp-content/uploads/2024/09/ZOOcson-2024.jpg
GEO:32.2087926;-110.9213774
X-APPLE-STRUCTURED-LOCATION;VALUE=URI;X-ADDRESS=Reid Park Zoo 3400 E. Zoo Court Tucson AZ 85716 United States;X-APPLE-RADIUS=500;X-TITLE=3400 E. Zoo Court:geo:-110.9213774,32.2087926
END:VEVENT
BEGIN:VEVENT
DTSTART;TZID=America/Phoenix:20240413T173000
DTEND;TZID=America/Phoenix:20240413T193000
DTSTAMP:20260423T063506
CREATED:20240409T175349Z
LAST-MODIFIED:20240409T180201Z
UID:10008300-1713029400-1713036600@arizonaseniorguide.com
SUMMARY:Nourish Phoenix: First Annual Charity Fashion Gallery
DESCRIPTION:Nourish Phoenix (NourishPHX)\, a food and clothing bank serving low-income individuals and families based in Central Phoenix\, is hosting its inaugural 2024 Nourish Phoenix Fashion Gallery event on Saturday\, April 13 from 5:30 p.m. to 7:30 p.m. \nDuring the event\, guests will be able to browse around the high-end fashion gallery featuring couture clothes exclusively from the clothing closet at NourishPHX. All vintage pieces in the display are designer items that have been donated to NourishPHX to help serve approximately 20\,000 families annually with clothing as well as food\, hygiene and job assistance. \nIn addition to the gallery\, Food Network featured Chefs\, Jeff Kraus and Adam Allison\, will be preparing a variety of hors d’oeuvres and appetizers for gallery guests. \nHosted at a private home in Paradise Valley\, tickets to this exclusive event $125 per person. The location address will be disclosed once registration is completed.\nFunds raised from ticket sales and donations will go directly to NourishPHX and the clients they serve. In addition to the clothing closet\, NourishPHX also provides nutritious food boxes\, hygiene kits\, career development courses and enrichment activities to those in need. NourishPHX also works with dozens of community partners to provide medical\, dental and veterinary care. \nTo register for the 2024 Nourish Phoenix Fashion Gallery visit givebutter.com/nphxfashiongallery. For more information\, visit nourishphx.org.
URL:https://arizonaseniorguide.com/event/nourish-phoenix-first-annual-charity-fashion-gallery/
LOCATION:Location disclosed upon registration\, Phoenix\, 85007
CATEGORIES:art,Phoenix
ATTACH;FMTTYPE=image/png:https://arizonaseniorguide.com/wp-content/uploads/2024/04/nourish-phx-fashion-gallery-e1712685701573.png
ORGANIZER;CN="Nourish Phoenix":MAILTO:bsanches@lavidge.com
END:VEVENT
BEGIN:VEVENT
DTSTART;TZID=America/Phoenix:20220507T180000
DTEND;TZID=America/Phoenix:20220507T180000
DTSTAMP:20260423T063506
CREATED:20220322T001140Z
LAST-MODIFIED:20220322T001204Z
UID:10001913-1651946400-1651946400@arizonaseniorguide.com
SUMMARY:Uncorked Arizona Wine Festival
DESCRIPTION:Join us for the Uncorked: AZ Wine Fest featuring more than 100 wines from across the globe\, favorite local food trucks\, live DJ\, and more! \nThere are two ticket options for this event. Early admission ($75) is at 6pm and features an extra hour of tasting with smaller capacity\, and special pours form select wineries during that first hour. General admission ($60) is at 7pm and the event ends at 10pm. Tickets include all wine tasting with food sold separately. \nBring your thirst and your friends\, and join us for the 4th annual Uncorked: AZ Wine Festival! Cheers! \nThis event is 21 and over only. You must provide a valid ID for entry. \nThis event benefits local nonprofit the AZ Small Dog Rescue which helps shelter small dogs who have been abandoned\, neglected\, abused\, or are unwanted in a fully licensed no-kill facility. \nMore info:\nhttps://uncorkedwinefestivals.com/uncorked-arizona-wine-festival/
URL:https://arizonaseniorguide.com/event/uncorked-arizona-wine-festival/
LOCATION:Salt River Fields at Talking Stick\, 7555 N Pima Rd\, Scottsdale\, AZ\, 85258
CATEGORIES:Fair/Festival,Phoenix
ATTACH;FMTTYPE=image/png:https://arizonaseniorguide.com/wp-content/uploads/2022/03/uncorked-az-wine-festival.png
END:VEVENT
BEGIN:VEVENT
DTSTART;TZID=America/Phoenix:20220312T170000
DTEND;TZID=America/Phoenix:20220312T170000
DTSTAMP:20260423T063506
CREATED:20220301T190618Z
LAST-MODIFIED:20220301T190618Z
UID:10001855-1647104400-1647104400@arizonaseniorguide.com
SUMMARY:ATC (Arizona Theatre Company) Gala 2022
DESCRIPTION:JOIN US for ATC’s 2022 Gala\, a highlight of the cultural arts season in Arizona for over 28 years! the Gala is a spectacular fundraiser under the stars with world-class entertainment\, fabulous food\, and prestigious honors. \nAn evening of stellar entertainment headlined by Tony® Award-winning artist Annaleigh Ashford followed by dining and dancing under the stars\, this season’s Gala will honor Char Augenstein is the 2022 Georgy Award recipient for her tireless commitment to the performing arts community\, and her leadership during the COVID-19 crisis as ATC’s Board Chair. \nATC will also honor James Beard Award-winning Chef Janos Wilder as the inaugural RainMaker Award recipient for not only his longtime commitment to the theater company but as a trailblazer in the community leading the resurgence of what is now a thriving culinary and entertainment hub of Tucson. \nWORLD-CLASS THEATRE TAKES GREAT RESOURCES.\nBy becoming a supporter of Arizona Theatre Company\, you become more than an arts patron…you are a creative and communal steward helping to carry us into the future!  \nMore info and tickets:\nhttps://donate.arizonatheatre.org/event/atc-gala-season-54/e368957
URL:https://arizonaseniorguide.com/event/atc-arizona-theatre-company-gala-2022/
LOCATION:Temple of Music and Art\, 330 S Scott Ave\, Tucson\, AZ\, 85701
CATEGORIES:Tucson
ATTACH;FMTTYPE=image/png:https://arizonaseniorguide.com/wp-content/uploads/2022/03/gala-1-e1646161565871.png
END:VEVENT
END:VCALENDAR