BEGIN:VCALENDAR
VERSION:2.0
PRODID:-//Arizona Senior Guide - ECPv6.15.20//NONSGML v1.0//EN
CALSCALE:GREGORIAN
METHOD:PUBLISH
X-ORIGINAL-URL:https://arizonaseniorguide.com
X-WR-CALDESC:Events for Arizona Senior Guide
REFRESH-INTERVAL;VALUE=DURATION:PT1H
X-Robots-Tag:noindex
X-PUBLISHED-TTL:PT1H
BEGIN:VTIMEZONE
TZID:America/Phoenix
BEGIN:STANDARD
TZOFFSETFROM:-0700
TZOFFSETTO:-0700
TZNAME:MST
DTSTART:20250101T000000
END:STANDARD
END:VTIMEZONE
BEGIN:VEVENT
DTSTART;TZID=America/Phoenix:20260425T100000
DTEND;TZID=America/Phoenix:20260425T150000
DTSTAMP:20260422T190958
CREATED:20250908T203104Z
LAST-MODIFIED:20250908T203104Z
UID:10011840-1777111200-1777129200@arizonaseniorguide.com
SUMMARY:St Philip's Plaza Weekend Market
DESCRIPTION:Tucson’s most iconic weekly open air market. We focus on uniquely Tucson local artists\, makers\, creators\, and food businesses. Come wander under the towering Sycamores along winding cobblestone and enjoy scenic landscaping and beautiful fountains. \nThis is a fun market especially for finding unique gifts (jewelry\, clothing\, pottery and more). At least two coffee shops (with pastries/breakfast) and other foods and produce available for purchasing. The plaza is especially pretty with a fountain and shady trees around. \nSaturdays & Sundays\nOctober – April: 10 am – 3 pm  \nSummer hours:\nSaturdays & Sundays\nMay – September: 8 am – 12 pm
URL:https://arizonaseniorguide.com/event/st-philips-plaza-weekend-market/2026-04-25/
LOCATION:St Philips Plaza\, 4280 N Campbell Blvd\, Tucson\, AZ\, 85718
CATEGORIES:Tucson
ATTACH;FMTTYPE=image/png:https://arizonaseniorguide.com/wp-content/uploads/2025/09/St-Philips-Plaza-market.png
END:VEVENT
BEGIN:VEVENT
DTSTART;TZID=America/Phoenix:20260512T070000
DTEND;TZID=America/Phoenix:20260512T200000
DTSTAMP:20260422T190958
CREATED:20250906T011309Z
LAST-MODIFIED:20250906T011309Z
UID:10011597-1778569200-1778616000@arizonaseniorguide.com
SUMMARY:Community Day at Desert Botanical Garden (free 2nd Tuesdays)
DESCRIPTION:Enjoy free admission to the Phoenix Desert Botanical Garden on the second Tuesday of each month\, known as “Community Day.” \n*General Admission does not include special ticketed events or exhibitions.
URL:https://arizonaseniorguide.com/event/community-day-at-desert-botanical-garden-free-2nd-tuesdays/2026-05-12/
LOCATION:Desert Botanical Garden\, 1201 N. Galvin Parkway\, Phoenix\, AZ\, 85008
CATEGORIES:Free Event,Phoenix
ATTACH;FMTTYPE=image/png:https://arizonaseniorguide.com/wp-content/uploads/2025/09/Desert-Botanical-Gardens-Community-Day.png
GEO:33.4620645;-111.9451229
X-APPLE-STRUCTURED-LOCATION;VALUE=URI;X-ADDRESS=Desert Botanical Garden 1201 N. Galvin Parkway Phoenix AZ 85008;X-APPLE-RADIUS=500;X-TITLE=1201 N. Galvin Parkway:geo:-111.9451229,33.4620645
END:VEVENT
END:VCALENDAR