BEGIN:VCALENDAR
VERSION:2.0
PRODID:-//Arizona Senior Guide - ECPv6.15.20//NONSGML v1.0//EN
CALSCALE:GREGORIAN
METHOD:PUBLISH
X-WR-CALNAME:Arizona Senior Guide
X-ORIGINAL-URL:https://arizonaseniorguide.com
X-WR-CALDESC:Events for Arizona Senior Guide
REFRESH-INTERVAL;VALUE=DURATION:PT1H
X-Robots-Tag:noindex
X-PUBLISHED-TTL:PT1H
BEGIN:VTIMEZONE
TZID:America/Phoenix
BEGIN:STANDARD
TZOFFSETFROM:-0700
TZOFFSETTO:-0700
TZNAME:MST
DTSTART:20250101T000000
END:STANDARD
END:VTIMEZONE
BEGIN:VEVENT
DTSTART;TZID=America/Phoenix:20260103T100000
DTEND;TZID=America/Phoenix:20260103T150000
DTSTAMP:20260423T001538
CREATED:20250908T203104Z
LAST-MODIFIED:20250908T203104Z
UID:10011808-1767434400-1767452400@arizonaseniorguide.com
SUMMARY:St Philip's Plaza Weekend Market
DESCRIPTION:Tucson’s most iconic weekly open air market. We focus on uniquely Tucson local artists\, makers\, creators\, and food businesses. Come wander under the towering Sycamores along winding cobblestone and enjoy scenic landscaping and beautiful fountains. \nThis is a fun market especially for finding unique gifts (jewelry\, clothing\, pottery and more). At least two coffee shops (with pastries/breakfast) and other foods and produce available for purchasing. The plaza is especially pretty with a fountain and shady trees around. \nSaturdays & Sundays\nOctober – April: 10 am – 3 pm  \nSummer hours:\nSaturdays & Sundays\nMay – September: 8 am – 12 pm
URL:https://arizonaseniorguide.com/event/st-philips-plaza-weekend-market/2026-01-03/
LOCATION:St Philips Plaza\, 4280 N Campbell Blvd\, Tucson\, AZ\, 85718
CATEGORIES:Tucson
ATTACH;FMTTYPE=image/png:https://arizonaseniorguide.com/wp-content/uploads/2025/09/St-Philips-Plaza-market.png
END:VEVENT
BEGIN:VEVENT
DTSTART;TZID=America/Phoenix:20260104T090000
DTEND;TZID=America/Phoenix:20260104T130000
DTSTAMP:20260423T001538
CREATED:20250908T190541Z
LAST-MODIFIED:20250908T191002Z
UID:10011613-1767517200-1767531600@arizonaseniorguide.com
SUMMARY:Rillito Park Farmers Market (Heirloom Farmers Market)
DESCRIPTION:Tucson’s largest year-round farmers market is located in the Southeast corner of Rillito Park\, along the bike trail known as The Loop. The weekly Sunday Rillito Park Farmers Market hosts farmers\, ranchers and artisan food purveyors featuring local produce and fresh cuisine. Four pavilions provide shade for a 5\,000 square foot shopping area\, and along with the center entertainment circle\, host a variety of small businesses. This market offers quarterly chef demonstrations\, seasonal food festivals\, bicycle-friendly events\, and local live music. \nOPEN EVERY SUNDAY\n8AM – 12PM (APR – SEP)\n9AM – 1PM (OCT– MAR) \nRillito Park Farmers Market Food Pavilion is located off of 1st Ave. and River Rd.\, on the southeast side of the Rillito Park Racetrack’s parking lot. The pavilion is accessible and has restrooms on site. \nPlease note that no dogs or pets of any kind (even those in arms) are allowed at this farmer’s market.
URL:https://arizonaseniorguide.com/event/rillito-park-farmers-market-heirloom-farmers-market-2-3/2026-01-04/
LOCATION:Rillito Park Racetrack\, 4502 N 1st Avenue\, Tucson\, 85719
CATEGORIES:Free Event,Tucson
ATTACH;FMTTYPE=image/webp:https://arizonaseniorguide.com/wp-content/uploads/2023/08/Heirloom-Farmers-Market.webp
END:VEVENT
BEGIN:VEVENT
DTSTART;TZID=America/Phoenix:20260104T100000
DTEND;TZID=America/Phoenix:20260104T150000
DTSTAMP:20260423T001538
CREATED:20250908T203104Z
LAST-MODIFIED:20250908T203104Z
UID:10011809-1767520800-1767538800@arizonaseniorguide.com
SUMMARY:St Philip's Plaza Weekend Market
DESCRIPTION:Tucson’s most iconic weekly open air market. We focus on uniquely Tucson local artists\, makers\, creators\, and food businesses. Come wander under the towering Sycamores along winding cobblestone and enjoy scenic landscaping and beautiful fountains. \nThis is a fun market especially for finding unique gifts (jewelry\, clothing\, pottery and more). At least two coffee shops (with pastries/breakfast) and other foods and produce available for purchasing. The plaza is especially pretty with a fountain and shady trees around. \nSaturdays & Sundays\nOctober – April: 10 am – 3 pm  \nSummer hours:\nSaturdays & Sundays\nMay – September: 8 am – 12 pm
URL:https://arizonaseniorguide.com/event/st-philips-plaza-weekend-market/2026-01-04/
LOCATION:St Philips Plaza\, 4280 N Campbell Blvd\, Tucson\, AZ\, 85718
CATEGORIES:Tucson
ATTACH;FMTTYPE=image/png:https://arizonaseniorguide.com/wp-content/uploads/2025/09/St-Philips-Plaza-market.png
END:VEVENT
BEGIN:VEVENT
DTSTART;TZID=America/Phoenix:20260106T153000
DTEND;TZID=America/Phoenix:20260106T163000
DTSTAMP:20260423T001538
CREATED:20250411T193543Z
LAST-MODIFIED:20250908T191858Z
UID:10010906-1767713400-1767717000@arizonaseniorguide.com
SUMMARY:Mindfulness Meditation and More (Green Valley)
DESCRIPTION:Learn to be present during meditation and all other aspects of your life to enhance your health and well being. \nMindfulness is paying attention on purpose to the present moment. It is a learnable set of skills that can be cultivated over time. \nFind out how practicing mindfulness can benefit your mind\, your body and your relationships. \nLed by community volunteers. \nTuesdays 3:30-4:30pm\nat Joyner-Green Valley Library
URL:https://arizonaseniorguide.com/event/mindfulness-meditation-and-more-green-valley/2026-01-06/
LOCATION:Joyner-Green Valley Library\, 601 N. La Canada Dr.\, Green Valley\, AZ\, 85614
CATEGORIES:Classes,Fitness,Free Event,Green Valley,Tucson
ATTACH;FMTTYPE=image/png:https://arizonaseniorguide.com/wp-content/uploads/2025/04/Mindfulness-Meditation-and-More.png
END:VEVENT
BEGIN:VEVENT
DTSTART;TZID=America/Phoenix:20260110T100000
DTEND;TZID=America/Phoenix:20260110T150000
DTSTAMP:20260423T001538
CREATED:20250908T203104Z
LAST-MODIFIED:20250908T203104Z
UID:10011810-1768039200-1768057200@arizonaseniorguide.com
SUMMARY:St Philip's Plaza Weekend Market
DESCRIPTION:Tucson’s most iconic weekly open air market. We focus on uniquely Tucson local artists\, makers\, creators\, and food businesses. Come wander under the towering Sycamores along winding cobblestone and enjoy scenic landscaping and beautiful fountains. \nThis is a fun market especially for finding unique gifts (jewelry\, clothing\, pottery and more). At least two coffee shops (with pastries/breakfast) and other foods and produce available for purchasing. The plaza is especially pretty with a fountain and shady trees around. \nSaturdays & Sundays\nOctober – April: 10 am – 3 pm  \nSummer hours:\nSaturdays & Sundays\nMay – September: 8 am – 12 pm
URL:https://arizonaseniorguide.com/event/st-philips-plaza-weekend-market/2026-01-10/
LOCATION:St Philips Plaza\, 4280 N Campbell Blvd\, Tucson\, AZ\, 85718
CATEGORIES:Tucson
ATTACH;FMTTYPE=image/png:https://arizonaseniorguide.com/wp-content/uploads/2025/09/St-Philips-Plaza-market.png
END:VEVENT
BEGIN:VEVENT
DTSTART;TZID=America/Phoenix:20260111T090000
DTEND;TZID=America/Phoenix:20260111T130000
DTSTAMP:20260423T001538
CREATED:20250908T190541Z
LAST-MODIFIED:20250908T191002Z
UID:10011614-1768122000-1768136400@arizonaseniorguide.com
SUMMARY:Rillito Park Farmers Market (Heirloom Farmers Market)
DESCRIPTION:Tucson’s largest year-round farmers market is located in the Southeast corner of Rillito Park\, along the bike trail known as The Loop. The weekly Sunday Rillito Park Farmers Market hosts farmers\, ranchers and artisan food purveyors featuring local produce and fresh cuisine. Four pavilions provide shade for a 5\,000 square foot shopping area\, and along with the center entertainment circle\, host a variety of small businesses. This market offers quarterly chef demonstrations\, seasonal food festivals\, bicycle-friendly events\, and local live music. \nOPEN EVERY SUNDAY\n8AM – 12PM (APR – SEP)\n9AM – 1PM (OCT– MAR) \nRillito Park Farmers Market Food Pavilion is located off of 1st Ave. and River Rd.\, on the southeast side of the Rillito Park Racetrack’s parking lot. The pavilion is accessible and has restrooms on site. \nPlease note that no dogs or pets of any kind (even those in arms) are allowed at this farmer’s market.
URL:https://arizonaseniorguide.com/event/rillito-park-farmers-market-heirloom-farmers-market-2-3/2026-01-11/
LOCATION:Rillito Park Racetrack\, 4502 N 1st Avenue\, Tucson\, 85719
CATEGORIES:Free Event,Tucson
ATTACH;FMTTYPE=image/webp:https://arizonaseniorguide.com/wp-content/uploads/2023/08/Heirloom-Farmers-Market.webp
END:VEVENT
BEGIN:VEVENT
DTSTART;TZID=America/Phoenix:20260111T100000
DTEND;TZID=America/Phoenix:20260111T150000
DTSTAMP:20260423T001538
CREATED:20250908T203104Z
LAST-MODIFIED:20250908T203104Z
UID:10011811-1768125600-1768143600@arizonaseniorguide.com
SUMMARY:St Philip's Plaza Weekend Market
DESCRIPTION:Tucson’s most iconic weekly open air market. We focus on uniquely Tucson local artists\, makers\, creators\, and food businesses. Come wander under the towering Sycamores along winding cobblestone and enjoy scenic landscaping and beautiful fountains. \nThis is a fun market especially for finding unique gifts (jewelry\, clothing\, pottery and more). At least two coffee shops (with pastries/breakfast) and other foods and produce available for purchasing. The plaza is especially pretty with a fountain and shady trees around. \nSaturdays & Sundays\nOctober – April: 10 am – 3 pm  \nSummer hours:\nSaturdays & Sundays\nMay – September: 8 am – 12 pm
URL:https://arizonaseniorguide.com/event/st-philips-plaza-weekend-market/2026-01-11/
LOCATION:St Philips Plaza\, 4280 N Campbell Blvd\, Tucson\, AZ\, 85718
CATEGORIES:Tucson
ATTACH;FMTTYPE=image/png:https://arizonaseniorguide.com/wp-content/uploads/2025/09/St-Philips-Plaza-market.png
END:VEVENT
BEGIN:VEVENT
DTSTART;TZID=America/Phoenix:20260113T070000
DTEND;TZID=America/Phoenix:20260113T200000
DTSTAMP:20260423T001538
CREATED:20250906T011309Z
LAST-MODIFIED:20250906T011309Z
UID:10011593-1768287600-1768334400@arizonaseniorguide.com
SUMMARY:Community Day at Desert Botanical Garden (free 2nd Tuesdays)
DESCRIPTION:Enjoy free admission to the Phoenix Desert Botanical Garden on the second Tuesday of each month\, known as “Community Day.” \n*General Admission does not include special ticketed events or exhibitions.
URL:https://arizonaseniorguide.com/event/community-day-at-desert-botanical-garden-free-2nd-tuesdays/2026-01-13/
LOCATION:Desert Botanical Garden\, 1201 N. Galvin Parkway\, Phoenix\, AZ\, 85008
CATEGORIES:Free Event,Phoenix
ATTACH;FMTTYPE=image/png:https://arizonaseniorguide.com/wp-content/uploads/2025/09/Desert-Botanical-Gardens-Community-Day.png
GEO:33.4620645;-111.9451229
X-APPLE-STRUCTURED-LOCATION;VALUE=URI;X-ADDRESS=Desert Botanical Garden 1201 N. Galvin Parkway Phoenix AZ 85008;X-APPLE-RADIUS=500;X-TITLE=1201 N. Galvin Parkway:geo:-111.9451229,33.4620645
END:VEVENT
BEGIN:VEVENT
DTSTART;TZID=America/Phoenix:20260113T153000
DTEND;TZID=America/Phoenix:20260113T163000
DTSTAMP:20260423T001538
CREATED:20250411T193543Z
LAST-MODIFIED:20250908T191858Z
UID:10010907-1768318200-1768321800@arizonaseniorguide.com
SUMMARY:Mindfulness Meditation and More (Green Valley)
DESCRIPTION:Learn to be present during meditation and all other aspects of your life to enhance your health and well being. \nMindfulness is paying attention on purpose to the present moment. It is a learnable set of skills that can be cultivated over time. \nFind out how practicing mindfulness can benefit your mind\, your body and your relationships. \nLed by community volunteers. \nTuesdays 3:30-4:30pm\nat Joyner-Green Valley Library
URL:https://arizonaseniorguide.com/event/mindfulness-meditation-and-more-green-valley/2026-01-13/
LOCATION:Joyner-Green Valley Library\, 601 N. La Canada Dr.\, Green Valley\, AZ\, 85614
CATEGORIES:Classes,Fitness,Free Event,Green Valley,Tucson
ATTACH;FMTTYPE=image/png:https://arizonaseniorguide.com/wp-content/uploads/2025/04/Mindfulness-Meditation-and-More.png
END:VEVENT
BEGIN:VEVENT
DTSTART;TZID=America/Phoenix:20260117T100000
DTEND;TZID=America/Phoenix:20260117T150000
DTSTAMP:20260423T001538
CREATED:20250908T203104Z
LAST-MODIFIED:20250908T203104Z
UID:10011812-1768644000-1768662000@arizonaseniorguide.com
SUMMARY:St Philip's Plaza Weekend Market
DESCRIPTION:Tucson’s most iconic weekly open air market. We focus on uniquely Tucson local artists\, makers\, creators\, and food businesses. Come wander under the towering Sycamores along winding cobblestone and enjoy scenic landscaping and beautiful fountains. \nThis is a fun market especially for finding unique gifts (jewelry\, clothing\, pottery and more). At least two coffee shops (with pastries/breakfast) and other foods and produce available for purchasing. The plaza is especially pretty with a fountain and shady trees around. \nSaturdays & Sundays\nOctober – April: 10 am – 3 pm  \nSummer hours:\nSaturdays & Sundays\nMay – September: 8 am – 12 pm
URL:https://arizonaseniorguide.com/event/st-philips-plaza-weekend-market/2026-01-17/
LOCATION:St Philips Plaza\, 4280 N Campbell Blvd\, Tucson\, AZ\, 85718
CATEGORIES:Tucson
ATTACH;FMTTYPE=image/png:https://arizonaseniorguide.com/wp-content/uploads/2025/09/St-Philips-Plaza-market.png
END:VEVENT
BEGIN:VEVENT
DTSTART;TZID=America/Phoenix:20260118T090000
DTEND;TZID=America/Phoenix:20260118T130000
DTSTAMP:20260423T001538
CREATED:20250908T190541Z
LAST-MODIFIED:20250908T191002Z
UID:10011615-1768726800-1768741200@arizonaseniorguide.com
SUMMARY:Rillito Park Farmers Market (Heirloom Farmers Market)
DESCRIPTION:Tucson’s largest year-round farmers market is located in the Southeast corner of Rillito Park\, along the bike trail known as The Loop. The weekly Sunday Rillito Park Farmers Market hosts farmers\, ranchers and artisan food purveyors featuring local produce and fresh cuisine. Four pavilions provide shade for a 5\,000 square foot shopping area\, and along with the center entertainment circle\, host a variety of small businesses. This market offers quarterly chef demonstrations\, seasonal food festivals\, bicycle-friendly events\, and local live music. \nOPEN EVERY SUNDAY\n8AM – 12PM (APR – SEP)\n9AM – 1PM (OCT– MAR) \nRillito Park Farmers Market Food Pavilion is located off of 1st Ave. and River Rd.\, on the southeast side of the Rillito Park Racetrack’s parking lot. The pavilion is accessible and has restrooms on site. \nPlease note that no dogs or pets of any kind (even those in arms) are allowed at this farmer’s market.
URL:https://arizonaseniorguide.com/event/rillito-park-farmers-market-heirloom-farmers-market-2-3/2026-01-18/
LOCATION:Rillito Park Racetrack\, 4502 N 1st Avenue\, Tucson\, 85719
CATEGORIES:Free Event,Tucson
ATTACH;FMTTYPE=image/webp:https://arizonaseniorguide.com/wp-content/uploads/2023/08/Heirloom-Farmers-Market.webp
END:VEVENT
BEGIN:VEVENT
DTSTART;TZID=America/Phoenix:20260118T100000
DTEND;TZID=America/Phoenix:20260118T150000
DTSTAMP:20260423T001538
CREATED:20250908T203104Z
LAST-MODIFIED:20250908T203104Z
UID:10011813-1768730400-1768748400@arizonaseniorguide.com
SUMMARY:St Philip's Plaza Weekend Market
DESCRIPTION:Tucson’s most iconic weekly open air market. We focus on uniquely Tucson local artists\, makers\, creators\, and food businesses. Come wander under the towering Sycamores along winding cobblestone and enjoy scenic landscaping and beautiful fountains. \nThis is a fun market especially for finding unique gifts (jewelry\, clothing\, pottery and more). At least two coffee shops (with pastries/breakfast) and other foods and produce available for purchasing. The plaza is especially pretty with a fountain and shady trees around. \nSaturdays & Sundays\nOctober – April: 10 am – 3 pm  \nSummer hours:\nSaturdays & Sundays\nMay – September: 8 am – 12 pm
URL:https://arizonaseniorguide.com/event/st-philips-plaza-weekend-market/2026-01-18/
LOCATION:St Philips Plaza\, 4280 N Campbell Blvd\, Tucson\, AZ\, 85718
CATEGORIES:Tucson
ATTACH;FMTTYPE=image/png:https://arizonaseniorguide.com/wp-content/uploads/2025/09/St-Philips-Plaza-market.png
END:VEVENT
BEGIN:VEVENT
DTSTART;TZID=America/Phoenix:20260120T153000
DTEND;TZID=America/Phoenix:20260120T163000
DTSTAMP:20260423T001538
CREATED:20250411T193543Z
LAST-MODIFIED:20250908T191858Z
UID:10010908-1768923000-1768926600@arizonaseniorguide.com
SUMMARY:Mindfulness Meditation and More (Green Valley)
DESCRIPTION:Learn to be present during meditation and all other aspects of your life to enhance your health and well being. \nMindfulness is paying attention on purpose to the present moment. It is a learnable set of skills that can be cultivated over time. \nFind out how practicing mindfulness can benefit your mind\, your body and your relationships. \nLed by community volunteers. \nTuesdays 3:30-4:30pm\nat Joyner-Green Valley Library
URL:https://arizonaseniorguide.com/event/mindfulness-meditation-and-more-green-valley/2026-01-20/
LOCATION:Joyner-Green Valley Library\, 601 N. La Canada Dr.\, Green Valley\, AZ\, 85614
CATEGORIES:Classes,Fitness,Free Event,Green Valley,Tucson
ATTACH;FMTTYPE=image/png:https://arizonaseniorguide.com/wp-content/uploads/2025/04/Mindfulness-Meditation-and-More.png
END:VEVENT
BEGIN:VEVENT
DTSTART;TZID=America/Phoenix:20260124T100000
DTEND;TZID=America/Phoenix:20260124T150000
DTSTAMP:20260423T001538
CREATED:20250908T203104Z
LAST-MODIFIED:20250908T203104Z
UID:10011814-1769248800-1769266800@arizonaseniorguide.com
SUMMARY:St Philip's Plaza Weekend Market
DESCRIPTION:Tucson’s most iconic weekly open air market. We focus on uniquely Tucson local artists\, makers\, creators\, and food businesses. Come wander under the towering Sycamores along winding cobblestone and enjoy scenic landscaping and beautiful fountains. \nThis is a fun market especially for finding unique gifts (jewelry\, clothing\, pottery and more). At least two coffee shops (with pastries/breakfast) and other foods and produce available for purchasing. The plaza is especially pretty with a fountain and shady trees around. \nSaturdays & Sundays\nOctober – April: 10 am – 3 pm  \nSummer hours:\nSaturdays & Sundays\nMay – September: 8 am – 12 pm
URL:https://arizonaseniorguide.com/event/st-philips-plaza-weekend-market/2026-01-24/
LOCATION:St Philips Plaza\, 4280 N Campbell Blvd\, Tucson\, AZ\, 85718
CATEGORIES:Tucson
ATTACH;FMTTYPE=image/png:https://arizonaseniorguide.com/wp-content/uploads/2025/09/St-Philips-Plaza-market.png
END:VEVENT
BEGIN:VEVENT
DTSTART;TZID=America/Phoenix:20260125T090000
DTEND;TZID=America/Phoenix:20260125T130000
DTSTAMP:20260423T001538
CREATED:20250908T190541Z
LAST-MODIFIED:20250908T191002Z
UID:10011616-1769331600-1769346000@arizonaseniorguide.com
SUMMARY:Rillito Park Farmers Market (Heirloom Farmers Market)
DESCRIPTION:Tucson’s largest year-round farmers market is located in the Southeast corner of Rillito Park\, along the bike trail known as The Loop. The weekly Sunday Rillito Park Farmers Market hosts farmers\, ranchers and artisan food purveyors featuring local produce and fresh cuisine. Four pavilions provide shade for a 5\,000 square foot shopping area\, and along with the center entertainment circle\, host a variety of small businesses. This market offers quarterly chef demonstrations\, seasonal food festivals\, bicycle-friendly events\, and local live music. \nOPEN EVERY SUNDAY\n8AM – 12PM (APR – SEP)\n9AM – 1PM (OCT– MAR) \nRillito Park Farmers Market Food Pavilion is located off of 1st Ave. and River Rd.\, on the southeast side of the Rillito Park Racetrack’s parking lot. The pavilion is accessible and has restrooms on site. \nPlease note that no dogs or pets of any kind (even those in arms) are allowed at this farmer’s market.
URL:https://arizonaseniorguide.com/event/rillito-park-farmers-market-heirloom-farmers-market-2-3/2026-01-25/
LOCATION:Rillito Park Racetrack\, 4502 N 1st Avenue\, Tucson\, 85719
CATEGORIES:Free Event,Tucson
ATTACH;FMTTYPE=image/webp:https://arizonaseniorguide.com/wp-content/uploads/2023/08/Heirloom-Farmers-Market.webp
END:VEVENT
BEGIN:VEVENT
DTSTART;TZID=America/Phoenix:20260125T100000
DTEND;TZID=America/Phoenix:20260125T150000
DTSTAMP:20260423T001538
CREATED:20250908T203104Z
LAST-MODIFIED:20250908T203104Z
UID:10011815-1769335200-1769353200@arizonaseniorguide.com
SUMMARY:St Philip's Plaza Weekend Market
DESCRIPTION:Tucson’s most iconic weekly open air market. We focus on uniquely Tucson local artists\, makers\, creators\, and food businesses. Come wander under the towering Sycamores along winding cobblestone and enjoy scenic landscaping and beautiful fountains. \nThis is a fun market especially for finding unique gifts (jewelry\, clothing\, pottery and more). At least two coffee shops (with pastries/breakfast) and other foods and produce available for purchasing. The plaza is especially pretty with a fountain and shady trees around. \nSaturdays & Sundays\nOctober – April: 10 am – 3 pm  \nSummer hours:\nSaturdays & Sundays\nMay – September: 8 am – 12 pm
URL:https://arizonaseniorguide.com/event/st-philips-plaza-weekend-market/2026-01-25/
LOCATION:St Philips Plaza\, 4280 N Campbell Blvd\, Tucson\, AZ\, 85718
CATEGORIES:Tucson
ATTACH;FMTTYPE=image/png:https://arizonaseniorguide.com/wp-content/uploads/2025/09/St-Philips-Plaza-market.png
END:VEVENT
BEGIN:VEVENT
DTSTART;TZID=America/Phoenix:20260127T153000
DTEND;TZID=America/Phoenix:20260127T163000
DTSTAMP:20260423T001538
CREATED:20250411T193543Z
LAST-MODIFIED:20250908T191858Z
UID:10010909-1769527800-1769531400@arizonaseniorguide.com
SUMMARY:Mindfulness Meditation and More (Green Valley)
DESCRIPTION:Learn to be present during meditation and all other aspects of your life to enhance your health and well being. \nMindfulness is paying attention on purpose to the present moment. It is a learnable set of skills that can be cultivated over time. \nFind out how practicing mindfulness can benefit your mind\, your body and your relationships. \nLed by community volunteers. \nTuesdays 3:30-4:30pm\nat Joyner-Green Valley Library
URL:https://arizonaseniorguide.com/event/mindfulness-meditation-and-more-green-valley/2026-01-27/
LOCATION:Joyner-Green Valley Library\, 601 N. La Canada Dr.\, Green Valley\, AZ\, 85614
CATEGORIES:Classes,Fitness,Free Event,Green Valley,Tucson
ATTACH;FMTTYPE=image/png:https://arizonaseniorguide.com/wp-content/uploads/2025/04/Mindfulness-Meditation-and-More.png
END:VEVENT
BEGIN:VEVENT
DTSTART;TZID=America/Phoenix:20260131T100000
DTEND;TZID=America/Phoenix:20260131T150000
DTSTAMP:20260423T001538
CREATED:20250908T203104Z
LAST-MODIFIED:20250908T203104Z
UID:10011816-1769853600-1769871600@arizonaseniorguide.com
SUMMARY:St Philip's Plaza Weekend Market
DESCRIPTION:Tucson’s most iconic weekly open air market. We focus on uniquely Tucson local artists\, makers\, creators\, and food businesses. Come wander under the towering Sycamores along winding cobblestone and enjoy scenic landscaping and beautiful fountains. \nThis is a fun market especially for finding unique gifts (jewelry\, clothing\, pottery and more). At least two coffee shops (with pastries/breakfast) and other foods and produce available for purchasing. The plaza is especially pretty with a fountain and shady trees around. \nSaturdays & Sundays\nOctober – April: 10 am – 3 pm  \nSummer hours:\nSaturdays & Sundays\nMay – September: 8 am – 12 pm
URL:https://arizonaseniorguide.com/event/st-philips-plaza-weekend-market/2026-01-31/
LOCATION:St Philips Plaza\, 4280 N Campbell Blvd\, Tucson\, AZ\, 85718
CATEGORIES:Tucson
ATTACH;FMTTYPE=image/png:https://arizonaseniorguide.com/wp-content/uploads/2025/09/St-Philips-Plaza-market.png
END:VEVENT
END:VCALENDAR